Workbook
Name asdep: #REF!
Name kegiatan: #REF!
Name sfsdf: #REF!

Sheet PAK Integrasi
D1: PEMERINTAH PROVINSI NUSA TENGGARA BARAT
D2: SEKRETARIAT DAERAH
D3: Jalan Pejanggik Nomor 12 Telp. (0370) 625274 - Mataram
A5: FORMULIR PENGHITUNGAN DAN AKUMULASI ANGKA KREDIT PADA PENILAIAN INTEGRASI
A7: Instansi | C7: : | D7: Sekretariat Daerah Provinsi NTB | P7: Masa Penilaian : Januari s.d Desember 2023
A8: PEJABAT FUNGSIONAL YANG DINILAI
A9: 1 | B9: Nama | H9: : | I9: Ada Martabat, ST, MT
A10: 2 | B10: NIP | H10: : | I10: 20001232 201501 1 007
A11: 3 | B11: Nomor Seri Karpeg | H11: : | I11: G 123456
A12: 4 | B12: Tempat/Tanggal Lahir | H12: : | I12: Hogmeade, 32 Desember 2000
A13: 5 | B13: Jenis Kelamin | H13: : | I13: Laki-Laki
A14: 6 | B14: Pangkat/Golongan Ruang/TMT | H14: : | I14: Pembina Tingkat I (IV/b) | O14: / | P14: 45200
A15: 7 | B15: Jabatan Fungsional/TMT | H15: : | I15: Pengelola PBJ Ahli Madya | O15: / | P15: 43943 | R15: 2. | S15: Pangkat/Golongan | T15: Jenjang Jafung | V15: AK Dasar PermenPANRB 77/2012 | W15: Rentang Angka Kredit Akumulasi Baru (Integrasi) PerBKN 3/2023 | Z15: AK Pengembangan Profesi minimal | AA15: AK Kegiatan Penunjang maksimal (20% AK Naik Pangkat) | AB15: AK Naik Pangkat | AC15: 0.25 | AD15: AK Naik Jenjang Jabatan | AE15: Jenjang | AF15: Naik Jenjang ke | AG15: Naik Pangkat ke
A16: 8 | B16: Masa Kerja Golongan | H16: : | I16: 3 | K16: 2
A17: 9 | B17: Unit Kerja | H17: : | I17: Kantor Pembuat Formulir
A18: 10 | B18: Instansi | H18: : | I18: Sekretariat Daerah Provinsi NTB | S18: 1 | T18: =COLUMN()-COLUMN($S$18)+1 -> 2 | U18: =COLUMN()-COLUMN($S$18)+1 -> 3 | V18: =COLUMN()-COLUMN($S$18)+1 -> 4 | W18: =COLUMN()-COLUMN($S$18)+1 -> 5 | X18: =COLUMN()-COLUMN($S$18)+1 -> 6 | Y18: =COLUMN()-COLUMN($S$18)+1 -> 7 | Z18: =COLUMN()-COLUMN($S$18)+1 -> 8 | AA18: =COLUMN()-COLUMN($S$18)+1 -> 9 | ... AG18: =COLUMN()-COLUMN($S$18)+1 -> 15
A19: PERHITUNGAN PENYESUAIAN ANGKA KREDIT INTEGRASI | S19: Pengatur Muda (II/a) | AA19: =IFERROR(AB19*20%,"-") -> - | AB19: =IFERROR(IF(OR(W19="",Y19=""),"-",Y19-W19),"-") -> - | AC19: =IFERROR(AB19/4,"") | AD19: =IF(COUNTA(T20:T22)=0,"-",IF(W20=0,Y19,Y20)) -> - | AE19: =IFERROR(IF(FIND("Pertama",T19)>0,"Pertama"),"")&IFERROR(IF(FIND("Muda",T19)>0,"Muda"),"")&IFERROR(IF(FIND("Madya",T19)>0,"Madya"),"")&IFERROR(IF(FIND("Utama",T19)>0,"Utama"),"") | AF19: =IF(AE20="",IF(AE21="",AE19,AE21),AE20) | AG19: Pengatur Muda Tingkat I (II/b)
A20: JUMLAH ANGKA KREDIT YANG DIPEROLEH | K20: NILAI DASAR | M20: ANGKA KREDIT YANG DINILAIKAN PADA PENILAIAN INTEGRASI | S20: Pengatur Muda Tingkat I (II/b) | AA20: =IFERROR(AB20*20%,"-") -> - | AB20: =IFERROR(IF(OR(W20="",Y20=""),"-",Y20-W20),"-") -> - | AC20: =IFERROR(AB20/4,"") | AD20: =IF(COUNTA(T21:T23)=0,"-",IF(W21=0,Y20,Y21)) -> 0 | AE20: =IFERROR(IF(FIND("Pertama",T20)>0,"Pertama"),"")&IFERROR(IF(FIND("Muda",T20)>0,"Muda"),"")&IFERROR(IF(FIND("Madya",T20)>0,"Madya"),"")&IFERROR(IF(FIND("Utama",T20)>0,"Utama"),"") | AF20: =IF(AE21="",IF(AE22="",AE20,AE22),AE21) | AG20: Pengatur (II/c)
A21: 903.48 | K21: =VLOOKUP(I15,$T$19:$AG$31,$V$18-1,FALSE) -> 400 | M21: =A21-K21 -> 503.48 | S21: Pengatur (II/c) | AA21: =IFERROR(AB21*20%,"-") -> - | AB21: =IFERROR(IF(OR(W21="",Y21=""),"-",Y21-W21),"-") -> - | AC21: =IFERROR(AB21/4,"") | AD21: =IF(COUNTA(T22:T24)=0,"-",IF(W22=0,Y21,Y22)) -> 0 | AE21: =IFERROR(IF(FIND("Pertama",T21)>0,"Pertama"),"")&IFERROR(IF(FIND("Muda",T21)>0,"Muda"),"")&IFERROR(IF(FIND("Madya",T21)>0,"Madya"),"")&IFERROR(IF(FIND("Utama",T21)>0,"Utama"),"") | AF21: =IF(AE22="",IF(AE23="",AE21,AE23),AE22) -> Pertama | AG21: Pengatur Tingkat I (II/d)
S22: Pengatur Tingkat I (II/d) | AA22: =IFERROR(AB22*20%,"-") -> - | AB22: =IFERROR(IF(OR(W22="",Y22=""),"-",Y22-W22),"-") -> - | AC22: =IFERROR(AB22/4,"") | AD22: =IF(COUNTA(T23:T25)=0,"-",IF(W23=0,Y22,Y23)) -> 0 | AE22: =IFERROR(IF(FIND("Pertama",T22)>0,"Pertama"),"")&IFERROR(IF(FIND("Muda",T22)>0,"Muda"),"")&IFERROR(IF(FIND("Madya",T22)>0,"Madya"),"")&IFERROR(IF(FIND("Utama",T22)>0,"Utama"),"") | AF22: =IF(AE23="",IF(AE24="",AE22,AE24),AE23) -> Pertama | AG22: Penata Muda (III/a)
L23: Ditetapkan di | M23: : | N23: Mataram | S23: Penata Muda (III/a) | T23: Pengelola PBJ Ahli Pertama | V23: 100 | W23: 0 | X23: - | Y23: 50 | AA23: =IFERROR(AB23*20%,"-") -> 10 | AB23: =IFERROR(IF(OR(W23="",Y23=""),"-",Y23-W23),"-") -> 50 | AC23: =IFERROR(AB23/4,"") -> 12.5 | AD23: =IF(COUNTA(T24:T26)=0,"-",IF(W24=0,Y23,Y24)) -> 100 | AE23: =IFERROR(IF(FIND("Pertama",T23)>0,"Pertama"),"")&IFERROR(IF(FIND("Muda",T23)>0,"Muda"),"")&IFERROR(IF(FIND("Madya",T23)>0,"Madya"),"")&IFERROR(IF(FIND("Utama",T23)>0,"Utama"),"") -> Pertama | AF23: =IF(AE24="",IF(AE25="",AE23,AE25),AE24) -> Muda | AG23: Penata Muda Tingkat I (III/b)
L24: Pada tanggal | M24: : | N24: 45283 | S24: Penata Muda Tingkat I (III/b) | V24: 150 | W24: 50 | X24: - | Y24: 100 | Z24: 2 | AA24: =IFERROR(AB24*20%,"-") -> 10 | AB24: =IFERROR(IF(OR(W24="",Y24=""),"-",Y24-W24),"-") -> 50 | AC24: =IFERROR(AB24/4,"") -> 12.5 | AD24: =IF(COUNTA(T25:T27)=0,"-",IF(W25=0,Y24,Y25)) -> 100 | AE24: =IFERROR(IF(FIND("Pertama",T24)>0,"Pertama"),"")&IFERROR(IF(FIND("Muda",T24)>0,"Muda"),"")&IFERROR(IF(FIND("Madya",T24)>0,"Madya"),"")&IFERROR(IF(FIND("Utama",T24)>0,"Utama"),"") | AF24: =IF(AE25="",IF(AE26="",AE24,AE26),AE25) -> Muda | AG24: Penata (III/c)
L25: Pejabat Penilai Kinerja | S25: Penata (III/c) | T25: Pengelola PBJ Ahli Muda | V25: 200 | W25: 0 | X25: - | Y25: 100 | Z25: 4 | AA25: =IFERROR(AB25*20%,"-") -> 20 | AB25: =IFERROR(IF(OR(W25="",Y25=""),"-",Y25-W25),"-") -> 100 | AC25: =IFERROR(AB25/4,"") -> 25 | AD25: =IF(COUNTA(T26:T28)=0,"-",IF(W26=0,Y25,Y26)) -> 200 | AE25: =IFERROR(IF(FIND("Pertama",T25)>0,"Pertama"),"")&IFERROR(IF(FIND("Muda",T25)>0,"Muda"),"")&IFERROR(IF(FIND("Madya",T25)>0,"Madya"),"")&IFERROR(IF(FIND("Utama",T25)>0,"Utama"),"") -> Muda | AF25: =IF(AE26="",IF(AE27="",AE25,AE27),AE26) -> Madya | AG25: Penata Tingkat I (III/d)
S26: Penata Tingkat I (III/d) | V26: 300 | W26: 100 | X26: - | Y26: 200 | Z26: 6 | AA26: =IFERROR(AB26*20%,"-") -> 20 | AB26: =IFERROR(IF(OR(W26="",Y26=""),"-",Y26-W26),"-") -> 100 | AC26: =IFERROR(AB26/4,"") -> 25 | AD26: =IF(COUNTA(T27:T29)=0,"-",IF(W27=0,Y26,Y27)) -> 200 | AE26: =IFERROR(IF(FIND("Pertama",T26)>0,"Pertama"),"")&IFERROR(IF(FIND("Muda",T26)>0,"Muda"),"")&IFERROR(IF(FIND("Madya",T26)>0,"Madya"),"")&IFERROR(IF(FIND("Utama",T26)>0,"Utama"),"") | AF26: =IF(AE27="",IF(AE28="",AE26,AE28),AE27) -> Madya | AG26: Pembina (IV/a)
L27: Robby Del Drago, ST, SH, MT, MH, M.Eng | S27: Pembina (IV/a) | T27: Pengelola PBJ Ahli Madya | V27: 400 | W27: 0 | X27: - | Y27: 150 | Z27: 8 | AA27: =IFERROR(AB27*20%,"-") -> 30 | AB27: =IFERROR(IF(OR(W27="",Y27=""),"-",Y27-W27),"-") -> 150 | AC27: =IFERROR(AB27/4,"") -> 37.5 | AD27: =IF(COUNTA(T28:T30)=0,"-",IF(W28=0,Y27,Y28)) -> - | AE27: =IFERROR(IF(FIND("Pertama",T27)>0,"Pertama"),"")&IFERROR(IF(FIND("Muda",T27)>0,"Muda"),"")&IFERROR(IF(FIND("Madya",T27)>0,"Madya"),"")&IFERROR(IF(FIND("Utama",T27)>0,"Utama"),"") -> Madya | AF27: =IF(AE28="",IF(AE29="",AE27,AE29),AE28) -> Madya | AG27: Pembina Tingkat I (IV/b)
L28: NIP. 19700101 199001 1 001 | S28: Pembina Tingkat I (IV/b) | V28: 550 | W28: 150 | X28: - | Y28: 300 | Z28: 12 | AA28: =IFERROR(AB28*20%,"-") -> 30 | AB28: =IFERROR(IF(OR(W28="",Y28=""),"-",Y28-W28),"-") -> 150 | AC28: =IFERROR(AB28/4,"") -> 37.5 | AD28: =IF(COUNTA(T29:T31)=0,"-",IF(W29=0,Y28,Y29)) -> - | AE28: =IFERROR(IF(FIND("Pertama",T28)>0,"Pertama"),"")&IFERROR(IF(FIND("Muda",T28)>0,"Muda"),"")&IFERROR(IF(FIND("Madya",T28)>0,"Madya"),"")&IFERROR(IF(FIND("Utama",T28)>0,"Utama"),"") | AF28: =IF(AE29="",IF(AE30="",AE28,AE30),AE29) | AG28: Pembina Utama Muda (IV/c)
A29: Tembusan disampaikan kepada: | S29: Pembina Utama Muda (IV/c) | V29: 700 | W29: 300 | X29: - | AA29: =IFERROR(AB29*20%,"-") -> - | AB29: =IFERROR(IF(OR(W29="",Y29=""),"-",Y29-W29),"-") -> - | AC29: =IFERROR(AB29/4,"") | AD29: =IF(COUNTA(T30:T32)=0,"-",IF(W30=0,Y29,Y30)) -> - | AE29: =IFERROR(IF(FIND("Pertama",T29)>0,"Pertama"),"")&IFERROR(IF(FIND("Muda",T29)>0,"Muda"),"")&IFERROR(IF(FIND("Madya",T29)>0,"Madya"),"")&IFERROR(IF(FIND("Utama",T29)>0,"Utama"),"") | AF29: =IF(AE30="",IF(AE31="",AE29,AE31),AE30) | AG29: Pembina Utama Madya (IV/d)
A30: 1. | B30: Kepala Lembaga Kebijakan Pengadaan Barang/Jasa Pemerintah Republik Indonesia; | S30: Pembina Utama Madya (IV/d) | AA30: =IFERROR(AB30*20%,"-") -> - | AB30: =IFERROR(IF(OR(W30="",Y30=""),"-",Y30-W30),"-") -> - | AC30: =IFERROR(AB30/4,"") | AD30: =IF(COUNTA(T31:T33)=0,"-",IF(W31=0,Y30,Y31)) -> - | AE30: =IFERROR(IF(FIND("Pertama",T30)>0,"Pertama"),"")&IFERROR(IF(FIND("Muda",T30)>0,"Muda"),"")&IFERROR(IF(FIND("Madya",T30)>0,"Madya"),"")&IFERROR(IF(FIND("Utama",T30)>0,"Utama"),"") | AF30: =IF(AE31="",IF(AE32="",AE30,AE32),AE31) | AG30: Pembina Utama (IV/e)
A31: 2. | B31: Kepala Badan Kepegawaian Daerah Provinsi NTB; | S31: Pembina Utama (IV/e) | AB31: =IFERROR(IF(OR(W31="",Y31=""),"-",Y31-W31),"-") -> - | AC31: =IFERROR(AB31/4,"") | AD31: - | AE31: =IFERROR(IF(FIND("Pertama",T31)>0,"Pertama"),"")&IFERROR(IF(FIND("Muda",T31)>0,"Muda"),"")&IFERROR(IF(FIND("Madya",T31)>0,"Madya"),"")&IFERROR(IF(FIND("Utama",T31)>0,"Utama"),"") | AF31: =IF(AE32="",IF(AE33="",AE31,AE33),AE32) | AG31: -
A32: 3. | B32: Kepala Kantor Pembuat Formulir NTB;
A33: 4. | B33: =IF(OR(I13="Laki-Laki",I13="Pria"),"Sdr.","Sdri.")&" "&I9&";" -> Sdr. Ada Martabat, ST, MT;
A34: 5. | B34: Pertinggal.
A37: PERHITUNGAN KEBUTUHAN KEKURANGAN ANGKA KREDIT
A39: Instansi | C39: : | D39: =D7 -> Sekretariat Daerah Provinsi NTB | P39: ='PAK Integrasi'!P7 -> Masa Penilaian : Januari s.d Desember 2023
A40: I | B40: PEJABAT FUNGSIONAL YANG DIINILAI
B41: 1 | C41: Nama | H41: : | I41: =I9 -> Ada Martabat, ST, MT
B42: 2 | C42: NIP | H42: : | I42: =I10 -> 20001232 201501 1 007
B43: 3 | C43: Nomor Seri Karpeg | H43: : | I43: =I11 -> G 123456
B44: 4 | C44: Tempat/Tanggal Lahir | H44: : | I44: =I12 -> Hogmeade, 32 Desember 2000 | R44: Keterangan PerBKN 3/2023:
B45: 5 | C45: Jenis Kelamin | H45: : | I45: =I13 -> Laki-Laki | R45: 1 | S45: AK tugas jabatan integrasi = AK integrasi - (AK pengembangan profesi integrasi syarat naik Jenjang Jabatan setingkat lebih tinggi + AK tugas penunjang)
...
