Workbook
Name _pan1: Input!$D$58
Name _pan2: Input!$D$60
Name _pan3: Input!$D$61
Name _pan4: Input!$D$62
Name _pan5: Input!$D$63
Name apip: Input!$D$39
Name apip_lok: Input!$D$40
Name aturan: Input!$D$20
Name bu_almt: Input!$D$117
Name bu_hn: Input!$D$127
Name bu_hn2: Input!$E$127
Name bu_hp: Input!$D$126
Name bu_hp2: Input!$E$126
Name bu_lok: Input!$D$116
Name bu_nama: Input!$D$114
Name bu_npwp: Input!$D$115
Name bu_pim: Input!$D$120
Name bu_pimn: Input!$D$121
Name bu_rek: Input!$D$164
Name dana: Input!$D$10
Name hps: Input!$D$13
Name hps_ter: Input!$E$13
Name hsls: Input!$D$14
Name jenis: Input!$D$3
Name kontrak_bentuk: Input!$D$15
Name lingkup: Input!$D$4
Name lokasi: Input!$D$5
Name masa: Input!$D$16
Name met_pil: Input!$D$67
Name mulai.spk: spk.B!#REF!
Name mulai.spk: spk.PK!$I$30
Name no.SPK: spk.B!$I$10
Name no.SPK: spk.PK!$I$10
Name OLE_LINK5: ResKon!$A$62
Name opd_almt: Input!$D$9
Name opd_lok: Input!$D$8
Name opd_nama: Input!$D$6
Name opd_pem: Input!$D$7
Name pa_gol: Input!$D$26
Name pa_gol2: Input!$D$27
Name pa_jab: Input!$D$23
Name pa_lok: Input!$D$30
Name pa_nam: Input!$D$24
Name pa_nip: Input!$D$25
Name pa_sku: Input!$D$29
Name pagu: Input!$D$12
Name paket: Input!$D$2
Name php_jab: Input!$D$41
Name php_lok: Input!$D$42
Name php_na1: Input!$D$43
Name php_na2: Input!$D$45
Name php_na3: Input!$D$47
Name php_nip1: Input!$D$44
Name php_nip2: Input!$D$46
Name php_nip3: Input!$D$48
Name pokja: Input!$D$50
Name pp_lok: Input!$D$53
Name pp_nip: Input!$D$59
Name ppk_gol: Input!$D$34
Name ppk_gol2: Input!$E$34

Sheet Input
A1: Data Paket | G1: Form PL-2025.11.26
A2: Nama Pekerjaan | C2: : | D2: Belanja Pemeliharaan Bangunan Gedung-Bangunan Gedung Tempat Kerja-Bangunan Gedung Kantor-Pemeliharaan Gedung Bertingkat
A3: Jenis Pengadaan | C3: : | D3: Pekerjaan Konstruksi
A4: Lingkup | C4: : | D4: Pengecatan tembok eksterior dan panel ACP Gedung Kantor BPKAD
A5: Lokasi Pekerjaan | C5: : | D5: Mataram
A6: Satuan Kerja/KLPD | C6: : | D6: Badan Pengelolaan Keuangan dan Aset Daerah
B7: Pem-da/kab/kot | C7: : | D7: Pemerintah Provinsi Nusa Tenggara Barat
B8: Lokasi | C8: : | D8: Provinsi Nusa Tenggara Barat
B9: Alamat KLPD | C9: : | D9: Jalan Pejanggik Nomor 14 Telp.( 0370 ) 627689, 625345 Fax: 627677
A10: Sumber Dana | C10: : | D10: DPA | G10: [isi DPA atau DIPA]
A11: Tahun Anggaran | C11: : | D11: 2025
A12: Pagu | C12: : | D12: 91430000
A13: HPS | C13: : | D13: =PPK.HPS!I45 -> 69862000 | E13: =Uang!A1 -> Enam Puluh Sembilan Juta Delapan Ratus Enam Puluh Dua Ribu Rupiah
A14: Jenis Kontrak | C14: : | D14: Lumsum | E14: =IF(hsls="Lumsum","Daftar Keluaran dan Harga",IF(hsls="Gabungan","Daftar Kuantitas/Keluaran dan Harga","Daftar Kuantitas dan Harga")) -> Daftar Keluaran dan Harga
A15: Bentuk Kontrak | C15: : | D15: Surat Perjanjian Kerja | E15: =IF(D15="Surat Perjanjian Kerja","SPK",IF(D17="Surat Pesanan","SP","Kontrak")) -> SPK
A16: Masa Pelaksanaan | C16: : | D16: 30 | E16: =Uang!$A$81 -> tiga puluh
A18: Tempat Serah Terima | C18: : | D18: ="Kantor "&opd_nama&" "&opd_almt -> Kantor Badan Pengelolaan Keuangan dan Aset Daerah Jalan Pejanggik Nomor 14 Telp.( 0370 ) 627689, 625345 Fax: 627677
A20: Peraturan | C20: : | D20: Peraturan Presiden Republik Indonesia Nomor 46 Tahun 2025 beserta perubahan dan petunjuk teknisnya.
A21: PPN | C21: : | D21: =12%*11/12 -> 0.11
A22: Pelaku Pengadaan
A23: PA/KPA | C23: : | D23: =D28&" "&opd_nama -> Kepala Badan Pengelolaan Keuangan dan Aset Daerah | F23: III/c | G23: Penata
B24: Nama | C24: : | D24: Dr. H. Nursalim., S.Sos., M.M | F24: III/d | G24: Penata Tingkat I
B25: NIP | C25: : | D25: 19721231 199402 1 009 | F25: IV/a | G25: Pembina
B26: Pangkat/Golongan | C26: : | D26: IV/c | F26: IV/b | G26: Pembina Tingkat I
C27: : | D27: =VLOOKUP(pa_gol,F23:G28,2,FALSE) -> Pembina Utama Muda | F27: IV/c | G27: Pembina Utama Muda
B28: Jabatan | C28: : | D28: Kepala | F28: IV/d | G28: Pembina Utama Madya
B29: selaku | C29: : | D29: Pengguna Anggaran
B30: di | C30: : | D30: Mataram
A31: PPK | B31: Jabatan | C31: : | D31: Pejabat Pembuat Komitmen
B32: Nama | C32: : | D32: Ika Kurnia Mustika, ST, MT
B33: NIP | C33: : | D33: 19791117 200901 1 006
B34: Pangkat/Golongan | C34: : | D34: IV/c | E34: =VLOOKUP(ppk_gol,F23:G28,2,FALSE) -> Pembina Utama Muda
B35: di | C35: : | D35: =pa_lok -> Mataram
B36: no SK PPK | C36: : | D36: 910/17/BPKAD/2025
B37: tgl SK PPK | C37: : | D37: 18 Juni 2025
B38: tentang | C38: : | D38: Penunjukan Pejabat Pembuat Komitmen (PPK) Pada Badan Pengelolaan Keuangan Dan Aset Daerah
A39: APIP | C39: : | D39: Inspektur Provinsi NTB
B40: di | C40: : | D40: =pa_lok -> Mataram
A41: =IF(G50="PP","PjPHP","PPHP") -> PjPHP | C41: : | D41: Pejabat Pemeriksa Hasil Pekerjaan | F41: diisi kalau ada penugasan khusus tim pendukung, PPTK, PjPHP, PPHP
B42: di | C42: : | D42: =pa_lok -> Mataram
B43: PjPHP/Ketua PPHP | C43: : | D43: Nyiur Melambai
B44: NIP | C44: : | D44: 19920202 200202 2 002
B45: Sekretaris | C45: : | D45: Rayuan Kelapa
B46: NIP | C46: : | D46: 19930303 200303 1 003
B47: Anggota | C47: : | D47: Gugur Bunga
B48: NIP | C48: : | D48: 19940404 200404 2 004
A50: PP/Pokmil | C50: : | D50: Pejabat Pengadaan | E50: [bisa diketik sendiri] | G50: =IF(LEFT(pokja,2)="Ke","Pokmil","PP") -> PP
B51: pada Dinas/UKPBJ | C51: : | D51: =opd_nama -> Badan Pengelolaan Keuangan dan Aset Daerah
B52: alamat Dinas/UKPBJ | C52: : | D52: =opd_almt -> Jalan Pejanggik Nomor 14 Telp.( 0370 ) 627689, 625345 Fax: 627677
B53: di | C53: : | D53: =D30 -> Mataram
B54: Nomor/Tanggal SK | C54: : | D54: xxxxxx tanggal 27 Juni 2025
B55: Tempat | C55: : | D55: Badan Pengelolaan Keuangan dan Aset Daerah
B56: telp | C56: : | D56: (0370) 622373
B57: email | C57: : | D57: bpkad@ntbprov.go.id
A58: PP/Ketua Pokmil | C58: : | D58: Surmayanti Isnaini, S.IP
B59: NIP | C59: : | D59: 199201122 01406 2 001
A60: Anggota 1 | C60: :
A61: Anggota 2 | C61: :
A62: Anggota 3 | C62: :
A63: Anggota 4 | C63: :
A65: Data Pemilihan | D65: Kalau ada di SPSE gak perlu print lagi dari excel ini
A66: Manual/SPSE | C66: : | D66: melalui e-Pengadaan Langsung transaksional | E66: [wajib transaksional sesuai Perpres 46/2025]
A67: Metode Pengadaan | C67: : | D67: Pengadaan Langsung | E67: [bisa diketik sendiri]
A68: Metode Kualifikasi | C68: : | D68: Pascakualifikasi
A69: Metode Penyampaian | C69: : | D69: Satu File
A70: Metode Evaluasi | C70: : | D70: Biaya Terendah
A71: Masa Penawaran | C71: : | D71: 15
A73: Proses | D73: Nomor Srt/BA | E73: Hari | F73: Hari1 | G73: s.d hari2 / Jam
A74: PA | B74: Surat PA/KPA ke PPK | D74: 900/ /BPKAD/2024 | F74: 45933 | H74: =TEXT(Input!F74,"[$-421]d mmmm yyyy") -> 3 Oktober 2025
A75: PPK | B75: Penetapan DPP | D75: 027/SRT/A/VII/20/2023 | F75: 45936 | H75: =TEXT(Input!F75,"[$-421]d mmmm yyyy") -> 6 Oktober 2025
B76: ="Surat PPK ke "&G50 -> Surat PPK ke PP | D76: 027.1/01.PPK/BPKAD/2025 | F76: =F75 -> 45936 | H76: =TEXT(Input!F76,"[$-421]d mmmm yyyy") -> 6 Oktober 2025
A77: =G50 -> PP | B77: BA Reviu | D77: 03.1/PP/Pkt.I/2023 | F77: 45931 | H77: =TEXT(Input!F77,"[$-421]d mmmm yyyy") -> 1 Oktober 2025
B78: Persiapan Pemilihan | D78: 03.2/PP/Pkt.I/2023 | F78: 45931 | H78: =TEXT(Input!F78,"[$-421]d mmmm yyyy") -> 1 Oktober 2025
B79: Undangan | D79: 3/PP/Pkt.I/2023 | F79: 45932 | H79: =TEXT(Input!F79,"[$-421]d mmmm yyyy") -> 2 Oktober 2025
B80: Penjelasan (Penunjukan) | D80: 02/1/XII/Pj. P BPKAD/2025 | E80: =TEXT(F80,"[$-421]dddd") -> Selasa | F80: 45132 | H80: =TEXT(Input!F80,"[$-421]d mmmm yyyy") -> 25 Juli 2023
B81: Pemasukan Penawaran | E81: =TEXT(F81,"[$-421]dddd") -> Selasa | F81: 45132 | G81: =TEXT(F83,"[$-421]d mmmm yyyy") -> 1 Agustus 2023 | H81: =TEXT(Input!F81,"[$-421]d mmmm yyyy") -> 25 Juli 2023
B82: *) Surat Penawaran | D82: 02/DMG/VI/2025 | F82: 45139 | H82: =TEXT(Input!F82,"[$-421]d mmmm yyyy") -> 1 Agustus 2023
B83: Pembukaan | D83: 03/1/XII/Pj.P BPKAD/2025 | E83: =TEXT(F83,"[$-421]dddd") -> Selasa | F83: 45139 | G83: 10.00 WITA | H83: =TEXT(Input!F83,"[$-421]d mmmm yyyy") -> 1 Agustus 2023
B84: Evaluasi | D84: 04/1/XII/Pj.P BPKAD/2025 | E84: =TEXT(F84,"[$-421]dddd") -> Selasa | F84: =F83 -> 45139 | H84: =TEXT(Input!F84,"[$-421]d mmmm yyyy") -> 1 Agustus 2023
B85: Klarifikasi/Negosiasi | C85: BA | D85: 05/1/XII/Pj.P BPKAD/2025 | E85: =TEXT(F85,"[$-421]dddd") -> Selasa | F85: =F84 -> 45139 | H85: =TEXT(Input!F85,"[$-421]d mmmm yyyy") -> 1 Agustus 2023
B86: BAHPL | D86: 06/1/XII/Pj.P BPKAD/2025 | E86: =TEXT(F86,"[$-421]dddd") -> Selasa | F86: =F85 -> 45139 | H86: =TEXT(Input!F86,"[$-421]d mmmm yyyy") -> 1 Agustus 2023
B87: Penetapan | D87: 07/1/XII/Pj.P BPKAD/2025 | E87: =TEXT(F87,"[$-421]dddd") -> Selasa | F87: =F86 -> 45139 | H87: =TEXT(Input!F87,"[$-421]d mmmm yyyy") -> 1 Agustus 2023
B88: Pengumuman | D88: 08/1/XII/Pj.P BPKAD/2025 | F88: =F87 -> 45139 | H88: =TEXT(Input!F88,"[$-421]d mmmm yyyy") -> 1 Agustus 2023
B89: Laporan | D89: 09/1/XII/Pj.P BPKAD/2025 | F89: =F87 -> 45139 | H89: =TEXT(Input!F89,"[$-421]d mmmm yyyy") -> 1 Agustus 2023
A90: PPK | B90: SPPBJ | D90: 027.1/02.PPK/BPKAD/2025 | E90: =TEXT(F90,"[$-421]dddd") -> Kamis | F90: 45141 | H90: =TEXT(Input!F90,"[$-421]d mmmm yyyy") -> 3 Agustus 2023
B91: Kontrak,SPK.B/SP | D91: 027.1/1/SPK/BPKAD/2025 | E91: =TEXT(F91,"[$-421]dddd") -> Kamis | F91: 45141 | H91: =TEXT(Input!F91,"[$-421]d mmmm yyyy") -> 3 Agustus 2023
B92: Barang.SPP | D92: 027.3/17 /SPP/BPKAD/2024 | F92: 45141 | H92: =TEXT(Input!F92,"[$-421]d mmmm yyyy") -> 3 Agustus 2023
B93: Tgl Penyelesaian | F93: =F90+masa -> 45171 | H93: =TEXT(Input!F93,"[$-421]d mmmm yyyy") -> 2 September 2023
B94: Renc Serah Terima | F94: =F90+masa -> 45171 | H94: =TEXT(Input!F94,"[$-421]d mmmm yyyy") -> 2 September 2023
B95: lampiran SPP | D95: kalau daftar itemnya panjang
B96: PK.BA.Serah Lokasi | D96: 027/BASL/A/VIII/44/2023 | E96: =TEXT(F96,"[$-421]dddd") -> Kamis | F96: =F91 -> 45141 | H96: =TEXT(Input!F96,"[$-421]d mmmm yyyy") -> 3 Agustus 2023
B97: PK.SPMK | D97: 027/SPMK/A/VIII/45/2023 | E97: =TEXT(F97,"[$-421]dddd") -> Kamis | F97: =F91 -> 45141 | H97: =TEXT(Input!F97,"[$-421]d mmmm yyyy") -> 3 Agustus 2023
B98: Tgl Mulai Kerja | F98: =F97 -> 45141 | H98: =TEXT(Input!F98,"[$-421]d mmmm yyyy") -> 3 Agustus 2023
B99: Tgl Penyelesaian | F99: =F93 -> 45171 | H99: =TEXT(Input!F99,"[$-421]d mmmm yyyy") -> 2 September 2023
A100: Penyedia | B100: Pengajuan Serah Terima | D100: nomor penyedia | F100: 45170 | H100: =TEXT(Input!F100,"[$-421]d mmmm yyyy") -> 1 September 2023
B101: BA.Kemajuan | D101: tanpa nomor? | E101: =TEXT(F101,"[$-421]dddd") -> Jumat | F101: 45170 | H101: =TEXT(Input!F101,"[$-421]d mmmm yyyy") -> 1 September 2023
A102: PPK | B102: BA Hasil Pemeriksaan | D102: 027/BAHP/A/IX/68/2023 | E102: =TEXT(F102,"[$-421]dddd") -> Sabtu | F102: 45171 | H102: =TEXT(Input!F102,"[$-421]d mmmm yyyy") -> 2 September 2023
B103: BA Serah Terima | D103: 027.3/17/STHP/BPKAD/2024 | E103: =TEXT(F103,"[$-421]dddd") -> Sabtu | F103: 45171 | H103: =TEXT(Input!F103,"[$-421]d mmmm yyyy") -> 2 September 2023
B104: Penyerahan Hasil | D104: 027.3/17/BAPH/BPKAD/2024 | F104: 45171 | H104: =TEXT(Input!F104,"[$-421]d mmmm yyyy") -> 2 September 2023
A105: PA | B105: Perintah PjPHP/PPHP | D105: 013/CDE/A/IX/741c/2023 | F105: =F102 -> 45171 | G105: Kalau ada PPHP! | H105: =TEXT(Input!F105,"[$-421]d mmmm yyyy") -> 2 September 2023
...

Sheet PA.Srt1
D1: =opd_lok -> Provinsi Nusa Tenggara Barat
D2: =opd_nama -> Badan Pengelolaan Keuangan dan Aset Daerah
D3: =opd_almt -> Jalan Pejanggik Nomor 14 Telp.( 0370 ) 627689, 625345 Fax: 627677
A5: SURAT TUGAS
A6: ="Nomor: "&Input!D74 -> Nomor: 900/ /BPKAD/2024 | N6: balik ke input
A8: Nama | E8: : | F8: =pa_nam -> Dr. H. Nursalim., S.Sos., M.M
A9: NIP | E9: : | F9: =pa_nip -> 19721231 199402 1 009
A10: Pangkat/Golongan | E10: : | F10: =pa_gol2&" ("&pa_gol&")" -> Pembina Utama Muda (IV/c)
A11: Jabatan | E11: : | F11: =pa_jab&" selaku "&pa_sku -> Kepala Badan Pengelolaan Keuangan dan Aset Daerah selaku Pengguna Anggaran
A12: Dengan ini memberikan tugas kepada:
A14: Nama | E14: : | F14: =ppk_nama -> Ika Kurnia Mustika, ST, MT
A15: NIP | E15: : | F15: =ppk_nip -> 19791117 200901 1 006
A16: Pangkat/Golongan | E16: : | F16: =ppk_gol2&" ("&ppk_gol&")" -> Pembina Utama Muda (IV/c)
A17: Jabatan | E17: : | F17: =ppk_jab -> Pejabat Pembuat Komitmen
A18: Untuk melaksanakan | E18: : | F18: Melakukan tindakan yang dapat mengakibatkan pengeluaran anggaran belanja dan mengadakan perjanjian dengan pihak lain dalam batas anggaran belanja yang telah ditetapkan untuk paket pekerjaan sebagai berikut:
A19: tugas
F21: No | G21: Nama Paket | K21: Pagu Anggaran (Rp.)
F22: 1 | G22: Belanja Modal Instalasi Jaringan Internet | K22: 200.000.000
F23: =IF(AND(F22<>"",G23<>""),F22+1,"")
F24: =IF(AND(F23<>"",G24<>""),F23+1,"")
F25: =IF(AND(F24<>"",G25<>""),F24+1,"")
F26: =IF(AND(F25<>"",G26<>""),F25+1,"")
F27: =IF(AND(F26<>"",G27<>""),F26+1,"")
F28: =IF(AND(F27<>"",G28<>""),F27+1,"")
F29: =IF(AND(F28<>"",G29<>""),F28+1,"")
F30: =IF(AND(F29<>"",G30<>""),F29+1,"")
F31: =IF(AND(F30<>"",G31<>""),F30+1,"")
F32: =IF(AND(F31<>"",G32<>""),F31+1,"")
F33: =IF(AND(F32<>"",G33<>""),F32+1,"")
F34: =IF(AND(F33<>"",G34<>""),F33+1,"")
... F41: =IF(AND(F40<>"",G41<>""),F40+1,"")
A43: Selama | E43: : | F43: ="Januari s.d Desember "&tahun -> Januari s.d Desember 2025
A44: Sumber Dana | E44: : | F44: =dana&" "&opd_nama&" Tahun Anggaran "&tahun -> DPA Badan Pengelolaan Keuangan dan Aset Daerah Tahun Anggaran 2025
A46: Demikian untuk dilaksanakan sebagaimana mestinya.
J48: =pa_lok&", "&Input!H74 -> Mataram, 3 Oktober 2025
J49: =pa_jab -> Kepala Badan Pengelolaan Keuangan dan Aset Daerah
J50: ="selaku "&pa_sku -> selaku Pengguna Anggaran
J54: =pa_nam -> Dr. H. Nursalim., S.Sos., M.M
J55: =pa_gol2&" ("&pa_gol&")" -> Pembina Utama Muda (IV/c)
J56: ="NIP. "&pa_nip -> NIP. 19721231 199402 1 009
A57: Tembusan disampaikan kepada Yth:
A58: ="1. "&apip&" di "&apip_lok&";" -> 1. Inspektur Provinsi NTB di Mataram;
A59: 2. Pertinggal.

Sheet PPK.Pers
D1: =opd_lok -> Provinsi Nusa Tenggara Barat
D2: =opd_nama -> Badan Pengelolaan Keuangan dan Aset Daerah
D3: =opd_almt -> Jalan Pejanggik Nomor 14 Telp.( 0370 ) 627689, 625345 Fax: 627677
A5: Nomor | C5: : | D5: =Input!D75 -> 027/SRT/A/VII/20/2023 | J5: balik ke input
A6: Lampiran | C6: : | D6: 1 (satu) gabung
A7: Perihal | C7: : | D7: ="Penetapan Dokumen Persiapan Pengadaan "&paket&" Tahun Anggaran "&tahun -> Penetapan Dokumen Persiapan Pengadaan Belanja Pemeliharaan Bangunan Gedung-Bangunan Gedung Tempat Kerja-Bangunan Gedung Kantor-Pemeliharaan Gedung Bertingkat Tahun Anggaran 2025
A9: ="Pada hari ini, "&TEXT(Input!H75,"[$-421]dddd, d mmmm yyyy")&", dengan memperhatikan "&Input!D20&" ditetapkan Dokumen Persiapan Pengadaan sebagai berikut:" -> Pada hari ini, Senin, 6 Oktober 2025, dengan memperhatikan Peraturan Presiden Republik Indonesia Nomor 46 Tahun 2025 beserta perubahan dan petunjuk teknisnya. ditetapkan Dokumen Persiapan Pengadaan sebagai berikut:
A13: A | B13: Kelengkapan Dokumen Persiapan Pengadaan
B14: No | C14: Uraian | H14: Catatan / Penjelasan
B15: 1 | C15: Jenis Pengadaan | H15: =jenis -> Pekerjaan Konstruksi
B16: 2 | C16: Jenis Kontrak | H16: =hsls -> Lumsum
B17: 3 | C17: Pagu Anggaran | H17: =pagu -> 91430000
C18: ="Apakah tersedia dalam "&dana&" dan jumlahnya cukup?" -> Apakah tersedia dalam DPA dan jumlahnya cukup? | H18: ="Tercantum dalam "&dana&" "&opd_nama&" Tahun Anggaran "&tahun -> Tercantum dalam DPA Badan Pengelolaan Keuangan dan Aset Daerah Tahun Anggaran 2025
B20: 4 | C20: Lokasi | H20: =Input!D8 -> Provinsi Nusa Tenggara Barat | I20: cek
B23: 5 | C23: Spesifikasi Teknis/KAK/Gambar/DED
B24: 6 | C24: HPS | H24: =hps -> 69862000
B25: 7 | C25: Rancangan Kontrak
C26: Uang Muka | H26: Tidak Diberikan
C27: Jaminan Uang Muka | H27: -
C28: Jaminan Pelaksanaan | H28: Tidak diperlukan
C29: Jaminan Pemeliharaan/Sertifikat Garansi | H29: Tidak diperlukan | I29: cek
C30: Penyesuaian Harga | H30: Tidak Diberikan
A32: B | B32: Identifikasi Metode Pemilihan Penyedia
B33: Berdasarkan jenis, nilai, dan sifat pengadaan serta ketersediaan penyedia, maka ditentukan metode pemilihan:
B35: - | C35: =met_pil -> Pengadaan Langsung
A37: C | B37: Reviu Kewajiban UMK dan PDN
B38: Perencanaan pengadaan Kementerian/Lembaga/Pemerintah Daerah telah memperhatikan kewajiban untuk menggunakan produk usaha kecil serta koperasi dari hasil produk dalam negeri paling sedikit 40% (empat puluh persen) dari nilai anggaran belanja barang/jasa. | I38: hide/hapus kalau tidak yakin,
I39: tanggung jawab PPK sebatas reviu
A42: Demikian ditetapkan untuk dipergunakan sebagaimana mestinya.
H44: =ppk_lok&", "&Input!H75 -> Mataram, 6 Oktober 2025
H45: =ppk_jab -> Pejabat Pembuat Komitmen
H49: =ppk_nama -> Ika Kurnia Mustika, ST, MT
H50: ="NIP. "&ppk_nip -> NIP. 19791117 200901 1 006

Sheet PPK.Spek
D1: =opd_lok -> Provinsi Nusa Tenggara Barat
D2: =opd_nama -> Badan Pengelolaan Keuangan dan Aset Daerah
D3: =opd_almt -> Jalan Pejanggik Nomor 14 Telp.( 0370 ) 627689, 625345 Fax: 627677
A5: =IF(Input!D3="Jasa Konsultansi","KERANGKA ACUAN KERJA","SPESIFIKASI TEKNIS") -> SPESIFIKASI TEKNIS | K5: balik ke input
A7: OPD | C7: : | D7: =opd_nama -> Badan Pengelolaan Keuangan dan Aset Daerah
A8: PPK | C8: : | D8: =ppk_jab -> Pejabat Pembuat Komitmen
A9: Pekerjaan | C9: : | D9: =paket -> Belanja Pemeliharaan Bangunan Gedung-Bangunan Gedung Tempat Kerja-Bangunan Gedung Kantor-Pemeliharaan Gedung Bertingkat
A10: Lokasi | C10: : | D10: =lokasi -> Mataram
A11: Tahun | C11: : | D11: =tahun -> 2025
A12: Anggaran
A14: No | B14: Deskripsi Item/Pekerjaan | F14: Uraian
A15: 1 | B15: Router | F15: - RAM : 4GB.; Storage : 1GB; Port : 8 port; IPSec : Yes, Sfp : 2 port | K15: Surver berdasarkan Mikrotik CCR 1036
A16: 2 | B16: Optical Line Terminal | F16: -1+1 Power redundancy. - 4 Fixed EPON Port. | K16: OLT HSGQ
A17: =IF(AND(A16<>0,B17<>0),A16+1,"") -> 3 | B17: Optical Termination Box | F17: - ODF/OTB Rackmount 19inch 48 Core (lengkap dgn Adapter FC/SC/LC dan pigtail 48bh | K17: OTB/ODF Rackmoun 48core PAZ
A18: =IF(AND(A17<>0,B18<>0),A17+1,"") -> 4 | B18: Optical Distribution Point | F18: - ODP 8 Core Solid Merk Fiber Tekno - Lengkap Splitter Box 1:8 SC UPC - Komplit Klemring 2pcs dan Aksesoris | K18: ODP BOX Indor 1:8
A19: =IF(AND(A18<>0,B19<>0),A18+1,"") -> 5 | B19: Kabel backbone KU Mini 12 core pig 8 2000M | F19: - 12 Core, 2000M, pig 8 | K19: Kabel KU Mini 12 core pig 8 2000M
A20: =IF(AND(A19<>0,B20<>0),A19+1,"") -> 6 | B20: Kabel Fiber 4 core pig 8 2000M | F20: - 4 Core, 2000M, pig 8 | K20: Kabel Fiber 4 core pig 8 2000M
A21: =IF(AND(A20<>0,B21<>0),A20+1,"") -> 7 | B21: Kabel UTP CAT 6 | F21: - Cat 6 - 24 AWG solid bare annealed copper conductors, non-plenum, Thermoplastic Polyolefin insulation, | K21: Kabel UTP CAT 6 Belden
A22: =IF(AND(A21<>0,B22<>0),A21+1,"") -> 8 | B22: Akses Poin Outdor NS | F22: -Airmax : Yes, Band : 2,4Ghz
A23: =IF(AND(A22<>0,B23<>0),A22+1,"") -> 9 | B23: Switch Hub 24 port | F23: -Support SFP - 10/100/1000Mbps - Managed Layer 2 Web Smart Switch
A24: =IF(AND(A23<>0,B24<>0),A23+1,"") -> 10 | B24: Modem Optical Network Unit | F24: - Jaringan FTTH FTTB FTTX - GPON : 1x SC/UPC, 2.448 Gbit/s hilir 1,244 Gbit/s upstream - 4ETH + 1TEL + USB + WIFI2.4G | K24: ZTE F609
A25: =IF(AND(A24<>0,B25<>0),A24+1,"") -> 11 | B25: UPS 2KVA | F25: - 1800 Watt + Stabilizer - Batteries : 6x12V 7AH | K25: UPS Gpower
A26: =IF(AND(A25<>0,B26<>0),A25+1,"")
A27: =IF(AND(A26<>0,B27<>0),A26+1,"")
A28: =IF(AND(A27<>0,B28<>0),A27+1,"")
A29: =IF(AND(A28<>0,B29<>0),A28+1,"")
A30: =IF(AND(A29<>0,B30<>0),A29+1,"")
A31: =IF(AND(A30<>0,B31<>0),A30+1,"")
A32: =IF(AND(A31<>0,B32<>0),A31+1,"")
A33: =IF(AND(A32<>0,B33<>0),A32+1,"")
A34: =IF(AND(A33<>0,B34<>0),A33+1,"")
G36: =ppk_lok&", "&Input!H76 -> Mataram, 6 Oktober 2025
G37: =ppk_jab -> Pejabat Pembuat Komitmen
G42: =ppk_nama -> Ika Kurnia Mustika, ST, MT
G43: ="NIP. "&ppk_nip -> NIP. 19791117 200901 1 006

Sheet Pembanding
D1: =UPPER(opd_lok) -> PROVINSI NUSA TENGGARA BARAT
D2: =UPPER(opd_nama) -> BADAN PENGELOLAAN KEUANGAN DAN ASET DAERAH
D3: =opd_almt -> Jalan Pejanggik Nomor 14 Telp.( 0370 ) 627689, 625345 Fax: 627677
A5: DOKUMENTASI HARGA | O5: balik ke input
A7: OPD | C7: : | D7: =opd_nama -> Badan Pengelolaan Keuangan dan Aset Daerah
A8: PPK | C8: : | D8: =ppk_jab -> Pejabat Pembuat Komitmen
A9: Pekerjaan | C9: : | D9: =paket -> Belanja Pemeliharaan Bangunan Gedung-Bangunan Gedung Tempat Kerja-Bangunan Gedung Kantor-Pemeliharaan Gedung Bertingkat
A10: Lokasi | C10: : | D10: =lokasi -> Mataram
A11: Tahun | C11: : | D11: =tahun -> 2025
A12: Anggaran
A14: No | B14: Deskripsi Item/Pekerjaan | F14: Sat | G14: Vol | H14: Harga Satuan (Rp) | M14: Total (Rp)
H15: Kontrak AP | I15: MAPPI | J15: Inkindo | K15: SSH NTB | L15: HPS
A17: I | B17: BIAYA LANGSUNG PERSONIL | M17: =SUM(M19:M26) -> 72356636
A18: A | B18: Tenaga Ahli
B19: Team Leader/Penilai Berizin | F19: OH | G19: 6 | H19: 1375000 | I19: =0.89*10100000 -> 8989000 | J19: =63550000/22*0.949 -> 2741315.9 | K19: =49000000/22 -> 2227272.7 | L19: 2227272.7 | M19: =L19*G19 -> 13363636
B20: Penilai Madya | F20: OH | G20: 7 | H20: 1375000 | I20: =0.89*2100000 -> 1869000 | J20: =37000000/22*0.949 -> 1596045.5 | K20: =24000000/25 -> 960000 | L20: 1869000 | M20: =L20*G20 -> 13083000
B21: Penilai Pertama | F21: OH | G21: 10 | H21: 909750 | I21: =0.89*1100000 -> 979000 | J21: =33750000/22*0.949 -> 1455852.3 | K21: =21500000/25 -> 860000 | L21: 979000 | M21: =L21*G21 -> 9790000
A22: B | B22: Tenaga Pendukung
B23: Surveyor | F23: OH | G23: 40 | H23: 770000 | I23: =0.89*830000 -> 738700 | J23: =13000000/22*0.949 -> 560772.73 | K23: 560000 | L23: 560000 | M23: =L23*G23 -> 22400000
B24: Tenaga Administrasi | F24: OH | G24: 7 | H24: 770000 | I24: =0.89*940000 -> 836600 | J24: =12600000/22*0.949 -> 543518.18 | K24: 680000 | L24: 680000 | M24: =L24*G24 -> 4760000
B25: Operator Konputer | F25: OH | G25: 7 | I25: =0.89*760000 -> 676400 | J25: =7900000/22*0.949 -> 340777.27 | K25: 680000 | L25: 680000 | M25: =L25*G25 -> 4760000
B26: Drafter | F26: OH | G26: 6 | I26: =0.89*760000 -> 676400 | J26: =13700000/22*0.949 -> 590968.18 | K26: 700000 | L26: 700000 | M26: =L26*G26 -> 4200000
A28: II | B28: BIAYA LANGSUNG NON PERSONIL | M28: =SUM(M30:M43) -> 15730000
A29: A | B29: Biaya Akomodasi
B30: Biaya Tiket Pesawat | F30: Ls | H30: 1100000 | M30: =L30*G30 -> 0
B31: Biaya Penginapan | F31: Ls | H31: 550000 | M31: =L31*G31 -> 0
B32: Sewa Kendaraan Roda 4 | F32: Unit.Hari | G32: 10 | H32: 550000 | K32: 1000000 | L32: 550000 | M32: =L32*G32 -> 5500000
B33: Biaya Komunikasi | F33: Ls | G33: 1 | H33: 440000 | K33: 500000 | L33: 1760000 | M33: =L33*G33 -> 1760000
A34: B | B34: Biaya Kantor
B35: Biaya Presentasi/Rapat/Paparan | F35: kali | G35: 3 | H35: 825000 | K35: 750000 | L35: 825000 | M35: =L35*G35 -> 2475000
B36: Biaya Sewa Printer | F36: unit | G36: 4 | H36: 330000 | K36: 300000 | L36: 330000 | M36: =L36*G36 -> 1320000
B37: Biaya ATK dan Barang Pakai Habis | F37: Ls | G37: 1 | H37: 1100000 | K37: 2000000 | L37: 1100000 | M37: =L37*G37 -> 1100000
A38: C | B38: Biaya Pelaporan
B39: Laporan Pendahuluan | F39: Buku | G39: 3 | H39: 55000 | K39: 67000 | L39: 55000 | M39: =L39*G39 -> 165000
B40: Laporan Antara | F40: Buku | H40: 82500 | L40: =K40 -> 0 | M40: =L40*G40 -> 0
B41: Laporan Akhir | F41: Buku | G41: 10 | H41: 220000 | K41: 265000 | L41: 220000 | M41: =L41*G41 -> 2200000
B42: Dokumentasi | F42: Paket | G42: 1 | H42: 660000 | K42: 600000 | L42: 660000 | M42: =L42*G42 -> 660000
B43: Hardisk Eksternal | F43: Buah | G43: 1 | H43: 550000 | K43: 1000000 | L43: 550000 | M43: =L43*G43 -> 550000
A44: =IF(AND(A43<>0,B44<>0),A43+1,"") | M44: =G44*L44 -> 0
L46: Total | M46: =M17+M28 -> 88086636 | O46: =IF(M46=hps,"sesuai","cek hps") -> cek hps
A47: Terbilang | C47: :
A49: Harga tersebut di atas sudah termasuk pajak-pajak dan biaya pungutan resmi lainnya.
K51: =Input!D35&", "&Input!H76 -> Mataram, 6 Oktober 2025
K52: =ppk_jab -> Pejabat Pembuat Komitmen
K57: =ppk_nama -> Ika Kurnia Mustika, ST, MT
K58: ="NIP. "&ppk_nip -> NIP. 19791117 200901 1 006

Sheet PPK.HPS
C1: =UPPER(opd_pem) -> PEMERINTAH PROVINSI NUSA TENGGARA BARAT
C2: =UPPER(opd_nama) -> BADAN PENGELOLAAN KEUANGAN DAN ASET DAERAH
C3: =opd_almt -> Jalan Pejanggik Nomor 14 Telp.( 0370 ) 627689, 625345 Fax: 627677
A5: HARGA PERKIRAAN SENDIRI | K5: balik ke input
A7: OPD | C7: : | D7: =opd_nama -> Badan Pengelolaan Keuangan dan Aset Daerah
A8: PPK | C8: : | D8: =ppk_jab -> Pejabat Pembuat Komitmen
A9: Pekerjaan | C9: : | D9: =paket -> Belanja Pemeliharaan Bangunan Gedung-Bangunan Gedung Tempat Kerja-Bangunan Gedung Kantor-Pemeliharaan Gedung Bertingkat
A10: Lokasi | C10: : | D10: =lokasi -> Mataram
A11: Tahun | C11: : | D11: =tahun -> 2025
A12: Anggaran
A14: No | B14: Deskripsi Item/Pekerjaan | F14: Satuan | G14: Kuantitas | H14: Harga Satuan (Rp) | I14: Total (Rp)
A16: I | B16: PEKERJAAN PERSIAPAN
A17: 1 | B17: Pengukuran | F17: keg | G17: 1 | H17: 200000 | I17: =H17*G17 -> 200000
A18: 2 | B18: Pembersihan Lokasi | F18: keg | G18: 1 | H18: 300000 | I18: =H18*G18 -> 300000
A20: II | B20: SMK3 KONSTRUKSI
A21: 1 | B21: Alat Pelindung Kerja dan Alat Pelindung Diri | F21: set | G21: 5 | H21: 75000 | I21: =H21*G21 -> 375000
A23: III | B23: PEKERJAAN PENGECATAN
A24: 1 | B24: Sewa stager | F24: keg | G24: 1 | H24: 4500000 | I24: =H24*G24 -> 4500000
A25: 2 | B25: Pengerokan cat yang terkelupas | F25: m2 | G25: 168.58 | H25: 19719.975 | I25: =H25*G25 -> 3324393.4
A26: 3 | B26: Pengecatan ulang dinding luar | F26: m2 | G26: 842.91 | H26: 40683.291 | I26: =H26*G26 -> 34292353
A27: 4 | B27: Pengecatan ACP dengan cat besi | F27: m2 | G27: 419 | H27: 47607.593 | I27: =H27*G27 -> 19947581
I29: =H29*G29 -> 0
I30: =H30*G30 -> 0
I32: =H32*G32 -> 0
I33: =H33*G33 -> 0
I34: =H34*G34 -> 0
I36: =H36*G36 -> 0
I37: =H37*G37 -> 0
I38: =H38*G38 -> 0
A40: =IF(AND(A39<>0,B40<>0),A39+1,"")
A43: =IF(AND(A42<>0,B43<>0),A42+1,"") | H43: Total | I43: =SUM(I16:I39) -> 62939328
A44: =IF(AND(A43<>0,B44<>0),A43+1,"") | G44: PPN 12% x 11 / 12 = | H44: 0.11 | I44: =I43*H44 -> 6923326
A45: =IF(AND(A44<>0,B45<>0),A44+1,"") | H45: Total + PPN | I45: =ROUNDDOWN(I43+I44,-3) -> 69862000 | K45: =IF(I45=hps,"sesuai","cek hps") -> sesuai | L45: =hps -> 69862000
A46: Terbilang | C46: : | D46: =Uang!A141 -> Enam Puluh Sembilan Juta Delapan Ratus Enam Puluh Dua Ribu Rupiah
A48: Harga tersebut di atas sudah termasuk pajak-pajak dan biaya pungutan resmi lainnya.
G50: =Input!D35&", "&Input!H76 -> Mataram, 6 Oktober 2025
G51: =ppk_jab -> Pejabat Pembuat Komitmen
G56: =ppk_nama -> Ika Kurnia Mustika, ST, MT
G57: ="NIP. "&ppk_nip -> NIP. 19791117 200901 1 006

Sheet spk.B
A1: Data Hasil PL/Penyedia: | G1: Kosong | H1: Pilih Isi supaya data kontraknya terisi
E3: =UPPER(opd_pem) -> PEMERINTAH PROVINSI NUSA TENGGARA BARAT
E4: =UPPER(opd_nama) -> BADAN PENGELOLAAN KEUANGAN DAN ASET DAERAH
E5: =opd_almt -> Jalan Pejanggik Nomor 14 Telp.( 0370 ) 627689, 625345 Fax: 627677
O6: SPK Pengadaan Barang
A7: SURAT PERINTAH KERJA (SPK) | G7: SATUAN KERJA | I7: : | J7: =opd_nama -> Badan Pengelolaan Keuangan dan Aset Daerah | O7: balik ke input
G9: NOMOR DAN TANGGAL SPK :
G10: NOMOR | I10: : | J10: =IF($G$1="Kosong","________",Input!D91) -> ________
G11: TANGGAL | I11: : | J11: =IF($G$1="Kosong","________",Input!H91) -> ________
A12: NAMA PPK | G12: =ppk_nama -> Ika Kurnia Mustika, ST, MT
A15: NAMA PENYEDIA | G15: =IF($G$1="Kosong","________",bu_nama) -> ________
A18: PAKET PENGADAAN: | G18: ="NOMOR DAN TANGGAL SURAT UNDANGAN "&UPPER(met_pil)&":" -> NOMOR DAN TANGGAL SURAT UNDANGAN PENGADAAN LANGSUNG:
G19: Nomor | I19: : | J19: =IF($G$1="Kosong","________",Input!D79) -> ________
A20: =paket -> Belanja Pemeliharaan Bangunan Gedung-Bangunan Gedung Tempat Kerja-Bangunan Gedung Kantor-Pemeliharaan Gedung Bertingkat | G20: Tanggal | I20: : | J20: =IF($G$1="Kosong","________",Input!H79) -> ________
G21: ="NOMOR DAN TANGGAL BERITA ACARA HASIL "&UPPER(met_pil)&":" -> NOMOR DAN TANGGAL BERITA ACARA HASIL PENGADAAN LANGSUNG:
G22: Nomor | I22: : | J22: =IF($G$1="Kosong","________",Input!D86) -> ________
G23: Tanggal | I23: : | J23: =IF($G$1="Kosong","________",Input!H86) -> ________
A24: SUMBER DANA:
A25: ="dibebankan atas "&dana&" "&opd_nama&" Tahun Anggaran "&tahun&" untuk mata anggaran kegiatan "&Input!D131 -> dibebankan atas DPA Badan Pengelolaan Keuangan dan Aset Daerah Tahun Anggaran 2025 untuk mata anggaran kegiatan 5.1.02.02.09.0014
A28: NILAI KONTRAK
A29: ="Nilai Kontrak termasuk Pajak Pertambahan Nilai (PPN) adalah sebesar Rp. "&IF($G$1="Kosong",O29,O30)&")." -> Nilai Kontrak termasuk Pajak Pertambahan Nilai (PPN) adalah sebesar Rp. ........................ (....................................). | O29: ........................ (....................................
O30: =TEXT(bu_hn,tiko1)&" ("&bu_hn2 -> 69,862,000 (Enam Puluh Sembilan Juta Delapan Ratus Enam Puluh Dua Ribu Rupiah
A32: WAKTU PELAKSANAAN PEKERJAAN:
A33: =masa&" ("&Input!$E$16&") hari kalender" -> 30 (tiga puluh) hari kalender
A35: Untuk dan atas nama | I35: Untuk dan atas nama Penyedia
A36: =opd_nama -> Badan Pengelolaan Keuangan dan Aset Daerah | I36: =IF($G$1="Kosong","________",bu_nama) -> ________
A37: Pengguna Jasa
A39: =IF($G$1="Kosong","[tanda tangan dan cap (jika salinan asli ini untuk Penyedia maka rekatkan materai Rp 6.000,- )]","") -> [tanda tangan dan cap (jika salinan asli ini untuk Penyedia maka rekatkan materai Rp 6.000,- )] | I39: =IF($G$1="Kosong","[tanda tangan dan cap (jika salinan asli ini untuk proyek/satuan kerja Pengguna Jasa maka rekatkan materai Rp 6.000,- )]","") -> [tanda tangan dan cap (jika salinan asli ini untuk proyek/satuan kerja Pengguna Jasa maka rekatkan materai Rp 6.000,- )]
A41: =ppk_nama -> Ika Kurnia Mustika, ST, MT | I41: =IF($G$1="Kosong","________",bu_pimn) -> ________
A42: =ppk_jab -> Pejabat Pembuat Komitmen | I42: =IF($G$1="Kosong","Jabatan",bu_pimn) -> Jabatan
A45: SYARAT UMUM
A46: SURAT PERINTAH KERJA (SPK)
A49: 1. | B49: LINGKUP PEKERJAAN
B50: Penyedia yang ditunjuk berkewajiban untuk menyelesaikan pekerjaan dalam jangka waktu yang ditentukan sesuai dengan keluaran, gambar, spesifikasi teknis dan harga yang tercantum dalam SPK.
A53: 2. | B53: HUKUM YANG BERLAKU
B54: Keabsahan, interpretasi, dan pelaksanaan SPK ini didasarkan kepada hukum Republik Indonesia.
A56: 3. | B56: HARGA SPK
B57: a. | C57: ="Jenis Kontrak yang digunakan adalah Kontrak "&hsls&"." -> Jenis Kontrak yang digunakan adalah Kontrak Lumsum. | N57: hsls
B58: b. | C58: PPK membayar kepada penyedia sebesar harga SPK.
B59: c. | C59: Harga SPK telah memperhitungkan keuntungan, beban pajak dan biaya overhead serta biaya asuransi (apabila dipersyaratkan).
B61: d. | C61: Rincian harga SPK sesuai dengan rincian yang tercantum dalam daftar kuantitas dan harga.
A63: 4. | B63: HAK KEPEMILIKAN
B64: a. PPK berhak atas kepemilikan semua Konstruksi/bahan yang terkait langsung atau disediakan sehubungan dengan jasa yang diberikan oleh penyedia kepada PPK. Jika diminta oleh PPK maka penyedia berkewajiban untuk membantu secara optimal pengalihan hak kepemilikan tersebut kepada PPK sesuai dengan hukum yang berlaku | C64: PPK berhak atas kepemilikan semua barang/bahan yang terkait langsung atau disediakan sehubungan dengan jasa yang diberikan oleh penyedia kepada PPK. Jika diminta oleh PPK maka penyedia berkewajiban untuk membantu secara optimal pengalihan hak kepemilikan tersebut kepada PPK sesuai dengan hukum yang berlaku.
B68: b. Hak kepemilikan atas peralatan dan Konstruksi/bahan yang disediakan oleh PPK tetap pada PPK, dan semua peralatan tersebut harus dikembalikan kepada PPK pada saat SPK berakhir atau jika tidak diperlukan lagi oleh penyedia. Semua peralatan tersebut harus dikembalikan dalam kondisi yang sama pada saat diberikan kepada penyedia dengan pengecualian keausan akibat pemakaian yang wajar. | C68: Hak kepemilikan atas peralatan dan barang/bahan yang disediakan oleh PPK tetap pada PPK, dan semua peralatan tersebut harus dikembalikan kepada PPK pada saat SPK berakhir atau jika tidak diperlukan lagi oleh penyedia. Semua peralatan tersebut harus dikembalikan dalam kondisi yang sama pada saat diberikan kepada penyedia dengan pengecualian keausan akibat pemakaian yang wajar.
A74: 5. | B74: CACAT MUTU
B75: PPK akan memeriksa setiap hasil pekerjaan penyedia dan memberitahukan secara tertulis penyedia atas setiap cacat mutu yang ditemukan. PPK dapat memerintahkan penyedia untuk menguji pekerjaan yang dianggap oleh PPK mengandung cacat mutu. Penyedia bertanggung jawab atas cacat mutu selama masa garansi.
A80: 6. | B80: PERPAJAKAN
B81: Penyedia berkewajiban untuk membayar semua pajak, bea, retribusi, dan pungutan lain yang sah yang dibebankan oleh hukum yang berlaku atas pelaksanaan SPK. Semua pengeluaran perpajakan ini dianggap telah termasuk dalam harga SPK.
A85: 7. | B85: PENGALIHAN DAN/ATAU SUBKONTRAK
B86: Penyedia dilarang untuk mengalihkan dan/atau mensubkontrakkan sebagian atau seluruh pekerjaan. Pengalihan seluruh pekerjaan hanya diperbolehkan dalam hal pergantian nama penyedia, baik sebagai akibat peleburan (merger) atau akibat lainnya.
A90: 8. | B90: JADWAL
B91: a. PPK berhak atas kepemilikan semua Konstruksi/bahan yang terkait langsung atau disediakan sehubungan dengan jasa yang diberikan oleh penyedia kepada PPK. Jika diminta oleh PPK maka penyedia berkewajiban untuk membantu secara optimal pengalihan hak kepemilikan tersebut kepada PPK sesuai dengan hukum yang berlaku | C91: SPK ini berlaku efektif pada tanggal penandatanganan oleh para pihak atau pada tanggal yang ditetapkan dalam Surat Perintah Pengiriman.
B93: b. Hak kepemilikan atas peralatan dan Konstruksi/bahan yang disediakan oleh PPK tetap pada PPK, dan semua peralatan tersebut harus dikembalikan kepada PPK pada saat SPK berakhir atau jika tidak diperlukan lagi oleh penyedia. Semua peralatan tersebut harus dikembalikan dalam kondisi yang sama pada saat diberikan kepada penyedia dengan pengecualian keausan akibat pemakaian yang wajar. | C93: Waktu pelaksanaan SPK adalah sejak tanggal mulai kerja yang tercantum dalam Surat Perintah Pengiriman.
B95: c. | C95: Penyedia harus menyelesaikan pekerjaan sesuai jadwal yang ditentukan.
B96: d. | C96: Apabila penyedia tidak dapat menyelesaikan pekerjaan sesuai jadwal karena keadaan diluar pengendaliannya dan penyedia telah melaporkan kejadian tersebut kepada PPK, maka PPK dapat melakukan penjadwalan kembali pelaksanaan tugas penyedia dengan adendum SPK.
A99: 9. | B99: ASURANSI
B100: a. PPK berhak atas kepemilikan semua Konstruksi/bahan yang terkait langsung atau disediakan sehubungan dengan jasa yang diberikan oleh penyedia kepada PPK. Jika diminta oleh PPK maka penyedia berkewajiban untuk membantu secara optimal pengalihan hak kepemilikan tersebut kepada PPK sesuai dengan hukum yang berlaku | C100: Apabila dipersyaratkan, penyedia wajib menyediakan asuransi sejak Surat Perintah Pengiriman sampai dengan tanggal selesainya pemeliharaan untuk:
C102: 1) | D102: semua barang dan peralatan yang mempunyai risiko tinggi terjadinya kecelakaan, pelaksanaan pekerjaan, serta pekerja untuk pelaksanaan pekerjaan, atas segala risiko terhadap kecelakaan, kerusakan, kehilangan, serta risiko lain yang tidak dapat diduga;
C105: 2) | D105: pihak ketiga sebagai akibat kecelakaan di tempat kerjanya; dan
B106: b. Hak kepemilikan atas peralatan dan Konstruksi/bahan yang disediakan oleh PPK tetap pada PPK, dan semua peralatan tersebut harus dikembalikan kepada PPK pada saat SPK berakhir atau jika tidak diperlukan lagi oleh penyedia. Semua peralatan tersebut harus dikembalikan dalam kondisi yang sama pada saat diberikan kepada penyedia dengan pengecualian keausan akibat pemakaian yang wajar. | C106: Besarnya asuransi sudah diperhitungkan dalam penawaran dan termasuk dalam harga SPK.
A108: 10. | B108: PENANGGUNGAN DAN RISIKO
B109: a. PPK berhak atas kepemilikan semua Konstruksi/bahan yang terkait langsung atau disediakan sehubungan dengan jasa yang diberikan oleh penyedia kepada PPK. Jika diminta oleh PPK maka penyedia berkewajiban untuk membantu secara optimal pengalihan hak kepemilikan tersebut kepada PPK sesuai dengan hukum yang berlaku | C109: Penyedia berkewajiban untuk melindungi, membebaskan, dan menanggung tanpa batas PPK beserta instansinya terhadap semua bentuk tuntutan, tanggung jawab, kewajiban, kehilangan, kerugian, denda, gugatan atau tuntutan hukum, proses pemeriksaan hukum, dan biaya yang dikenakan terhadap PPK beserta instansinya (kecuali kerugian yang mendasari tuntutan tersebut disebabkan kesalahan atau kelalaian berat PPK) sehubungan dengan klaim yang timbul dari hal-hal berikut terhitung sejak tanggal mulai kerja sampai dengan tanggal penandatanganan berita acara penyerahan akhir:
C116: 1) | D116: kehilangan atau kerusakan peralatan dan harta benda penyedia dan Personel;
C117: 2) | D117: cidera tubuh, sakit atau kematian Personel; dan/atau
C118: 3) | D118: kehilangan atau kerusakan harta benda, cidera tubuh, sakit atau kematian pihak lain.
B119: b. | C119: Terhitung sejak tanggal mulai kerja sampai dengan tanggal penandatanganan berita acara serah terima, semua risiko kehilangan atau kerusakan hasil pekerjaan ini merupakan risiko penyedia, kecuali kerugian atau kerusakan tersebut diakibatkan oleh kesalahan atau kelalaian PPK.
B122: c. | C122: Pertanggungan asuransi yang dimiliki oleh penyedia tidak membatasi kewajiban penanggungan dalam syarat ini.
B124: d. | C124: Kehilangan atau kerusakan terhadap hasil pekerjaan sejak tanggal mulai kerja sampai batas akhir garansi, harus diperbaiki, diganti atau dilengkapi oleh penyedia atas tanggungannya sendiri jika kehilangan atau kerusakan tersebut terjadi akibat tindakan atau kelalaian penyedia.
A128: 11. | B128: PENGAWASAN DAN PEMERIKSAAN
B129: PPK berwenang melakukan pengawasan dan pemeriksaan terhadap pelaksanaan pekerjaan yang dilaksanakan oleh penyedia. PPK dapat memerintahkan kepada pihak lain untuk melakukan pengawasan dan pemeriksaan atas semua pelaksanaan pekerjaan yang dilaksanakan oleh penyedia.
A133: 12. | B133: PENGUJIAN
B134: Jika PPK atau Pengawas Pekerjaan memerintahkan penyedia untuk melakukan pengujian Cacat Mutu yang tidak tercantum dalam Spesifikasi Teknis dan Gambar, dan hasil uji coba menunjukkan adanya Cacat Mutu maka penyedia berkewajiban untuk menanggung biaya pengujian tersebut. Jika tidak ditemukan adanya Cacat Mutu maka uji coba tersebut dianggap sebagai Peristiwa Kompensasi.
A139: 13. | B139: LAPORAN HASIL PEKERJAAN
B140: a. PPK berhak atas kepemilikan semua Konstruksi/bahan yang terkait langsung atau disediakan sehubungan dengan jasa yang diberikan oleh penyedia kepada PPK. Jika diminta oleh PPK maka penyedia berkewajiban untuk membantu secara optimal pengalihan hak kepemilikan tersebut kepada PPK sesuai dengan hukum yang berlaku | C140: Pemeriksaan pekerjaan dilakukan selama pelaksanaan Kontrak terhadap kemajuan pekerjaan dalam rangka pengawasan kualitas dan waktu pelaksanaan pekerjaan. Hasil pemeriksaan pekerjaan dituangkan dalam laporan kemajuan hasil pekerjaan.
B143: b. Hak kepemilikan atas peralatan dan Konstruksi/bahan yang disediakan oleh PPK tetap pada PPK, dan semua peralatan tersebut harus dikembalikan kepada PPK pada saat SPK berakhir atau jika tidak diperlukan lagi oleh penyedia. Semua peralatan tersebut harus dikembalikan dalam kondisi yang sama pada saat diberikan kepada penyedia dengan pengecualian keausan akibat pemakaian yang wajar. | C143: Untuk merekam pelaksanaan pekerjaan, PPK dapat menugaskan Pengawas Pekerjaan dan/atau tim teknis membuat foto-foto dokumentasi pelaksanaan pekerjaan di lokasi pekerjaan.
A146: 14. | B146: WAKTU PENYELESAIAN PEKERJAAN
B147: a. PPK berhak atas kepemilikan semua Konstruksi/bahan yang terkait langsung atau disediakan sehubungan dengan jasa yang diberikan oleh penyedia kepada PPK. Jika diminta oleh PPK maka penyedia berkewajiban untuk membantu secara optimal pengalihan hak kepemilikan tersebut kepada PPK sesuai dengan hukum yang berlaku | C147: Kecuali SPK diputuskan lebih awal, penyedia berkewajiban untuk memulai pelaksanaan pekerjaan pada tanggal mulai kerja, dan melaksanakan pekerjaan sesuai dengan program mutu, serta menyelesaikan pekerjaan selambat-lambatnya pada tanggal penyelesaian yang ditetapkan dalam surat perintah pengiriman.
B151: b. Hak kepemilikan atas peralatan dan Konstruksi/bahan yang disediakan oleh PPK tetap pada PPK, dan semua peralatan tersebut harus dikembalikan kepada PPK pada saat SPK berakhir atau jika tidak diperlukan lagi oleh penyedia. Semua peralatan tersebut harus dikembalikan dalam kondisi yang sama pada saat diberikan kepada penyedia dengan pengecualian keausan akibat pemakaian yang wajar. | C151: Jika pekerjaan tidak selesai pada tanggal penyelesaian disebabkan karena kesalahan atau kelalaian penyedia maka penyedia dikenakan sanksi berupa denda keterlambatan.
B153: c. | C153: Jika keterlambatan tersebut disebabkan oleh Peristiwa Kompensasi maka PPK memberikan tambahan perpanjangan waktu penyelesaian pekerjaan.
B155: d. | C155: Tanggal penyelesaian yang dimaksud dalam ketentuan ini adalah tanggal penyelesaian semua pekerjaan.
A158: 15. | B158: SERAH TERIMA PEKERJAAN
B159: a. PPK berhak atas kepemilikan semua Konstruksi/bahan yang terkait langsung atau disediakan sehubungan dengan jasa yang diberikan oleh penyedia kepada PPK. Jika diminta oleh PPK maka penyedia berkewajiban untuk membantu secara optimal pengalihan hak kepemilikan tersebut kepada PPK sesuai dengan hukum yang berlaku | C159: Setelah pekerjaan selesai 100% (seratus persen), penyedia mengajukan permintaan secara tertulis kepada PPK untuk penyerahan pekerjaan.
B161: b. Hak kepemilikan atas peralatan dan Konstruksi/bahan yang disediakan oleh PPK tetap pada PPK, dan semua peralatan tersebut harus dikembalikan kepada PPK pada saat SPK berakhir atau jika tidak diperlukan lagi oleh penyedia. Semua peralatan tersebut harus dikembalikan dalam kondisi yang sama pada saat diberikan kepada penyedia dengan pengecualian keausan akibat pemakaian yang wajar. | C161: Sebelum dilakukan serah terima, PPK melakukan pemeriksaan terhadap hasil pekerjaan.
B162: c. | C162: PPK dalam melakukan pemeriksaan hasil pekerjaan dapat dibantu oleh pengawas pekerjaan dan/atau tim teknis.
B164: d. | C164: Apabila terdapat kekurangan-kekurangan dan/atau cacat hasil pekerjaan, penyedia wajib memperbaiki/menyelesaikannya, atas perintah PPK.
B166: e. | C166: PPK menerima hasil pekerjaan setelah seluruh hasil pekerjaan dilaksanakan sesuai dengan ketentuan SPK.
B168: f. | C168: Pembayaran dilakukan sebesar 100% (seratus persen) dari harga SPK dan penyedia harus menyerahkan Sertifikat Garansi.
A171: 16. | B171: JAMINAN BEBAS CACAT MUTU/GARANSI
B172: a. PPK berhak atas kepemilikan semua Konstruksi/bahan yang terkait langsung atau disediakan sehubungan dengan jasa yang diberikan oleh penyedia kepada PPK. Jika diminta oleh PPK maka penyedia berkewajiban untuk membantu secara optimal pengalihan hak kepemilikan tersebut kepada PPK sesuai dengan hukum yang berlaku | C172: Penyedia dengan jaminan pabrikan dari produsen pabrikan (jika ada) berkewajiban untuk menjamin bahwa selama penggunaan secara wajar, Barang tidak mengandung cacat mutu yang disebabkan oleh tindakan atau kelalaian Penyedia, atau cacat mutu akibat desain, bahan, dan cara kerja.
B175: b. Hak kepemilikan atas peralatan dan Konstruksi/bahan yang disediakan oleh PPK tetap pada PPK, dan semua peralatan tersebut harus dikembalikan kepada PPK pada saat SPK berakhir atau jika tidak diperlukan lagi oleh penyedia. Semua peralatan tersebut harus dikembalikan dalam kondisi yang sama pada saat diberikan kepada penyedia dengan pengecualian keausan akibat pemakaian yang wajar. | C175: Jaminan bebas cacat mutu ini berlaku selama masa garansi berlaku.
B176: c. | C176: PPK akan menyampaikan pemberitahuan cacat mutu kepada Penyedia segera setelah ditemukan cacat mutu tersebut selama masa garansi berlaku.
B178: d. | C178: Terhadap pemberitahuan cacat mutu oleh PPK, Penyedia berkewajiban untuk memperbaiki, mengganti, dan/atau melengkapi Barang dalam jangka waktu sesuai dengan syarat dan ketentuan dalam Sertifikat Garansi.
B181: e. | C181: Jika Penyedia tidak memperbaiki, mengganti, atau melengkapi Barang akibat cacat mutu dalam jangka waktu sesuai dengan syarat dan ketentuan dalam Sertifikat Garansi, PPK akan menghitung biaya perbaikan yang diperlukan, dan PPK secara langsung atau melalui pihak ketiga yang ditunjuk oleh PPK akan melakukan perbaikan tersebut. Penyedia berkewajiban untuk membayar biaya perbaikan atau penggantian tersebut sesuai dengan klaim yang diajukan secara tertulis oleh PPK.
B186: f. | C186: Selain kewajiban penggantian biaya, Penyedia yang lalai memperbaiki cacat mutu dikenakan Sanksi Daftar Hitam.
A189: 17. | B189: PERUBAHAN SPK
B190: a. PPK berhak atas kepemilikan semua Konstruksi/bahan yang terkait langsung atau disediakan sehubungan dengan jasa yang diberikan oleh penyedia kepada PPK. Jika diminta oleh PPK maka penyedia berkewajiban untuk membantu secara optimal pengalihan hak kepemilikan tersebut kepada PPK sesuai dengan hukum yang berlaku | C190: SPK hanya dapat diubah melalui adendum SPK;
B191: b. | C191: Perubahan SPK dapat dilaksanakan dalam hal terdapat perbedaan antara kondisi lapangan pada saat pelaksanaan dengan SPK dan disetujui oleh para pihak, meliputi:
C193: 1) | D193: menambah atau mengurangi volume yang tercantum dalam SPK;
C194: 2) | D194: menambah dan/atau mengurangi jenis kegiatan;
C195: 3) | D195: mengubah spesifikasi teknis sesuai dengan kondisi lapangan; dan/atau
...

Sheet spk.PK
A1: Data Hasil PL/Penyedia: | G1: Kosong | H1: Pilih Isi supaya data kontraknya terisi
E3: =UPPER(opd_pem) -> PEMERINTAH PROVINSI NUSA TENGGARA BARAT
E4: =UPPER(opd_nama) -> BADAN PENGELOLAAN KEUANGAN DAN ASET DAERAH
E5: =opd_almt -> Jalan Pejanggik Nomor 14 Telp.( 0370 ) 627689, 625345 Fax: 627677
A7: SURAT PERINTAH KERJA (SPK) | G7: SATUAN KERJA | I7: : | J7: =opd_nama -> Badan Pengelolaan Keuangan dan Aset Daerah | O7: SPK Pekerjaan Konstruksi
O8: balik ke input
G9: NOMOR DAN TANGGAL SPK :
G10: NOMOR | I10: : | J10: =IF($G$1="Kosong","________",Input!D91) -> ________
G11: TANGGAL | I11: : | J11: =IF($G$1="Kosong","________",Input!H91) -> ________
A12: NAMA PENGGUNA JASA | G12: Nama | I12: : | J12: =ppk_nama -> Ika Kurnia Mustika, ST, MT
G13: NIP | I13: : | J13: =ppk_nip -> 19791117 200901 1 006
G14: Jabatan | I14: : | J14: =ppk_jab -> Pejabat Pembuat Komitmen
G15: Berkedudukan di | I15: : | J15: =opd_almt -> Jalan Pejanggik Nomor 14 Telp.( 0370 ) 627689, 625345 Fax: 627677
G18: ="yang bertindak untuk dan atas nama "&opd_nama&" berdasarkan Surat Keputusan "&pa_jab&" Nomor "&Input!D36&" tanggal "&" tentang "&Input!$D$38&" selanjutnya disebut “Pengguna Jasa”, dengan:" -> yang bertindak untuk dan atas nama Badan Pengelolaan Keuangan dan Aset Daerah berdasarkan Surat Keputusan Kepala Badan Pengelolaan Keuangan dan Aset Daerah Nomor 910/17/BPKAD/2025 tanggal tentang Penunjukan Pejabat Pembuat Komitmen (PPK) Pada Badan Pengelolaan Keuangan Dan Aset Daerah selanjutnya disebut “Pengguna Jasa”, dengan:
A24: NAMA PENYEDIA | G24: Nama | I24: : | J24: =IF($G$1="Kosong","________",bu_pimn) -> ________
G25: Jabatan | I25: : | J25: =IF($G$1="Kosong","________",bu_pim) -> ________
G26: Berkedudukan di | I26: : | J26: =IF($G$1="Kosong","________",bu_almt) -> ________
G27: Akta Notaris Nomor | I27: : | J27: =IF($G$1="Kosong","________",Input!D123) -> ________
G28: Tanggal | I28: : | J28: =IF($G$1="Kosong","________",Input!D124) -> ________
G29: Notaris | I29: : | J29: =IF($G$1="Kosong","________",Input!D125) -> ________
G31: ="yang bertindak untuk dan atas nama "&IF($G$1="Kosong","________",bu_nama)&" selanjutnya disebut “Penyedia”." -> yang bertindak untuk dan atas nama ________ selanjutnya disebut “Penyedia”.
O33: ="Wakil Sah row: "&ROW(A34)&" - "&ROW(A38) -> Wakil Sah row: 34 - 38
A34: WAKIL SAH PENGGUNA JASA | G34: Nama | I34: : | O34: ="diHide ("&ROW(A34)&" - "&ROW(A38)&") kalau nggak perlu" -> diHide (34 - 38) kalau nggak perlu
G36: Berdasarkan Surat Keputusan Pengguna Jasa …… nomor .…. tanggal ……. [diisi nomor dan tanggal SK pengangkatan Wakil Sah Pengguna Jasa]
A39: PAKET PENGADAAN: | G39: ="NOMOR DAN TANGGAL SURAT UNDANGAN "&UPPER(met_pil)&":" -> NOMOR DAN TANGGAL SURAT UNDANGAN PENGADAAN LANGSUNG:
G40: Nomor | I40: : | J40: =IF($G$1="Kosong","________",Input!D79) -> ________
A41: =paket -> Belanja Pemeliharaan Bangunan Gedung-Bangunan Gedung Tempat Kerja-Bangunan Gedung Kantor-Pemeliharaan Gedung Bertingkat | G41: Tanggal | I41: : | J41: =IF($G$1="Kosong","________",Input!H79) -> ________
G42: ="NOMOR DAN TANGGAL BERITA ACARA HASIL "&UPPER(met_pil)&":" -> NOMOR DAN TANGGAL BERITA ACARA HASIL PENGADAAN LANGSUNG:
G43: Nomor | I43: : | J43: =IF($G$1="Kosong","________",Input!D86) -> ________
G44: Tanggal | I44: : | J44: =IF($G$1="Kosong","________",Input!H86) -> ________
A45: SUMBER DANA:
A46: ="dibebankan atas "&dana&" "&opd_nama&" Tahun Anggaran "&tahun&" untuk mata anggaran kegiatan "&Input!D131 -> dibebankan atas DPA Badan Pengelolaan Keuangan dan Aset Daerah Tahun Anggaran 2025 untuk mata anggaran kegiatan 5.1.02.02.09.0014
A48: MASA PELAKSANAAN PEKERJAAN:
A49: =masa&" ("&Input!$E$16&") hari kalender dihitung sejak Tanggal Mulai Kerja yang tercantum dalam SPMK sampai dengan Tanggal Penyerahan Pertama Pekerjaan" -> 30 (tiga puluh) hari kalender dihitung sejak Tanggal Mulai Kerja yang tercantum dalam SPMK sampai dengan Tanggal Penyerahan Pertama Pekerjaan
A51: MASA PEMELIHARAAN PEKERJAAN:
A52: =IF(Input!$D$132=0,"-",Input!$D$132&" ("&Input!$E$132&") hari kalender dihitung sejak Tanggal Penyerahan Pertama Pekerjaan sampai dengan Tanggal Penyerahan Akhir Pekerjaan") -> 90 (sembilan puluh) hari kalender dihitung sejak Tanggal Penyerahan Pertama Pekerjaan sampai dengan Tanggal Penyerahan Akhir Pekerjaan
A54: JENIS KONTRAK: | E54: =hsls -> Lumsum
A55: DOKUMEN KONTRAK
A56: Dokumen-dokumen berikut merupakan satu kesatuan dan jika terjadi pertentangan antara ketentuan dalam suatu dokumen dengan ketentuan dalam dokumen yang lain maka yang berlaku adalah ketentuan dalam dokumen yang lebih tinggi berdasarkan urutan hierarki sebagai berikut:
A59: a. | B59: Adendum Surat Perintah Kerja/SPK (apabila ada);
A60: b. | B60: Surat Perintah Kerja;
A61: c. | B61: =IF(hsls="Lumsum","Surat Penawaran;","Daftar Kuantitas dan Harga hasil negosiasi dan koreksi aritmatik;") -> Surat Penawaran; | O61: hsls
A62: d. | B62: =IF(hsls="Lumsum","Syarat-Syarat Umum SPK;","Surat Penawaran;") -> Syarat-Syarat Umum SPK; | O62: hsls
A63: e. | B63: =IF(hsls="Lumsum","gambar-gambar;","Syarat-Syarat Umum SPK;") -> gambar-gambar; | O63: hsls
A64: f. | B64: spesifikasi teknis;
A65: g. | B65: =IF(hsls="Lumsum","Daftar Keluaran dan Harga hasil negosiasi dan koreksi aritmatik; dan","gambar-gambar; dan") -> Daftar Keluaran dan Harga hasil negosiasi dan koreksi aritmatik; dan | O65: hsls
A66: h. | B66: Dokumen lainnya seperti: Surat Penunjukan Penyedia Barang/Jasa, Jadwal Pelaksanaan Pekerjaan, jaminan-jaminan, Berita Acara Rapat Persiapan Pelaksanaan Kontrak.
A69: HARGA KONTRAK
A70: ="Harga Kontrak termasuk Pajak Pertambahan Nilai (PPN) adalah sebesar Rp. "&IF($G$1="Kosong",O70,O71)&") yang diperoleh berdasarkan total harga sebagaimana tercantum dalam "&Input!$E$14&" hasil negosiasi dan koreksi aritmatik." -> Harga Kontrak termasuk Pajak Pertambahan Nilai (PPN) adalah sebesar Rp. ........................ (....................................) yang diperoleh berdasarkan total harga sebagaimana tercantum dalam Daftar Keluaran dan Harga hasil negosiasi dan koreksi aritmatik. | O70: ........................ (....................................
O71: =TEXT(bu_hn,tiko1)&" ("&bu_hn2 -> 69,862,000 (Enam Puluh Sembilan Juta Delapan Ratus Enam Puluh Dua Ribu Rupiah
A74: LINGKUP PEKERJAAN
A75: =Input!D133 -> Pengecatan tembok eksterior dan panel ACP Gedung Kantor BPKAD
A78: SISTEM PEMBAYARAN
A79: Pembayaran untuk kontrak ini dilakukan ke Bank ..... rekening nomor : ............. atas nama Penyedia : ................
A80: ="Pembayaran untuk kontrak ini dilakukan ke "&Input!$D$165&" rekening nomor "&Input!$D$164&" atas nama Penyedia "&Input!$D$166&"." -> Pembayaran untuk kontrak ini dilakukan ke Bank NTB Syariah rekening nomor 001-02-0039638-3 atas nama Penyedia PT. DARUSSALAM MEDIA GROUP.
A81: =IF($G$1="Kosong",A79,A80) -> Pembayaran untuk kontrak ini dilakukan ke Bank ..... rekening nomor : ............. atas nama Penyedia : ................
A84: ="Pembayaran prestasi pekerjaan dilakukan dengan cara: " -> Pembayaran prestasi pekerjaan dilakukan dengan cara: | J84: =Input!$D$137 -> Sekaligus | O84: Bulanan: | P84: ="row "&ROW(A86)&" - "&ROW(A87) -> row 86 - 87
O85: Termin: | P85: ="row "&ROW(A88)&" - "&ROW(A96) -> row 88 - 96
A86: untuk pembayaran dilakukan secara bulanan, dibayar berdasarkan perhitungan progress pekerjaan yang dituangkan dalam laporan kemajuan hasil pekerjaan dan disetujui oleh Pejabat Penandatangan Kontrak. | O86: =IF(Input!$D$137="Bulanan","","Hide "&P84) -> Hide row 86 - 87
A88: untuk pembayaran dilakukan secara termin, maka dilakukan dengan ketentuan: | O88: =IF(Input!$D$137="Termin","","Hide "&P85) -> Hide row 88 - 96
A89: Termin ke-1: sebesar___% dari nilai Kontrak untuk penyelesaian tahapan pekerjaan/suboutput berupa________.
A91: Termin ke-2: sebesar___% dari nilai Kontrak untuk penyelesaian tahapan pekerjaan/suboutput berupa________.
A93: Termin ke-3: sebesar___% dari nilai Kontrak untuk penyelesaian tahapan pekerjaan/suboutput berupa________.
A95: dst…]
A97: Dokumen penunjang yang disyaratkan untuk mengajukan tagihan pembayaran prestasi pekerjaan:
A98: 1. | B98: Berita Acara Penyelesaian Pekerjaan;
A99: 2. | B99: Berita Acara Serah Terima Hasil Pekerjaan
A100: 3. | B100: Berita Acara Pemeriksaan Administrasi Pekerjaan
A102: BESARAN UANG MUKA
A103: =IF(Input!$D$138="Diberikan","Kontrak ini diberikan uang muka sebesar "&Input!$E$138&"% ("&Input!$F$138&" perseratus) dari Harga Pekerjaan.","Kontrak ini tidak diberikan uang muka.") -> Kontrak ini diberikan uang muka sebesar 30% (tiga puluh perseratus) dari Harga Pekerjaan.
O104: ="Fasilitas: row "&ROW(A105)&" - "&ROW(A117) -> Fasilitas: row 105 - 117
A105: FASILITAS
A106: Pengguna Jasa memberikan fasilitas berupa :
A107: Untuk nilai kontrak < 50 Juta diisi:
A108: 1. | B108: Alat Pelindung Diri (APD);
A109: 2. | B109: Alat Pelindung Kerja (APK);
A110: 3. | B110: Fasilitas, sarana, prasarana, dan alat kesehatan;
A111: 4. | B111: ………
A112: Untuk nilai kontrak > 50 Juta diisi:
A113: 1. | B113: ……………;
A114: 2. | B114: ....................
A115: (diisi fasilitas milik Pengguna Jasa yang akan diberikan kepada Penyedia untuk kelancaran pelaksanan pekerjaan ini (apabila ada))
A118: Untuk dan atas nama | I118: Untuk dan atas nama Penyedia
A119: =opd_nama -> Badan Pengelolaan Keuangan dan Aset Daerah | I119: =IF($G$1="Kosong","________",bu_nama) -> ________
A122: =IF($G$1="Kosong","[tanda tangan dan cap (jika salinan asli ini untuk Penyedia maka rekatkan materai Rp 6.000,- )]","") -> [tanda tangan dan cap (jika salinan asli ini untuk Penyedia maka rekatkan materai Rp 6.000,- )] | I122: =IF($G$1="Kosong","[tanda tangan dan cap (jika salinan asli ini untuk proyek/satuan kerja Pengguna Jasa maka rekatkan materai Rp 6.000,- )]","") -> [tanda tangan dan cap (jika salinan asli ini untuk proyek/satuan kerja Pengguna Jasa maka rekatkan materai Rp 6.000,- )]
A124: =ppk_nama -> Ika Kurnia Mustika, ST, MT | I124: =IF($G$1="Kosong","________",bu_pimn) -> ________
A125: =ppk_jab -> Pejabat Pembuat Komitmen | I125: =IF($G$1="Kosong","Jabatan",bu_pim) -> Jabatan
A128: SYARAT UMUM
A129: SURAT PERINTAH KERJA (SPK)
A132: 1. | B132: LINGKUP PEKERJAAN
B133: Penyedia yang ditunjuk berkewajiban untuk menyelesaikan pekerjaan dalam jangka waktu yang ditentukan sesuai dengan keluaran, gambar, spesifikasi teknis dan harga yang tercantum dalam SPK.
A136: 2. | B136: HUKUM YANG BERLAKU
B137: Keabsahan, interpretasi, dan pelaksanaan SPK ini didasarkan kepada hukum Republik Indonesia.
A139: 3. | B139: LARANGAN KORUPSI, KOLUSI DAN NEPOTISME (KKN), PENYALAHGUNAAN WEWENANG SERTA PENIPUAN
B141: a. | C141: menawarkan, menerima atau menjanjikan untuk memberi atau menerima hadiah atau imbalan berupa apa saja atau melakukan tindakan lainnya untuk mempengaruhi siapapun yang diketahui atau patut dapat diduga berkaitan dengan pengadaan ini;
B144: b. | C144: mendorong terjadinya persaingan tidak sehat; dan/atau
B145: c. | C145: membuat dan/atau menyampaikan secara tidak benar dokumen dan/atau keterangan lain yang disyaratkan untuk penyusunan dan pelaksanaan SPK ini;
B147: d. | C147: Penyedia menjamin bahwa yang bersangkutan termasuk semua anggota KSO (apabila berbentuk KSO) dan subpenyedianya (jika ada) tidak pernah dan tidak akan melakukan tindakan yang dilarang pada pasal di atas;
B150: e. | C150: Penyedia yang menurut penilaian Pengguna Jasa terbukti melakukan larangan-larangan di atas dapat dikenakan sanksi-sanksi administratif oleh Pengguna Jasa sesuai ketentuan peraturan-perundangan;
B152: f. | C152: Pengguna Jasa yang terlibat dalam KKN dan penipuan dikenakan sanksi berdasarkan ketentuan peraturan perundang-undangan.
...

Sheet PPK.Srt1
D1: Yang ini pengajuannya per paket | Q1: Yang ini pengajuannya beberapa paket sekaligus
D2: =UPPER(opd_pem) -> PEMERINTAH PROVINSI NUSA TENGGARA BARAT | Q2: =opd_lok -> Provinsi Nusa Tenggara Barat
D3: =UPPER(opd_nama) -> BADAN PENGELOLAAN KEUANGAN DAN ASET DAERAH | Q3: =opd_nama -> Badan Pengelolaan Keuangan dan Aset Daerah
D4: =opd_almt -> Jalan Pejanggik Nomor 14 Telp.( 0370 ) 627689, 625345 Fax: 627677 | Q4: =opd_almt -> Jalan Pejanggik Nomor 14 Telp.( 0370 ) 627689, 625345 Fax: 627677
K6: =ppk_lok&", "&TEXT(Input!$F$76,"[$-421]d mmmm yyyy") -> Mataram, 6 Oktober 2025 | U6: =ppk_lok&", "&TEXT(Input!$F$76,"[$-421]d mmmm yyyy") -> Mataram, 6 Oktober 2025
A7: Nomor | C7: : | D7: =Input!$D$76 -> 027.1/01.PPK/BPKAD/2025 | L7: balik ke input | N7: Nomor | P7: : | Q7: =Input!$D$76 -> 027.1/01.PPK/BPKAD/2025
A8: Lampiran | C8: : | D8: 1 (satu) Gabung | N8: Lampiran | P8: : | Q8: 1 (satu) Gabung
A9: Kepada Yth. | N9: Kepada Yth.
A10: =pokja&" Pada "&ukpbj -> Pejabat Pengadaan Pada Badan Pengelolaan Keuangan dan Aset Daerah | N10: =pokja&" Pada "&ukpbj -> Pejabat Pengadaan Pada Badan Pengelolaan Keuangan dan Aset Daerah
A11: di - | N11: di -
B12: =pp_lok -> Mataram | O12: =pp_lok -> Mataram
A14: Perihal | C14: : | D14: =met_pil&" Paket "&paket -> Pengadaan Langsung Paket Belanja Pemeliharaan Bangunan Gedung-Bangunan Gedung Tempat Kerja-Bangunan Gedung Kantor-Pemeliharaan Gedung Bertingkat | N14: Perihal | P14: : | Q14: =met_pil&" Paket "&paket -> Pengadaan Langsung Paket Belanja Pemeliharaan Bangunan Gedung-Bangunan Gedung Tempat Kerja-Bangunan Gedung Kantor-Pemeliharaan Gedung Bertingkat
D16: ="Sehubungan dengan rencana pelaksanaan "&$D$14&", untuk itu diminta kepada Saudara agar melaksanakan proses "&met_pil&" berdasarkan "&aturan&" terhadap calon Penyedia Barang/Jasa sesuai dengan kualifikasi yang diatur dalam peraturan perundang-undangan yang berlaku." -> Sehubungan dengan rencana pelaksanaan Pengadaan Langsung Paket Belanja Pemeliharaan Bangunan Gedung-Bangunan Gedung Tempat Kerja-Bangunan Gedung Kantor-Pemeliharaan Gedung Bertingkat, untuk itu diminta kepada Saudara agar melaksanakan proses Pengadaan Langsung berdasarkan Peraturan Presiden Republik Indonesia Nomor 46 Tahun 2025 beserta perubahan dan petunjuk teknisnya. terhadap calon Penyedia Barang/Jasa sesuai dengan kualifikasi yang diatur dalam peraturan perundang-undangan yang berlaku. | Q16: ="Menindaklanjuti "&dana&" "&opd_nama&" Tahun Anggaran "&tahun&", mohon agar "&pokja&" dapat segera melaksanakan proses "&met_pil&" sesuai peraturan perundang-undangan yang berlaku untuk paket-paket pekerjaan sebagai berikut:" -> Menindaklanjuti DPA Badan Pengelolaan Keuangan dan Aset Daerah Tahun Anggaran 2025, mohon agar Pejabat Pengadaan dapat segera melaksanakan proses Pengadaan Langsung sesuai peraturan perundang-undangan yang berlaku untuk paket-paket pekerjaan sebagai berikut:
Q19: No | R19: Paket Pekerjaan | S19: Nilai HPS (Rp.) | T19: Identitas Perusahaan
Q21: 1 | R21: =PA.Srt1!G22 -> Belanja Modal Instalasi Jaringan Internet | S21: =hps -> 69862000
D22: Adapun mengenai Dokumen Persiapan Pengadaan (DPP) yang terdiri dari HPS, Spesifikasi Teknis/KAK, dan rancangan kontrak terlampir. | Q22: =IF(AND(Q21<>"",R22<>0),Q21+1,"") | R22: =PA.Srt1!G23 -> 0
Q23: =IF(AND(Q22<>"",R23<>0),Q22+1,"") | R23: =PA.Srt1!G24 -> 0
Q24: =IF(AND(Q23<>"",R24<>0),Q23+1,"") | R24: =PA.Srt1!G25 -> 0
D25: Demikian disampaikan, atas perhatiannya diucapkan terima kasih. | Q25: =IF(AND(Q24<>"",R25<>0),Q24+1,"") | R25: =PA.Srt1!G26 -> 0
Q26: =IF(AND(Q25<>"",R26<>0),Q25+1,"") | R26: =PA.Srt1!G27 -> 0
I27: =ppk_jab -> Pejabat Pembuat Komitmen | Q27: =IF(AND(Q26<>"",R27<>0),Q26+1,"") | R27: =PA.Srt1!G28 -> 0
Q28: =IF(AND(Q27<>"",R28<>0),Q27+1,"") | R28: =PA.Srt1!G29 -> 0
Q29: =IF(AND(Q28<>"",R29<>0),Q28+1,"") | R29: =PA.Srt1!G30 -> 0
Q30: =IF(AND(Q29<>"",R30<>0),Q29+1,"") | R30: =PA.Srt1!G31 -> 0
I31: =ppk_nama -> Ika Kurnia Mustika, ST, MT | Q31: =IF(AND(Q30<>"",R31<>0),Q30+1,"") | R31: =PA.Srt1!G32 -> 0
I32: ="NIP. "&ppk_nip -> NIP. 19791117 200901 1 006 | Q32: =IF(AND(Q31<>"",R32<>0),Q31+1,"") | R32: =PA.Srt1!G33 -> 0
Q33: =IF(AND(Q32<>"",R33<>0),Q32+1,"") | R33: =PA.Srt1!G34 -> 0
A34: Tembusan disampaikan kepada Yth: | Q34: =IF(AND(Q33<>"",R34<>0),Q33+1,"") | R34: =PA.Srt1!G35 -> 0
A35: ="1. "&pa_jab&" di "&pa_lok&";" -> 1. Kepala Badan Pengelolaan Keuangan dan Aset Daerah di Mataram; | Q35: =IF(AND(Q34<>"",R35<>0),Q34+1,"") | R35: =PA.Srt1!G36 -> 0
A36: 2. Pertinggal. | Q36: =IF(AND(Q35<>"",R36<>0),Q35+1,"") | R36: =PA.Srt1!G37 -> 0
Q37: =IF(AND(Q36<>"",R37<>0),Q36+1,"") | R37: =PA.Srt1!G38 -> 0
Q38: =IF(AND(Q37<>"",R38<>0),Q37+1,"") | R38: =PA.Srt1!G39 -> 0
Q39: =IF(AND(Q38<>"",R39<>0),Q38+1,"") | R39: =PA.Srt1!G40 -> 0
Q40: =IF(AND(Q39<>"",R40<>0),Q39+1,"") | R40: =PA.Srt1!G41 -> 0
Q42: Adapun mengenai Dokumen Persiapan Pengadaan (DPP) yang terdiri dari HPS, Spesifikasi Teknis/KAK, dan rancangan kontrak terlampir.
Q45: Demikian disampaikan, atas perhatiannya diucapkan terima kasih.
S47: =ppk_jab -> Pejabat Pembuat Komitmen
S51: =ppk_nama -> Ika Kurnia Mustika, ST, MT
S52: ="NIP. "&ppk_nip -> NIP. 19791117 200901 1 006
N54: Tembusan disampaikan kepada Yth:
N55: ="1. "&pa_jab&" di "&pa_lok&";" -> 1. Kepala Badan Pengelolaan Keuangan dan Aset Daerah di Mataram;
N56: 2. Pertinggal.

Sheet PP.Rev
D1: =UPPER(opd_pem) -> PEMERINTAH PROVINSI NUSA TENGGARA BARAT
D2: =UPPER(ukpbj) -> BADAN PENGELOLAAN KEUANGAN DAN ASET DAERAH
D3: =opd_almt -> Jalan Pejanggik Nomor 14 Telp.( 0370 ) 627689, 625345 Fax: 627677
A5: BERITA ACARA REVIU DOKUMEN PERSIAPAN PENGADAAN
A7: Nomor | E7: : | F7: =Input!D77 -> 03.1/PP/Pkt.I/2023 | T7: balik ke input
A8: Tanggal | E8: : | F8: =Input!F77 -> 45931
A9: Berdasarkan permintaan dari | E9: : | F9: =ppk_jab -> Pejabat Pembuat Komitmen
A10: Nomor dan Tanggal Pengajuan | E10: : | F10: =Input!D76&" tanggal "&TEXT(Input!F76,"dd mmmm yyyy") -> 027.1/01.PPK/BPKAD/2025 tanggal 06 Oktober 2025
A11: =pokja -> Pejabat Pengadaan | E11: : | F11: =pokja&" pada "&opd_nama -> Pejabat Pengadaan pada Badan Pengelolaan Keuangan dan Aset Daerah
A12: ="Nomor dan tanggal SK "&pokja -> Nomor dan tanggal SK Pejabat Pengadaan | E12: : | F12: =Input!D54 -> xxxxxx tanggal 27 Juni 2025
A13: Nama Pengadaan | E13: : | F13: =paket -> Belanja Pemeliharaan Bangunan Gedung-Bangunan Gedung Tempat Kerja-Bangunan Gedung Kantor-Pemeliharaan Gedung Bertingkat
A15: Tahun Anggaran | E15: : | F15: =tahun -> 2025
A16: No | C16: URAIAN
A17: A | C17: PEMAKETAN
A18: 1 | C18: Nomor/Kode RUP | E18: : | F18: -
A19: 2 | C19: Jenis Pengadaan | E19: : | F19: Jasa lainnya
A20: 3 | C20: Pagu Anggaran | E20: : | F20: 271950000
A21: 4 | C21: Kode Akun (MAK) | E21: : | F21: -
A22: 5 | C22: Lokasi Pekerjaan | E22: : | F22: =Input!D5 -> Mataram
A23: B | C23: LINGKUP PEKERJAAN / SPESIFIKASI / GAMBAR
A24: 1 | C24: Spesifikasi Teknis/KAK dan Gambar | F24: ü | G24: Memadai | J24: Kurang | O24: Belum ada
A25: 2 | C25: Ketersediaan barang/jasa di pasar | F25: ü | G25: Tersedia | J25: Tidak Tersedia
A26: 3 | C26: Tidak mengarah pada merek/produk tertentu | G26: Tidak | I26: ü | J26: Dikecualikan, mis: untuk Tender Cepat
A27: 4
A28: C | C28: HARGA PERKIRAAN SENDIRI (HPS)
A29: 1 | C29: Nilai HPS | E29: : | F29: =hps -> 69862000
A30: 2 | C30: Ditetapkan oleh | E30: : | F30: PPK
A31: 3 | C31: Sumber HPS | E31: : | F31: survey harga
A32: 4 | C32: Memperhitungkan Kewajiban perpajakan / cukai / asuransi / SMK3 | E32: : | F32: ü | G32: Ya | J32: Belum
A34: 5 | C34: HPS telah ditetapkan oleh PPK | E34: : | F34: Ya | J34: Tanggal: | M34: 45712
A35: D | C35: RANCANGAN KONTRAK
A36: 1 | C36: Acuan Surat Perjanjian | E36: : | F36: MDP LKPP
A37: 2 | C37: Isian SSUK dan SSKK | E37: : | F37: ü | G37: Sesuai | J37: Belum sesuai | P37: Belum diisi
A38: 3 | C38: Lampiran A dan B untuk konstruksi | E38: : | G38: Sesuai | J38: Belum sesuai | P38: Belum diisi
A39: 4 | C39: Jenis Kontrak | E39: : | F39: Lumsum
A40: 5 | C40: Masa Pelaksanaan | E40: : | F40: 90 | H40: hari kalender
A41: 6 | C41: Uang Muka | E41: : | F41: ü | G41: Diberikan | J41: Tidak diberikan | P41: Belum diisi
A42: 7 | C42: Pembayaran | E42: : | G42: Bulanan | J42: Termin | N42: ü | O42: Sekaligus
A43: 8 | C43: Peralatan/Fasilitas | E43: : | F43: - | G43: Sesuai | J43: Belum sesuai | O43: Belum diisi
A44: 9 | C44: Personil | E44: : | F44: - | G44: Sesuai | J44: Belum sesuai | O44: Belum diisi
A45: 10 | C45: Masa Pemeliharaan / Garansi **) | E45: : | F45: - | H45: tahun
A46: 11 | C46: Sertifikat Garansi **) | E46: : | G46: Dipersyaratkan | K46: ü | L46: Tidak dipersyaratkan/diperlukan
A47: E | C47: KELENGKAPAN UNTUK TENDER PEKERJAAN KONSTRUKSI
A48: 1 | C48: Metode Pelaksanaan telah ditetapkan | E48: : | G48: Ya | J48: Belum sesuai | O48: Belum ada
A49: 2 | C49: Daftar Pekerjaan Utama | E49: : | G49: Sesuai | J49: Belum sesuai | O49: Belum ada
A50: 3 | C50: Daftar Identifikasi Risiko | E50: : | G50: Sesuai | J50: Belum sesuai | O50: Belum ada
A51: 4 | C51: Jenis Pekerjaan | E51: : | F51: Pekerjaan Tunggal / Pekerjaan Terintegrasi *)
A52: 5 | C52: Peninjauan Lapangan | E52: : | G52: Ada | J52: Tidak ada | O52: Sesuai permintaan
A53: F | C53: KETERANGAN
A59: G | C59: KESIMPULAN | E59: Dapat Dilanjutkan
A60: cat: | C60: *) coret yang tidak perlu
C61: **) jika diperlukan
C63: =ppk_jab -> Pejabat Pembuat Komitmen | I63: =F11 -> Pejabat Pengadaan pada Badan Pengelolaan Keuangan dan Aset Daerah
C68: 4. | D68: 4. | F68: 2. | M68: 4.
C69: 5. | D69: 5. | F69: 3.
C70: =ppk_nama -> Ika Kurnia Mustika, ST, MT | I70: =_pan1 -> Surmayanti Isnaini, S.IP
C71: =ppk_nip -> 19791117 200901 1 006 | I71: =pp_nip -> 199201122 01406 2 001
D74: PEMERINTAH PROVINSI NUSA TENGGARA BARAT
D75: =UPPER(ukpbj) -> BADAN PENGELOLAAN KEUANGAN DAN ASET DAERAH
D76: =opd_almt -> Jalan Pejanggik Nomor 14 Telp.( 0370 ) 627689, 625345 Fax: 627677
A78: Nomor | C78: : | D78: =Input!D76 -> 027.1/01.PPK/BPKAD/2025 | T78: balik ke input
A79: Lampiran | C79: : | D79: 1 (satu) berkas
A80: Perihal | C80: : | D80: ="Penetapan Dokumen Persiapan Pemilihan Penyedia "&paket&" Tahun Anggaran "&tahun -> Penetapan Dokumen Persiapan Pemilihan Penyedia Belanja Pemeliharaan Bangunan Gedung-Bangunan Gedung Tempat Kerja-Bangunan Gedung Kantor-Pemeliharaan Gedung Bertingkat Tahun Anggaran 2025
A82: ="Pada hari ini, "&TEXT(Input!H79,"[$-421]dddd, d mmmm yyyy")&", telah dilakukan penetapan Dokumen Pemilihan untuk paket pekerjaan "&paket&" sebagai berikut:" -> Pada hari ini, Kamis, 2 Oktober 2025, telah dilakukan penetapan Dokumen Pemilihan untuk paket pekerjaan Belanja Pemeliharaan Bangunan Gedung-Bangunan Gedung Tempat Kerja-Bangunan Gedung Kantor-Pemeliharaan Gedung Bertingkat sebagai berikut:
A86: A | B86: Penetapan Persiapan Pemilihan | T86: Berdasarkan dokumen persiapan pengadaan yang diserahkan oleh PPK, Pokja Pemilihan melakukan analisis pasar untuk mengetahui kemungkinan ketersediaan barang/jasa dan Pelaku Usaha dalam negeri yang mampu dan memenuhi persyaratan untuk melaksanakan pekerjaan. Hasil analisis pasar digunakan untuk menentukan metode kualifikasi dan/atau metode pemilihan Penyedia.
B87: No | D87: URAIAN | T87: Dalam hal hasil analisis pasar diketahui tidak ada Pelaku Usaha dalam negeri yang mampu dan memenuhi persyaratan untuk melaksanakan pekerjaan maka Pokja Pemilihan mengusulkan dan meminta persetujuan kepada PPK untuk dilaksanakan melalui Tender/Seleksi Internasional.
B88: 1 | C88: Metode Pemilihan | E88: : | F88: Penunjukan Langsung
B89: 2 | C89: Metode Kualifikasi | E89: : | F89: Pascakualifikasi
B90: 3 | C90: Metode Evaluasi Penawaran | E90: : | F90: Harga Terendah
B91: 4 | C91: Metode Penyampaian Penawaran | E91: : | F91: Satu File
B92: 5 | C92: Jadwal Pemilihan | E92: : | T92: ="unhide row "&S93&" - "&S104&" kalau perlu diisi manual, bukan lewat aplikasi" -> unhide row 93 - 104 kalau perlu diisi manual, bukan lewat aplikasi
C93: a | D93: Pengumuman Tender | E93: : | F93: 45737 | L93: s/d | N93: 45743 | S93: =ROW(A93) -> 93
C94: b | D94: Pendaftaran dan pengambilan dokumen | E94: : | F94: =F93 -> 45737 | L94: s/d | N94: =N93 -> 45743
C95: c | D95: Pemberian Penjelasan | E95: : | F95: 45741 | L95: jam 09.00 s/d 11.00 WITA
C96: d | D96: Penyampaian Dokumen Penawaran | E96: : | F96: 45755 | L96: s/d | N96: 45757.417
F97: (pada hari kerja dan jam kerja)
C98: e | D98: Pembukaan Dokumen Penawaran | E98: : | F98: =N96+0.004 -> 45757.421
C99: f | D99: Evaluasi Penawaran | E99: : | F99: 45757 | L99: s/d | N99: 45763
C100: g | D100: Pembuktian kualifikasi kepada calon Pemenang | E100: : | F100: 45762 | L100: s/d | N100: 45763
C101: h | D101: penetapan pemenang dan pengumuman | E101: : | F101: 45763
C102: i | D102: masa sanggah | E102: : | F102: =F101+1 -> 45764 | L102: s/d | N102: 45768.625
C103: j | D103: Laporan Pokja Pemilihan | E103: : | F103: 45769
S104: =ROW(A104) -> 104
B105: 5 | C105: Dokumen Pemilihan
C106: - | D106: Jaminan Penawaran | E106: : | F106: =IF(AND(F19="Pekerjaan Konstruksi",T106>G106),ROUNDUP(F29/50,-6),"Tidak disyaratkan") -> Tidak disyaratkan | T106: 10000000000
C107: - | D107: Jaminan Sanggah Banding | E107: : | F107: =IF(F19="Pekerjaan Konstruksi",F29/100,"Tidak disyaratkan") -> Tidak disyaratkan
C108: - | D108: TKDN | E108: : | F108: =IF(AND(F19="Barang",F29>T108),"TKDN diperhitungkan dengan nilai preferensi 25%","TKDN tidak diperhitungkan") -> TKDN tidak diperhitungkan | T108: 1000000000
A109: 7 | C109: Keterangan
C110: - | D110: Telah terjadi gagal tender sebanyak 2 (dua) kali.
C111: - | D111: Pada tender pertama karena jumlah peserta yang memasukkan penawaran hanya 2 (dua) peserta, kurang dari 3 (peserta) sehingga tender dinyatakan gagal dan dokumen penawaran peserta tidak dibuka.
D112: Dua peserta yang memasukkan penawaran adalah PT. Sinergi Khandra Aidera dan Penjahit Ardana.
C113: - | D113: Pada tender kedua hanya ada 1 (satu) peserta yang menyampaikan penawaran, yaitu PT. Sinergi Khandra Aidera. Proses tender ulang tetap dilanjutkan meskipun peserta kurang dari 3 (tiga).
D114: Dalam tahap evaluasi, diketahui bahwa PT. Sinergi Khandra Aidera memiliki kualifikasi menengah sementara syarat kualifikasi paket ini adalah kecil sehingga dinyatakan gugur kualifikasi.
C115: - | D115: Memperhatikan poin-poin di atas, sebagai tindak lanjut dari tender ulang gagal, maka dilakukan penunjukan langsung kepada penyedia yang dianggap mampu.
C116: - | D116: Dari pelaksanaan tender sebelumnya, hanya ada 1 pelaku usaha yang berminat melaksanakan pekerjaan ini dengan lingkup pekerjaan dan syarat-syarat yang tercantum serta nilai imbalan yang disediakan.
A119: B | B119: Penetapan Jadwal Pemilihan | T119: ="unhide row "&S121&" - "&S127&" kalau jadwal perlu diisi manual" -> unhide row 121 - 127 kalau jadwal perlu diisi manual
B120: Jadwal pemilihan sebagaimana tercantum dalam SPSE.
B121: No | C121: Kegiatan | G121: Hari/Tanggal | O121: Waktu | S121: =ROW(B121) -> 121
B122: 1 | C122: Pemasukan dan Pembukaan Dokumen Penawaran | G122: =Input!E81&", "&Input!H81&" s.d. "&Input!E83&", "&Input!H83 -> Selasa, 25 Juli 2023 s.d. Selasa, 1 Agustus 2023 | O122: ="s.d. "&Input!G116 -> s.d.
B124: 2 | C124: Evaluasi, Klarifikasi Teknis dan Negosiasi Harga | G124: =Input!E84&", "&Input!H84&IF(Input!F85=Input!F84,""," s.d. "&Input!E85&", "&Input!H85) -> Selasa, 1 Agustus 2023 | O124: =Input!G116&" sampai selesai" -> sampai selesai
...

Sheet PP.Srt1
D1: =UPPER(opd_pem) -> PEMERINTAH PROVINSI NUSA TENGGARA BARAT
D2: =UPPER(ukpbj) -> BADAN PENGELOLAAN KEUANGAN DAN ASET DAERAH
D3: =ukpbj_almt -> Jalan Pejanggik Nomor 14 Telp.( 0370 ) 627689, 625345 Fax: 627677
I5: =pp_lok&", "&Input!H79 -> Mataram, 2 Oktober 2025 | K5: sudah ada di SPSE, tidak perlu lagi
A6: Nomor | C6: : | D6: =Input!D79 -> 3/PP/Pkt.I/2023 | K6: balik ke input
A7: Lampiran | C7: : | D7: 1 (satu) berkas
A8: Kepada Yth.
A9: =bu_pim&" "&bu_nama -> Direktur PT. DARUSSALAM MEDIA GROUP | J9: =#REF! -> #REF!
A10: di -
B11: =bu_lok -> Mataram
A13: Perihal | C13: : | D13: =met_pil&" Paket Pekerjaan "&paket&" Pada "&opd_nama&" Tahun Anggaran "&tahun -> Pengadaan Langsung Paket Pekerjaan Belanja Pemeliharaan Bangunan Gedung-Bangunan Gedung Tempat Kerja-Bangunan Gedung Kantor-Pemeliharaan Gedung Bertingkat Pada Badan Pengelolaan Keuangan dan Aset Daerah Tahun Anggaran 2025
A16: ="Dengan ini Saudara kami undang untuk mengikuti proses "&met_pil&" paket Pengadaan "&jenis&" sebagai berikut:" -> Dengan ini Saudara kami undang untuk mengikuti proses Pengadaan Langsung paket Pengadaan Pekerjaan Konstruksi sebagai berikut:
A18: 1. | B18: Paket Pekerjaan
B19: Nama Paket | E19: : | F19: =paket -> Belanja Pemeliharaan Bangunan Gedung-Bangunan Gedung Tempat Kerja-Bangunan Gedung Kantor-Pemeliharaan Gedung Bertingkat
B20: Lingkup Pekerjaan | E20: : | F20: =lingkup -> Pengecatan tembok eksterior dan panel ACP Gedung Kantor BPKAD
B21: Nilai Total HPS | E21: : | F21: =hps -> 69862000
F22: ="("&hps_ter&")" -> (Enam Puluh Sembilan Juta Delapan Ratus Enam Puluh Dua Ribu Rupiah)
B23: Sumber Pendanaan | E23: : | F23: =dana&" "&opd_nama -> DPA Badan Pengelolaan Keuangan dan Aset Daerah
A25: 2. | B25: Pelaksanaan Pengadaan
B26: Tempat | E26: : | F26: =tempat -> Badan Pengelolaan Keuangan dan Aset Daerah
B28: Telepon | E28: : | F28: =Input!$D$56 -> (0370) 622373
B29: email | E29: : | F29: =Input!$D$57 -> bpkad@ntbprov.go.id
A31: Saudara diminta untuk memasukan penawaran, secara langsung sesuai dengan jadwal pelaksanaan sebagai berikut:
A33: No | B33: Kegiatan | G33: Hari | H33: Tanggal | I33: Waktu
A34: 1 | B34: Pemasukan dan pembukaan Dokumen Penawaran | H34: =TEXT(Input!$F$81,"[$-421]d mmmm yyyy")&" s.d "&Input!$G$81 -> 25 Juli 2023 s.d 1 Agustus 2023 | I34: ="s.d "&Input!G83 -> s.d 10.00 WITA
A35: 2 | B35: Pembukaan Dokumen Penawaran, Evaluasi, Klarifikasi Teknis dan Negosiasi Harga | G35: =Input!E83 -> Selasa | H35: =Input!H83 -> 1 Agustus 2023 | I35: =Input!G83&" s.d selesai" -> 10.00 WITA s.d selesai
A36: 3 | B36: Penandatanganan SPK/SPP | G36: =Input!E90 -> Kamis | H36: =Input!H90 -> 3 Agustus 2023
A38: Apabila Saudara memerlukan keterangan ataupun penjelasan lebih lanjut, dapat menghubungi kami sesuai alamat tersebut di atas sampai dengan batas akhir pemasukan Dokumen Penawaran.
A41: Demikian disampaikan untuk diketahui.
H43: =pokja&" pada" -> Pejabat Pengadaan pada
H44: =ukpbj -> Badan Pengelolaan Keuangan dan Aset Daerah
H48: =_pan1 -> Surmayanti Isnaini, S.IP
H49: ="NIP. "&Input!$D$59 -> NIP. 199201122 01406 2 001
A51: BERITA ACARA PENJELASAN PEKERJAAN | K51: untuk penunjukan langsung
A52: =paket -> Belanja Pemeliharaan Bangunan Gedung-Bangunan Gedung Tempat Kerja-Bangunan Gedung Kantor-Pemeliharaan Gedung Bertingkat
A53: =opd_nama -> Badan Pengelolaan Keuangan dan Aset Daerah
A54: ="Tahun Anggaran "&tahun -> Tahun Anggaran 2025
A55: ="Nomor: "&Input!D80 -> Nomor: 02/1/XII/Pj. P BPKAD/2025
A57: ="Pada hari ini, "&Input!E80&" tanggal "&Input!H80&", dengan mengambil tempat di "&tempat&", telah diadakan Penjelasan Pekerjaan untuk paket tersebut di atas yang dihadiri oleh Pokja dan Pelaku Usaha peserta "&met_pil&" dengan acara sebagai berikut :" -> Pada hari ini, Selasa tanggal 25 Juli 2023, dengan mengambil tempat di Badan Pengelolaan Keuangan dan Aset Daerah, telah diadakan Penjelasan Pekerjaan untuk paket tersebut di atas yang dihadiri oleh Pokja dan Pelaku Usaha peserta Pengadaan Langsung dengan acara sebagai berikut :
J59: =#REF! -> #REF!
A62: Penjelasan Proses Pemilihan Penyedia | E62: : | F62: ="Dipaparkan proses pemilihan penyedia dengan metode "&met_pil&" yang mengacu pada "&aturan -> Dipaparkan proses pemilihan penyedia dengan metode Pengadaan Langsung yang mengacu pada Peraturan Presiden Republik Indonesia Nomor 46 Tahun 2025 beserta perubahan dan petunjuk teknisnya.
A66: Penjelasan Pengadaan | E66: : | F66: Dipaparkan kepada penyedia mengenai barang/jasa yang akan diadakan beserta kriteria penerimaannya.
A69: Pertanyaan Tambahan | E69: : | F69: -
A73: Penjelasan Tambahan | E73: : | F73: -
A77: No | B77: =pokja&" pada "&ukpbj -> Pejabat Pengadaan pada Badan Pengelolaan Keuangan dan Aset Daerah | G77: Tandatangan
A79: 1 | B79: =_pan1 -> Surmayanti Isnaini, S.IP | G79: 1.
A80: 2 | B80: =_pan2 -> 0 | G80: 2.
A81: 3 | B81: =_pan3 -> 0 | G81: 3.
A82: 4 | B82: =_pan4 -> 0 | G82: 4.
A83: 5 | B83: =_pan5 -> 0 | G83: 5.
A85: No | B85: =bu_nama -> PT. DARUSSALAM MEDIA GROUP | G85: Tandatangan
A87: 1 | B87: =bu_pimn&" ("&bu_pim&")" -> Saripudin (Direktur)
A91: BERITA ACARA PEMBUKAAN PENAWARAN
A92: =paket -> Belanja Pemeliharaan Bangunan Gedung-Bangunan Gedung Tempat Kerja-Bangunan Gedung Kantor-Pemeliharaan Gedung Bertingkat
A93: =opd_nama -> Badan Pengelolaan Keuangan dan Aset Daerah
A94: ="Tahun Anggaran "&tahun -> Tahun Anggaran 2025
A95: ="Nomor: "&Input!D83 -> Nomor: 03/1/XII/Pj.P BPKAD/2025 | K95: balik ke input
A97: ="Pada hari ini, "&Input!$E$83&" tanggal "&TEXT(Input!$F$83,"[$-421]d mmmm yyyy")&", dengan mengambil tempat di "&tempat&", telah diadakan Pembukaan Penawaran untuk paket tersebut di atas yang dihadiri oleh Pokja dan Pelaku Usaha peserta "&met_pil&" dengan hasil sebagai berikut :" -> Pada hari ini, Selasa tanggal 1 Agustus 2023, dengan mengambil tempat di Badan Pengelolaan Keuangan dan Aset Daerah, telah diadakan Pembukaan Penawaran untuk paket tersebut di atas yang dihadiri oleh Pokja dan Pelaku Usaha peserta Pengadaan Langsung dengan hasil sebagai berikut :
A102: 1. | B102: Peserta yang memasukkan penawaran adalah peserta yang diundang;
A103: 2. | B103: Berdasarkan pemeriksaan, penawaran yang masuk dinyatakan lengkap dan sah.
A105: Demikian Berita Acara ini dibuat dengan penuh tanggung jawab, untuk dapat dipergunakan sebagaimana mestinya.
A108: No | B108: =pokja -> Pejabat Pengadaan | G108: Tandatangan
A110: 1 | B110: =_pan1 -> Surmayanti Isnaini, S.IP | G110: 1. | K110: ="kalau Pokmil, row "&ROW(K111)&" - "&ROW(K114)&" di-unhide" -> kalau Pokmil, row 111 - 114 di-unhide
A111: 2 | B111: =_pan2 -> 0 | G111: 2.
A112: 3 | B112: =_pan3 -> 0 | G112: 3.
A113: 4 | B113: =_pan4 -> 0 | G113: 4.
A114: 5 | B114: =_pan5 -> 0 | G114: 5.
A116: No | B116: =bu_nama -> PT. DARUSSALAM MEDIA GROUP | G116: Tandatangan
A118: 1 | B118: =bu_pimn&" ("&bu_pim&")" -> Saripudin (Direktur) | G118: 1.

Sheet PP.Eval.B
A1: ="LEMBAR KERJA EVALUASI "&met_pil -> LEMBAR KERJA EVALUASI Pengadaan Langsung
A2: PAKET | C2: : | D2: =paket -> Belanja Pemeliharaan Bangunan Gedung-Bangunan Gedung Tempat Kerja-Bangunan Gedung Kantor-Pemeliharaan Gedung Bertingkat
A3: HPS | C3: : | D3: Rp. | E3: =+hps -> 69862000 | H3: =bu_nama -> PT. DARUSSALAM MEDIA GROUP
A4: UNSUR EVALUASI | G4: ISI DOKUMEN | H4: MEMENUHI
G5: PENAWARAN | H5: YA/TIDAK | I5: balik ke input
A7: ADMINISTRASI
A8: 1 | B8: Surat Penawaran
B9: a) | C9: Jabatan Penandatangan | G9: =bu_pim -> Direktur | H9: YA
C10: Nama Penandatangan | G10: =bu_pimn -> Saripudin
B11: b) | C11: Harga Penawaran termasuk PPN | G11: =bu_hp -> 199999800 | H11: YA | I11: =IF(G11>hps,"TIDAK","YA") -> TIDAK
B12: c) | C12: Tanggal penawaran | G12: =Input!H82 -> 1 Agustus 2023 | H12: YA
C13: Masa berlaku penawaran | G13: =Input!D71 -> 15 | H13: YA
B14: d) | C14: Jangka waktu pelaksanaan pekerjaan | G14: =masa -> 30 | H14: YA
A16: 2 | B16: Daftar Kuantitas dan Harga | G16: Menyampaikan | H16: YA
A18: 3 | B18: Dokumen Penawaran Teknis
B19: a) | C19: Spesifikasi Teknis | G19: Menyampaikan | H19: YA
B20: b) | C20: Identitas (jenis, tipe, merek | G20: Menyampaikan | H20: YA
B21: c) | C21: Brosur | G21: Menyampaikan | H21: YA
B22: d) | C22: Metode pelaksanaan pekerjaan; | G22: Menyampaikan | H22: YA
B23: e) | C23: Deskripsi Varietas dari Kementerian Pertanian | G23: Menyampaikan | H23: YA
B24: f) | C24: Surat Rekomendasi Penyalur/Pedagang Benih dari BPSB yang berwenang | G24: Menyampaikan | H24: YA
B25: g) | C25: Jadwal Pelaksanaan (Time schedule) | G25: Menyampaikan | H25: YA
B26: h) | C26: Surat dukungan Jaminan Supply | G26: Menyampaikan | H26: YA
B27: i) | C27: surat penunjukannya sebagai agen/distributor resmi | G27: Menyampaikan | H27: YA
B28: j) | C28: Tenaga Teknis | G28: Menyampaikan | H28: YA
B29: k) | C29: Peralatan Minimal | G29: Menyampaikan | H29: YA
B30: k) | C30: Layanan purnajual | G30: Menyampaikan | H30: YA
A32: 4 | B32: Formulir Isian Kualifikasi | G32: Menyampaikan | H32: YA
G33: Menyampaikan | H33: YA
A35: TEKNIS
A36: 1 | B36: Spesifikasi Teknis | G36: Memenuhi | H36: YA
A38: 2 | B38: Brosur
B39: brosur barang yang dilampirkan sesuai dengan spesifikasi teknis barang dalam dokumen pengadaan | G39: Memenuhi | H39: YA
B40: Dalam Kemasan diberikan tanda tulisan BENIH JAGUNG BANTUAN PEMERINTAH TAHUN 2018 TIDAK DIPERJUAL BELIKAN | G40: Memenuhi | H40: YA
A42: 3 | B42: Metode pelaksanaan pekerjaan; | G42: Memenuhi | H42: YA
A44: 4 | B44: =+C23 -> Deskripsi Varietas dari Kementerian Pertanian | G44: Memenuhi | H44: YA
A46: 5 | B46: =+C24 -> Surat Rekomendasi Penyalur/Pedagang Benih dari BPSB yang berwenang | G46: Memenuhi | H46: YA
A48: 6 | B48: Jadwal Waktu Pelaksanaan
B49: tidak melebihi jangka waktu sebagaimana tercantum dalam LDP (75 hari kalender) | G49: Memenuhi | H49: YA
A51: 7 | B51: Surat dukungan Jaminan Supply dari Produsen Pemegang Pendaftaran dan Izin Tetap Benih Jagung yang ditetapkan oleh Menteri Pertanian RI, dengan melampirkan scan Surat Keputusan tentang Pemegang Pendaftaran dan Izin Tetap Benih Jagung yang ditetapkan oleh Menteri Pertanian RI | G51: Memenuhi | H51: YA
A53: 8 | B53: Surat penunjukannya sebagai agen/distributor resmi | G53: Memenuhi | H53: YA
A55: 9 | B55: Daftar Personel
B56: - | C56: Tenaga Ahli Pertanian | G56: Memenuhi | H56: YA
A59: 10 | B59: Daftar Peralatan
B60: 1 | C60: Truck/Mobil Box | F60: 1 unit | G60: Memenuhi | H60: YA
B61: 2 | C61: Gudang Penyimpanan | F61: 1 unit | G61: Memenuhi | H61: YA
A66: HARGA
A67: 1 | B67: Total Harga Penawaran
B68: HPS | C68: =hps -> 69862000 | G68: =G11 -> 199999800 | H68: YA
A71: =pp_lok&", "&TEXT(Input!$F$84,"[$-421]d mmmm yyyy") -> Mataram, 1 Agustus 2023
A72: =ukpbj -> Badan Pengelolaan Keuangan dan Aset Daerah
A73: =pokja -> Pejabat Pengadaan
A74: No | B74: Nama | F74: =IF(pokja="Pejabat Pengadaan","","Jabatan") | G74: Tanda Tangan
A76: 1 | B76: =_pan1 -> Surmayanti Isnaini, S.IP | F76: =IF(pokja="Pejabat Pengadaan","","Ketua") | G76: 1.
A77: 2 | B77: =_pan2 -> 0 | F77: Sekretaris | G77: 2.
A78: 3 | B78: =_pan3 -> 0 | F78: Anggota | G78: 3.
A79: 4 | B79: =_pan4 -> 0 | F79: Anggota | G79: 4.
A80: 5 | B80: =_pan5 -> 0 | F80: Anggota | G80: 5.
A83: ="LEMBAR KERJA EVALUASI "&met_pil -> LEMBAR KERJA EVALUASI Pengadaan Langsung
A84: PAKET | C84: : | D84: =paket -> Belanja Pemeliharaan Bangunan Gedung-Bangunan Gedung Tempat Kerja-Bangunan Gedung Kantor-Pemeliharaan Gedung Bertingkat
A85: HPS | C85: : | D85: Rp. | E85: =+hps -> 69862000 | H85: =bu_nama -> PT. DARUSSALAM MEDIA GROUP
A86: UNSUR EVALUASI | G86: ISI DOKUMEN | H86: MEMENUHI
G87: PENAWARAN | H87: YA/TIDAK
A89: KUALIFIKASI Administrasi/Legalitas
A90: 1 | B90: Izin Usaha
B91: a) | C91: Izin Usaha | G91: Memenuhi | H91: YA
B92: b) | C92: Bidang Pekerjaan (berdasar KBLI) | G92: Memenuhi | H92: YA
B93: c) | C93: Masa berlaku s/d | G93: 7 April 2022 | H93: YA
A95: 2 | B95: TDP/NIB
B96: a) | C96: Nomor | G96: 02155485315151AX | H96: YA
B97: b) | C97: Bidang Pekerjaan (berdasar KBLI) | G97: Memenuhi | H97: YA
B98: c) | C98: Masa berlaku s/d | G98: 7 April 2022 | H98: YA
A100: 3 | B100: Perpajakan
B101: a) | C101: NPWP | G101: =bu_npwp -> 03.990.125.5.8-911.000 | H101: YA
B102: b) | C102: Status valid keterangan Wajib Pajak | G102: Ada dan Sesuai | H102: YA
A104: 4 | B104: Alamat
B105: Mempunyai atau menguasai tempat usaha/kantor dengan alamat yang benar, tetap dan jelas berupa milik sendiri atau sewa | G105: =bu_almt -> JL Meninting 13 No.. 22C BTN Kekalik, Kel. Pagesangan Barat, Kota Mataram, Provinsi Nusa Tenggara Barat | H105: YA
A109: 5 | B109: Kapasitas
B110: a) | C110: Akta Pendirian Perusahaan dan/atau perubahannya | H110: YA
C111: Nomor | G111: =Input!D123 -> AHU.00309.AH.02.01.TAHUN 2021
C112: Tanggal | G112: =Input!D124 -> 05 November 2021
C113: Nama Notaris | G113: =Input!D125 -> Finka Saradilla, S.H., M.Kn
B114: b) | C114: Kartu Tanda Penduduk | G114: =Input!D122 -> 5201082711800001 | H114: YA
A116: 6 | B116: Pakta Integritas | G116: Memenuhi | H116: YA
A118: 7 | B118: Surat Pernyataan | G118: Memenuhi | H118: YA
B119: yang ditandatangani Peserta yang berisi:
B120: 1) | C120: yang bersangkutan dan manajemennya tidak dalam pengawasan pengadilan, tidak pailit, dan kegiatan usahanya tidak sedang dihentikan;
B121: 2) | C121: yang bersangkutan berikut pengurus badan usaha tidak sedang dikenakan sanksi daftar hitam;
B122: 3) | C122: yang bertindak untuk dan atas nama badan usaha tidak sedang dalam menjalani sanksi pidana; dan
B123: 4) | C123: pimpinan dan pengurus badan usaha bukan sebagai pegawai Kementerian/ Lembaga/ Perangkat Daerah atau pimpinan dan pengurus badan usaha sebagai pegawai Kementerian/ Lembaga/ Perangkat Daerah yang sedang mengambil cuti diluar tanggungan Negara.
A126: KUALIFIKASI Teknis
A127: 1 | B127: Pengalaman
B128: a) | C128: Divisi: | G128: Memenuhi | H128: YA
C129: Penyediaan barang pada divisi yang sama paling kurang 1 (satu) pekerjaan dalam kurun waktu 1 (satu) tahun terakhir baik di lingkungan pemerintah maupun swasta, termasuk pengalaman subkontrak
B130: b) | C130: Kelompok: | G130: Memenuhi | H130: YA
C131: Penyediaan barang sekurang-kurangnya dalam kelompok/grup yang sama paling kurang 1 (satu) pekerjaan dalam kurun waktu 3 (tiga) tahun terakhir baik di lingkungan pemerintah maupun swasta, termasuk pengalaman subkontrak
A133: 2 | B133: Personel | G133: Ada dan Sesuai | H133: YA
A135: 3 | B135: Peralatan | G135: Ada dan Sesuai | H135: YA
A138: =pp_lok&", "&TEXT(Input!$F$84,"[$-421]d mmmm yyyy") -> Mataram, 1 Agustus 2023
A139: =ukpbj -> Badan Pengelolaan Keuangan dan Aset Daerah
...

Sheet Nego
A2: Lampiran | C2: : | D2: BERITA ACARA KLARIFIKASI DAN NEGOSIASI TEKNIS DAN HARGA
A3: Nomor | C3: : | D3: =Input!$D$85 -> 05/1/XII/Pj.P BPKAD/2025
A4: Hari, Tanggal | C4: : | D4: =Input!$E$85&", "&TEXT(Input!$F$85,"[$-421]d mmmm yyyy") -> Selasa, 1 Agustus 2023
A6: No | B6: Deskripsi Item/Pekerjaan | E6: Sat | F6: Vol | G6: Harga Satuan (Rp) | J6: Harga Negosiasi (Rp)
G7: HPS | H7: Penawaran | I7: Negosiasi | L7: balik ke input
A9: =IF(B9<>0,MAX(A5:A8)+1,0) -> 1 | B9: =PPK.HPS!B16 -> PEKERJAAN PERSIAPAN | E9: =PPK.HPS!F16 -> 0 | F9: =PPK.HPS!G16 -> 0 | G9: =PPK.HPS!H16 -> 0 | I9: =IF(B9<>"",MIN(G9:H9),0) -> 0 | J9: =F9*I9 -> 0
A10: =IF(B10<>0,MAX(A6:A9)+1,0) -> 2 | B10: =PPK.HPS!B17 -> Pengukuran | E10: =PPK.HPS!F17 -> keg | F10: =PPK.HPS!G17 -> 1 | G10: =PPK.HPS!H17 -> 200000 | I10: =IF(B10<>"",MIN(G10:H10),0) -> 200000 | J10: =F10*I10 -> 200000
A11: =IF(B11<>0,MAX(A7:A10)+1,0) -> 3 | B11: =PPK.HPS!B18 -> Pembersihan Lokasi | E11: =PPK.HPS!F18 -> keg | F11: =PPK.HPS!G18 -> 1 | G11: =PPK.HPS!H18 -> 300000 | I11: =IF(B11<>"",MIN(G11:H11),0) -> 300000 | J11: =F11*I11 -> 300000
A12: =IF(B12<>0,MAX(A8:A11)+1,0) -> 0 | B12: =PPK.HPS!B19 -> 0 | E12: =PPK.HPS!F19 -> 0 | F12: =PPK.HPS!G19 -> 0 | G12: =PPK.HPS!H19 -> 0 | I12: =IF(B12<>"",MIN(G12:H12),0) -> 0 | J12: =F12*I12 -> 0
A13: =IF(B13<>0,MAX(A9:A12)+1,0) -> 4 | B13: =PPK.HPS!B20 -> SMK3 KONSTRUKSI | E13: =PPK.HPS!F20 -> 0 | F13: =PPK.HPS!G20 -> 0 | G13: =PPK.HPS!H20 -> 0 | I13: =IF(B13<>"",MIN(G13:H13),0) -> 0 | J13: =F13*I13 -> 0
A14: =IF(B14<>0,MAX(A10:A13)+1,0) -> 5 | B14: =PPK.HPS!B21 -> Alat Pelindung Kerja dan Alat Pelindung Diri | E14: =PPK.HPS!F21 -> set | F14: =PPK.HPS!G21 -> 5 | G14: =PPK.HPS!H21 -> 75000 | I14: =IF(B14<>"",MIN(G14:H14),0) -> 75000 | J14: =F14*I14 -> 375000
A15: =IF(B15<>0,MAX(A11:A14)+1,0) -> 0 | B15: =PPK.HPS!B22 -> 0 | E15: =PPK.HPS!F22 -> 0 | F15: =PPK.HPS!G22 -> 0 | G15: =PPK.HPS!H22 -> 0 | I15: =IF(B15<>"",MIN(G15:H15),0) -> 0 | J15: =F15*I15 -> 0
A16: =IF(B16<>0,MAX(A12:A15)+1,0) -> 6 | B16: =PPK.HPS!B23 -> PEKERJAAN PENGECATAN | E16: =PPK.HPS!F23 -> 0 | F16: =PPK.HPS!G23 -> 0 | G16: =PPK.HPS!H23 -> 0 | I16: =IF(B16<>"",MIN(G16:H16),0) -> 0 | J16: =F16*I16 -> 0
A17: =IF(B17<>0,MAX(A13:A16)+1,0) -> 7 | B17: =PPK.HPS!B24 -> Sewa stager | E17: =PPK.HPS!F24 -> keg | F17: =PPK.HPS!G24 -> 1 | G17: =PPK.HPS!H24 -> 4500000 | I17: =IF(B17<>"",MIN(G17:H17),0) -> 4500000 | J17: =F17*I17 -> 4500000
A18: =IF(B18<>0,MAX(A14:A17)+1,0) -> 8 | B18: =PPK.HPS!B25 -> Pengerokan cat yang terkelupas | E18: =PPK.HPS!F25 -> m2 | F18: =PPK.HPS!G25 -> 168.58 | G18: =PPK.HPS!H25 -> 19719.975 | I18: =IF(B18<>"",MIN(G18:H18),0) -> 19719.975 | J18: =F18*I18 -> 3324393.4
A19: =IF(B19<>0,MAX(A15:A18)+1,0) -> 9 | B19: =PPK.HPS!B26 -> Pengecatan ulang dinding luar | E19: =PPK.HPS!F26 -> m2 | F19: =PPK.HPS!G26 -> 842.91 | G19: =PPK.HPS!H26 -> 40683.291 | I19: =IF(B19<>"",MIN(G19:H19),0) -> 40683.291 | J19: =F19*I19 -> 34292353
A20: =IF(B20<>0,MAX(A16:A19)+1,0) -> 10 | B20: =PPK.HPS!B27 -> Pengecatan ACP dengan cat besi | E20: =PPK.HPS!F27 -> m2 | F20: =PPK.HPS!G27 -> 419 | G20: =PPK.HPS!H27 -> 47607.593 | I20: =IF(B20<>"",MIN(G20:H20),0) -> 47607.593 | J20: =F20*I20 -> 19947581
A21: =IF(B21<>0,MAX(A17:A20)+1,0) -> 0 | B21: =PPK.HPS!B28 -> 0 | E21: =PPK.HPS!F28 -> 0 | F21: =PPK.HPS!G28 -> 0 | G21: =PPK.HPS!H28 -> 0
A22: =IF(B22<>0,MAX(A18:A21)+1,0) -> 0 | B22: =PPK.HPS!B29 -> 0 | E22: =PPK.HPS!F29 -> 0 | F22: =PPK.HPS!G29 -> 0 | G22: =PPK.HPS!H29 -> 0 | I22: =IF(B22<>"",MIN(G22:H22),0) -> 0 | J22: =F22*I22 -> 0
A23: =IF(B23<>0,MAX(A19:A22)+1,0) -> 0 | B23: =PPK.HPS!B30 -> 0 | E23: =PPK.HPS!F30 -> 0 | F23: =PPK.HPS!G30 -> 0 | G23: =PPK.HPS!H30 -> 0 | I23: =IF(B23<>"",MIN(G23:H23),0) -> 0 | J23: =F23*I23 -> 0
A24: =IF(B24<>0,MAX(A20:A23)+1,0) -> 0 | B24: =PPK.HPS!B31 -> 0 | E24: =PPK.HPS!F31 -> 0 | F24: =PPK.HPS!G31 -> 0 | G24: =PPK.HPS!H31 -> 0 | I24: =IF(B24<>"",MIN(G24:H24),0) -> 0 | J24: =F24*I24 -> 0
A25: =IF(B25<>0,MAX(A21:A24)+1,0) -> 0 | B25: =PPK.HPS!B32 -> 0 | E25: =PPK.HPS!F32 -> 0 | F25: =PPK.HPS!G32 -> 0 | G25: =PPK.HPS!H32 -> 0 | I25: =IF(B25<>"",MIN(G25:H25),0) -> 0 | J25: =F25*I25 -> 0
A26: =IF(B26<>0,MAX(A22:A25)+1,0) -> 0 | B26: =PPK.HPS!B33 -> 0 | E26: =PPK.HPS!F33 -> 0 | F26: =PPK.HPS!G33 -> 0 | G26: =PPK.HPS!H33 -> 0 | I26: =IF(B26<>"",MIN(G26:H26),0) -> 0 | J26: =F26*I26 -> 0
A27: =IF(B27<>0,MAX(A23:A26)+1,0) -> 0 | B27: =PPK.HPS!B34 -> 0 | E27: =PPK.HPS!F34 -> 0 | F27: =PPK.HPS!G34 -> 0 | G27: =PPK.HPS!H34 -> 0 | I27: =IF(B27<>"",MIN(G27:H27),0) -> 0 | J27: =F27*I27 -> 0
A28: =IF(B28<>0,MAX(A24:A27)+1,0) -> 0 | B28: =PPK.HPS!B35 -> 0 | E28: =PPK.HPS!F35 -> 0 | F28: =PPK.HPS!G35 -> 0 | G28: =PPK.HPS!H35 -> 0 | I28: =IF(B28<>"",MIN(G28:H28),0) -> 0 | J28: =F28*I28 -> 0
A29: =IF(B29<>0,MAX(A25:A28)+1,0) -> 0 | B29: =PPK.HPS!B36 -> 0 | E29: =PPK.HPS!F36 -> 0 | F29: =PPK.HPS!G36 -> 0 | G29: =PPK.HPS!H36 -> 0 | I29: =IF(B29<>"",MIN(G29:H29),0) -> 0 | J29: =F29*I29 -> 0
A30: =IF(B30<>0,MAX(A26:A29)+1,0) -> 0 | B30: =PPK.HPS!B37 -> 0 | E30: =PPK.HPS!F37 -> 0 | F30: =PPK.HPS!G37 -> 0 | G30: =PPK.HPS!H37 -> 0
A31: =IF(B31<>0,MAX(A27:A30)+1,0) -> 0 | B31: =PPK.HPS!B38 -> 0 | E31: =PPK.HPS!F38 -> 0 | F31: =PPK.HPS!G38 -> 0 | G31: =PPK.HPS!H38 -> 0 | I31: =IF(B31<>"",MIN(G31:H31),0) -> 0 | J31: =F31*I31 -> 0
A32: =IF(B32<>0,MAX(A28:A31)+1,0) -> 0 | B32: =PPK.HPS!B39 -> 0 | E32: =PPK.HPS!F39 -> 0 | F32: =PPK.HPS!G39 -> 0 | G32: =PPK.HPS!H39 -> 0 | I32: =IF(B32<>"",MIN(G32:H32),0) -> 0 | J32: =F32*I32 -> 0
A33: =IF(B33<>0,MAX(A29:A32)+1,0) -> 0 | B33: =PPK.HPS!B40 -> 0 | E33: =PPK.HPS!F40 -> 0 | F33: =PPK.HPS!G40 -> 0 | G33: =PPK.HPS!H40 -> 0 | I33: =IF(B33<>"",MIN(G33:H33),0) -> 0 | J33: =F33*I33 -> 0
A34: =IF(B34<>0,MAX(A30:A33)+1,0) -> 0 | B34: =PPK.HPS!B41 -> 0 | E34: =PPK.HPS!F41 -> 0 | F34: =PPK.HPS!G41 -> 0 | G34: =PPK.HPS!H41 -> 0 | I34: =IF(B34<>"",MIN(G34:H34),0) -> 0 | J34: =F34*I34 -> 0
I35: Total | J35: =SUM(J9:J34) -> 62939328
I36: 0.11 | J36: =J35*I36 -> 6923326
I37: Total + PPN (Pembulatan) | J37: =ROUNDDOWN(J35+J36,-3) -> 69862000
A38: Terbilang | C38: : | D38: =Uang!A21 -> Enam Puluh Sembilan Juta Delapan Ratus Enam Puluh Dua Ribu Rupiah
A40: Harga tersebut di atas sudah termasuk pajak-pajak dan biaya pungutan resmi lainnya.
B42: =opd_nama -> Badan Pengelolaan Keuangan dan Aset Daerah | H42: =bu_nama -> PT. DARUSSALAM MEDIA GROUP
B47: =_pan1 -> Surmayanti Isnaini, S.IP | H47: =bu_pimn -> Saripudin
B48: =pokja -> Pejabat Pengadaan | H48: =bu_pim -> Direktur

Sheet PP.Srt2
D1: =UPPER(opd_pem) -> PEMERINTAH PROVINSI NUSA TENGGARA BARAT
D2: =UPPER(ukpbj) -> BADAN PENGELOLAAN KEUANGAN DAN ASET DAERAH
D3: =ukpbj_almt -> Jalan Pejanggik Nomor 14 Telp.( 0370 ) 627689, 625345 Fax: 627677
A6: BERITA ACARA KLARIFIKASI DAN NEGOSIASI TEKNIS DAN HARGA
A7: =paket -> Belanja Pemeliharaan Bangunan Gedung-Bangunan Gedung Tempat Kerja-Bangunan Gedung Kantor-Pemeliharaan Gedung Bertingkat
A8: =opd_nama -> Badan Pengelolaan Keuangan dan Aset Daerah
A9: ="Tahun Anggaran "&tahun -> Tahun Anggaran 2025
A10: ="Nomor: "&Input!D85 -> Nomor: 05/1/XII/Pj.P BPKAD/2025 | K10: balik ke input
A12: ="Pada hari ini, "&Input!$E$85&" tanggal "&TEXT(Input!$F$85,"[$-421]d mmmm yyyy")&", dengan mengambil tempat di "&tempat&", telah diadakan Klarifikasi Dan Negosiasi Teknis Dan Harga untuk paket tersebut di atas yang dihadiri oleh "&Input!D50&" dan "&bu_nama&" dengan hasil sebagai berikut :" -> Pada hari ini, Selasa tanggal 1 Agustus 2023, dengan mengambil tempat di Badan Pengelolaan Keuangan dan Aset Daerah, telah diadakan Klarifikasi Dan Negosiasi Teknis Dan Harga untuk paket tersebut di atas yang dihadiri oleh Pejabat Pengadaan dan PT. DARUSSALAM MEDIA GROUP dengan hasil sebagai berikut :
A17: 1. | B17: Lingkup kerja yang dibutuhkan oleh Pengguna Jasa telah dipahami dan dapat dipenuhi oleh peserta;
A18: 2. | B18: ="Harga hasil negosiasi sebesar Rp. "&TEXT(bu_hn,tiko1)&";" -> Harga hasil negosiasi sebesar Rp. 69,862,000;
A19: 3. | B19: Harga yang disepakati untuk pelaksanaan pekerjaan ini sudah termasuk pajak-pajak yang harus dibayar sesuai dengan ketentuan dan perundang-undangan yang berlaku;
A21: 4. | B21: Rincian hasil negosiasi harga terlampir.
A23: Demikian Berita Acara ini dibuat dengan penuh tanggung jawab, untuk dapat dipergunakan sebagaimana mestinya.
A25: No | B25: =pokja&" pada "&ukpbj -> Pejabat Pengadaan pada Badan Pengelolaan Keuangan dan Aset Daerah | G25: Tandatangan
A27: 1 | B27: =_pan1 -> Surmayanti Isnaini, S.IP | G27: 1.
A28: 2 | B28: =_pan2 -> 0 | G28: 2.
A29: 3 | B29: =_pan3 -> 0 | G29: 3.
A30: 4 | B30: =_pan4 -> 0 | G30: 4.
A31: 5 | B31: =_pan5 -> 0 | G31: 5.
A33: No | B33: =bu_nama -> PT. DARUSSALAM MEDIA GROUP | G33: Tandatangan
A35: 1 | B35: =bu_pimn&" ("&bu_pim&")" -> Saripudin (Direktur) | G35: 1.
A39: ="BERITA ACARA HASIL "&UPPER(met_pil) -> BERITA ACARA HASIL PENGADAAN LANGSUNG
A40: ="Nomor: "&Input!$D$86 -> Nomor: 06/1/XII/Pj.P BPKAD/2025 | K40: balik ke input
A42: Nama Pekerjaan | E42: : | F42: =paket -> Belanja Pemeliharaan Bangunan Gedung-Bangunan Gedung Tempat Kerja-Bangunan Gedung Kantor-Pemeliharaan Gedung Bertingkat
A44: K/L/PD | E44: : | F44: =opd_nama -> Badan Pengelolaan Keuangan dan Aset Daerah
A45: Sumber Dana | E45: : | F45: =dana -> DPA
A46: Tahun Anggaran | E46: : | F46: =tahun -> 2025
A47: HPS | E47: : | F47: =hps -> 69862000
A48: Jenis Kontrak | E48: : | F48: =hsls -> Lumsum
A49: Masa Pelaksanaan | E49: : | F49: =masa -> 30
A51: ="Pada hari ini, "&Input!E86&", "&Input!H86&", "&pokja&" yang bertanda tangan di bawah ini telah melaksanakan "&met_pil&" untuk Paket Pekerjaan di atas dengan hasil sebagai berikut:" -> Pada hari ini, Selasa, 1 Agustus 2023, Pejabat Pengadaan yang bertanda tangan di bawah ini telah melaksanakan Pengadaan Langsung untuk Paket Pekerjaan di atas dengan hasil sebagai berikut:
A53: 1 | B53: Peserta
B54: Nama | E54: : | F54: =bu_nama -> PT. DARUSSALAM MEDIA GROUP
B55: NPWP | E55: : | F55: =bu_npwp -> 03.990.125.5.8-911.000
B56: Alamat | E56: : | F56: =bu_almt -> JL Meninting 13 No.. 22C BTN Kekalik, Kel. Pagesangan Barat, Kota Mataram, Provinsi Nusa Tenggara Barat
B57: Harga Penawaran | E57: : | F57: =bu_hp -> 199999800
A59: 2 | B59: Unsur-unsur Yang Dievaluasi
B60: Administrasi | E60: : | F60: Memenuhi Syarat
B61: Teknis | E61: : | F61: Memenuhi Syarat
B62: Harga | E62: : | F62: Memenuhi Syarat
B63: Kualifikasi | E63: : | F63: Memenuhi Syarat
B64: Lembar kerja evaluasi terlampir
A66: 3 | B66: Klarifikasi Dan Negosiasi Teknis Dan Harga
B67: Klarifikasi Teknis | E67: : | F67: Memenuhi Syarat
B68: Harga Negosiasi | E68: : | F68: =bu_hn -> 69862000
A70: 4 | B70: ="Kesimpulan"&IF(Input!F240<>"(Tender Pertama)"," "&Input!F240,"") -> Kesimpulan
B71: ="Berdasarkan hasil evaluasi, "&pokja&" menyimpulkan bahwa peserta memenuhi syarat sebagai calon penyedia." -> Berdasarkan hasil evaluasi, Pejabat Pengadaan menyimpulkan bahwa peserta memenuhi syarat sebagai calon penyedia.
A74: ="Demikian Berita Acara Hasil "&met_pil&" ini dibuat dengan penuh rasa tanggung jawab untuk dipergunakan sebagaimana mestinya." -> Demikian Berita Acara Hasil Pengadaan Langsung ini dibuat dengan penuh rasa tanggung jawab untuk dipergunakan sebagaimana mestinya.
A77: No | B77: =pokja -> Pejabat Pengadaan | G77: Tandatangan
A79: 1 | B79: =_pan1 -> Surmayanti Isnaini, S.IP | G79: 1.
A80: 2 | B80: =_pan2 -> 0 | G80: 2.
A81: 3 | B81: =_pan3 -> 0 | G81: 3.
A82: 4 | B82: =_pan4 -> 0 | G82: 4.
A83: 5 | B83: =_pan5 -> 0 | G83: 5.
A87: PENETAPAN CALON PENYEDIA | K87: pengadaan langsung tidak perlu penetapan
A88: ="Nomor: "&Input!$D$87 -> Nomor: 07/1/XII/Pj.P BPKAD/2025
A90: Nama Pekerjaan | E90: : | F90: =paket -> Belanja Pemeliharaan Bangunan Gedung-Bangunan Gedung Tempat Kerja-Bangunan Gedung Kantor-Pemeliharaan Gedung Bertingkat
A92: K/L/PD | E92: : | F92: =opd_nama -> Badan Pengelolaan Keuangan dan Aset Daerah
A93: Sumber Dana | E93: : | F93: =dana -> DPA
A94: Tahun Anggaran | E94: : | F94: =tahun -> 2025
A95: HPS | E95: : | F95: =hps -> 69862000
A96: Jenis Kontrak | E96: : | F96: =hsls -> Lumsum
A97: Masa Pelaksanaan | E97: : | F97: =masa -> 30
A99: ="Pada hari ini "&Input!E87&", tanggal "&Input!H87&", dengan memperhatikan:" -> Pada hari ini Selasa, tanggal 1 Agustus 2023, dengan memperhatikan:
A101: 1. | B101: ketentuan-ketentuan dalam Peraturan Pengadaan Barang/Jasa;
A102: 2. | B102: ="Surat "&ppk_jab&" nomor "&Input!$D$76&" tanggal "&Input!H76&" perihal "&PPK.Srt1!D14&";" -> Surat Pejabat Pembuat Komitmen nomor 027.1/01.PPK/BPKAD/2025 tanggal 6 Oktober 2025 perihal Pengadaan Langsung Paket Belanja Pemeliharaan Bangunan Gedung-Bangunan Gedung Tempat Kerja-Bangunan Gedung Kantor-Pemeliharaan Gedung Bertingkat;
A104: 2. | B104: ="Berita Acara Hasil "&met_pil&" nomor "&Input!$D$86&" tanggal "&Input!H86&" untuk pekerjaan tersebut di atas." -> Berita Acara Hasil Pengadaan Langsung nomor 06/1/XII/Pj.P BPKAD/2025 tanggal 1 Agustus 2023 untuk pekerjaan tersebut di atas.
A107: ditetapkan calon penyedia sebagai berikut:
B109: Nama | E109: : | F109: =bu_nama -> PT. DARUSSALAM MEDIA GROUP
B110: NPWP | E110: : | F110: =bu_npwp -> 03.990.125.5.8-911.000
B111: Alamat | E111: : | F111: =bu_almt -> JL Meninting 13 No.. 22C BTN Kekalik, Kel. Pagesangan Barat, Kota Mataram, Provinsi Nusa Tenggara Barat
B112: Harga Penawaran | E112: : | F112: =bu_hp -> 199999800
B113: Harga Negosiasi | E113: : | F113: =bu_hn -> 69862000
F114: ="("&bu_hn2&")" -> (Enam Puluh Sembilan Juta Delapan Ratus Enam Puluh Dua Ribu Rupiah)
A116: Demikian untuk menjadi perhatian.
A118: No | B118: =pokja -> Pejabat Pengadaan | G118: Tandatangan
A120: 1 | B120: =_pan1 -> Surmayanti Isnaini, S.IP | G120: 1.
A121: 2 | B121: =_pan2 -> 0 | G121: 2.
A122: 3 | B122: =_pan3 -> 0 | G122: 3.
A123: 4 | B123: =_pan4 -> 0 | G123: 4.
A124: 5 | B124: =_pan5 -> 0 | G124: 5.
A128: PENGUMUMAN PENETAPAN CALON PENYEDIA | K128: pengadaan langsung tidak perlu pengumuman
A129: ="Nomor: "&Input!$D$89 -> Nomor: 09/1/XII/Pj.P BPKAD/2025
A131: Nama Pekerjaan | E131: : | F131: =paket -> Belanja Pemeliharaan Bangunan Gedung-Bangunan Gedung Tempat Kerja-Bangunan Gedung Kantor-Pemeliharaan Gedung Bertingkat
A133: K/L/PD | E133: : | F133: =opd_nama -> Badan Pengelolaan Keuangan dan Aset Daerah
A134: Sumber Dana | E134: : | F134: =dana -> DPA
A135: Tahun Anggaran | E135: : | F135: =tahun -> 2025
A136: HPS | E136: : | F136: =hps -> 69862000
A137: Jenis Kontrak | E137: : | F137: =hsls -> Lumsum
A138: Masa Pelaksanaan | E138: : | F138: =masa -> 30
A140: Bersama ini diumumkan calon penyedia untuk paket pekerjaan tersebut di atas sebagai berikut:
B142: Nama | E142: : | F142: =bu_nama -> PT. DARUSSALAM MEDIA GROUP
B143: NPWP | E143: : | F143: =bu_npwp -> 03.990.125.5.8-911.000
B144: Alamat | E144: : | F144: =bu_almt -> JL Meninting 13 No.. 22C BTN Kekalik, Kel. Pagesangan Barat, Kota Mataram, Provinsi Nusa Tenggara Barat
B145: Harga Penawaran | E145: : | F145: =bu_hp -> 199999800
B146: Harga Negosiasi | E146: : | F146: =bu_hn -> 69862000
F147: ="("&bu_hn2&")" -> (Enam Puluh Sembilan Juta Delapan Ratus Enam Puluh Dua Ribu Rupiah)
A149: Demikian untuk menjadi perhatian.
H151: ="Mataram, "&Input!H88 -> Mataram, 1 Agustus 2023
...

Sheet PPK.B
D1: =UPPER(opd_pem) -> PEMERINTAH PROVINSI NUSA TENGGARA BARAT
D2: =UPPER(ukpbj) -> BADAN PENGELOLAAN KEUANGAN DAN ASET DAERAH
D3: =opd_almt -> Jalan Pejanggik Nomor 14 Telp.( 0370 ) 627689, 625345 Fax: 627677
K5: =ppk_lok&", "&TEXT(Input!$F$90,"[$-421]d mmmm yyyy") -> Mataram, 3 Agustus 2023
A6: Nomor | C6: : | D6: =Input!D90 -> 027.1/02.PPK/BPKAD/2025 | L6: balik ke input
A7: Lampiran | C7: : | D7: 1 (satu) Gabung
A9: Kepada Yth.
A10: =bu_pim&" "&bu_nama -> Direktur PT. DARUSSALAM MEDIA GROUP
A11: di -
D12: =bu_lok -> Mataram
A14: Perihal | C14: : | D14: ="Penunjukan Penyedia Untuk Pelaksanaan Paket Pekerjaan "&paket -> Penunjukan Penyedia Untuk Pelaksanaan Paket Pekerjaan Belanja Pemeliharaan Bangunan Gedung-Bangunan Gedung Tempat Kerja-Bangunan Gedung Kantor-Pemeliharaan Gedung Bertingkat
D17: ="Dengan ini kami beritahukan bahwa penawaran Saudara nomor "&Input!$D$82&" tanggal "&TEXT(Input!$F$82,"[$-421]d mmmm yyyy")&" untuk paket pekerjaan "&paket&" dengan hasil negosiasi harga sebesar Rp. "&TEXT(bu_hn,tiko1)&" ("&bu_hn2&") kami nyatakan diterima/disetujui." -> Dengan ini kami beritahukan bahwa penawaran Saudara nomor 02/DMG/VI/2025 tanggal 1 Agustus 2023 untuk paket pekerjaan Belanja Pemeliharaan Bangunan Gedung-Bangunan Gedung Tempat Kerja-Bangunan Gedung Kantor-Pemeliharaan Gedung Bertingkat dengan hasil negosiasi harga sebesar Rp. 69,862,000 (Enam Puluh Sembilan Juta Delapan Ratus Enam Puluh Dua Ribu Rupiah) kami nyatakan diterima/disetujui.
D22: ="Sebagai tindak lanjut dari Surat Penunjukan Penyedia Barang/Jasa (SPPBJ) ini Saudara diharuskan menandatangani SPK paling lambat 14 (empat belas) hari kerja setelah diterbitkannya SPPBJ."&" Kegagalan Saudara untuk menerima penunjukan ini yang disusun berdasarkan evaluasi terhadap penawaran Saudara, akan dikenakan sanksi sesuai ketentuan dalam "&aturan&"." -> Sebagai tindak lanjut dari Surat Penunjukan Penyedia Barang/Jasa (SPPBJ) ini Saudara diharuskan menandatangani SPK paling lambat 14 (empat belas) hari kerja setelah diterbitkannya SPPBJ. Kegagalan Saudara untuk menerima penunjukan ini yang disusun berdasarkan evaluasi terhadap penawaran Saudara, akan dikenakan sanksi sesuai ketentuan dalam Peraturan Presiden Republik Indonesia Nomor 46 Tahun 2025 beserta perubahan dan petunjuk teknisnya..
I29: =ppk_jab -> Pejabat Pembuat Komitmen
I33: =ppk_nama -> Ika Kurnia Mustika, ST, MT
I34: ="NIP. "&ppk_nip -> NIP. 19791117 200901 1 006
A36: Tembusan disampaikan kepada Yth:
A37: ="1. "&pa_jab&" di "&pa_lok&";" -> 1. Kepala Badan Pengelolaan Keuangan dan Aset Daerah di Mataram;
A38: ="2. "&apip&" di "&apip_lok&";" -> 2. Inspektur Provinsi NTB di Mataram;
A39: ="3. "&pokja&" Pada "&ukpbj&" di "&pp_lok&";" -> 3. Pejabat Pengadaan Pada Badan Pengelolaan Keuangan dan Aset Daerah di Mataram;
A40: 4. Pertinggal.
A43: SURAT PERINTAH PENGIRIMAN (SPP) | L43: untuk barang
A44: =paket -> Belanja Pemeliharaan Bangunan Gedung-Bangunan Gedung Tempat Kerja-Bangunan Gedung Kantor-Pemeliharaan Gedung Bertingkat | L44: balik ke input
A45: ="Nomor: "&Input!$D$92 -> Nomor: 027.3/17 /SPP/BPKAD/2024
A47: Yang bertandatangan di bawah ini:
A49: Nama | C49: : | D49: =ppk_nama -> Ika Kurnia Mustika, ST, MT
A50: Jabatan | C50: : | D50: =ppk_jab -> Pejabat Pembuat Komitmen
A51: Alamat | C51: : | D51: =opd_almt -> Jalan Pejanggik Nomor 14 Telp.( 0370 ) 627689, 625345 Fax: 627677
A52: ="selanjutnya disebut sebagai Pejabat Penandatangan Kontrak;" -> selanjutnya disebut sebagai Pejabat Penandatangan Kontrak;
A54: ="berdasarkan "&kontrak_bentuk&" "&paket&" pada "&opd_nama&" nomor "&Input!$D$91&" tanggal "&TEXT(Input!$F$91,"[$-421]d mmmm yyyy")&", bersama ini memerintahkan:" -> berdasarkan Surat Perjanjian Kerja Belanja Pemeliharaan Bangunan Gedung-Bangunan Gedung Tempat Kerja-Bangunan Gedung Kantor-Pemeliharaan Gedung Bertingkat pada Badan Pengelolaan Keuangan dan Aset Daerah nomor 027.1/1/SPK/BPKAD/2025 tanggal 3 Agustus 2023, bersama ini memerintahkan:
A57: Perusahaan | C57: : | D57: =bu_nama -> PT. DARUSSALAM MEDIA GROUP
A58: Alamat | C58: : | D58: =bu_almt -> JL Meninting 13 No.. 22C BTN Kekalik, Kel. Pagesangan Barat, Kota Mataram, Provinsi Nusa Tenggara Barat
A60: ="yang dalam hal ini diwakili oleh "&bu_pimn&" selanjutnya disebut sebagai Penyedia;" -> yang dalam hal ini diwakili oleh Saripudin selanjutnya disebut sebagai Penyedia;
A61: untuk mengirimkan barang dengan memperhatikan ketentuan-ketentuan sebagai berikut:
A63: 1. | B63: ="Rincian "&IF(jenis="Barang","Barang","Pekerjaan")&":" -> Rincian Pekerjaan:
B64: No | C64: Deskripsi Item/Pekerjaan | H64: Satuan | I64: Kuantitas | J64: Harga Satuan (Rp) | K64: Total Harga (Rp)
B65: 1 | C65: =PPK.HPS!B16 -> PEKERJAAN PERSIAPAN | H65: =PPK.HPS!F16 -> 0 | I65: =PPK.HPS!G16 -> 0 | J65: =Nego!I$9 -> 0 | K65: =I65*J65 -> 0
B66: =IF(AND(B65<>0,D66<>0),B65+1,"") | C66: =PPK.HPS!B17 -> Pengukuran | H66: =PPK.HPS!F17 -> keg | I66: =PPK.HPS!G17 -> 1 | J66: =Nego!I10 -> 200000 | K66: =I66*J66 -> 200000
B67: =IF(AND(B66<>0,D67<>0),B66+1,"") | C67: =PPK.HPS!B18 -> Pembersihan Lokasi | H67: =PPK.HPS!F18 -> keg | I67: =PPK.HPS!G18 -> 1 | J67: =Nego!I11 -> 300000 | K67: =I67*J67 -> 300000
B68: =IF(AND(B67<>0,D68<>0),B67+1,"") | C68: =PPK.HPS!B19 -> 0 | H68: =PPK.HPS!F19 -> 0 | I68: =PPK.HPS!G19 -> 0 | J68: =Nego!I12 -> 0 | K68: =I68*J68 -> 0
B69: =IF(AND(B68<>0,D69<>0),B68+1,"") | C69: =PPK.HPS!B20 -> SMK3 KONSTRUKSI | H69: =PPK.HPS!F20 -> 0 | I69: =PPK.HPS!G20 -> 0 | J69: =Nego!I13 -> 0 | K69: =I69*J69 -> 0
B70: =IF(AND(B69<>0,D70<>0),B69+1,"") | C70: =PPK.HPS!B21 -> Alat Pelindung Kerja dan Alat Pelindung Diri | H70: =PPK.HPS!F21 -> set | I70: =PPK.HPS!G21 -> 5 | J70: =Nego!I14 -> 75000 | K70: =I70*J70 -> 375000
B71: =IF(AND(B70<>0,D71<>0),B70+1,"") | C71: =PPK.HPS!B22 -> 0 | H71: =PPK.HPS!F22 -> 0 | I71: =PPK.HPS!G22 -> 0 | J71: =Nego!I15 -> 0 | K71: =I71*J71 -> 0
B72: =IF(AND(B71<>0,D72<>0),B71+1,"") | C72: =PPK.HPS!B23 -> PEKERJAAN PENGECATAN | H72: =PPK.HPS!F23 -> 0 | I72: =PPK.HPS!G23 -> 0 | J72: =Nego!I16 -> 0 | K72: =I72*J72 -> 0
B73: =IF(AND(B72<>0,D73<>0),B72+1,"") | C73: =PPK.HPS!B24 -> Sewa stager | H73: =PPK.HPS!F24 -> keg | I73: =PPK.HPS!G24 -> 1 | J73: =Nego!I17 -> 4500000 | K73: =I73*J73 -> 4500000
B74: =IF(AND(B73<>0,D74<>0),B73+1,"") | C74: =PPK.HPS!B25 -> Pengerokan cat yang terkelupas | H74: =PPK.HPS!F25 -> m2 | I74: =PPK.HPS!G25 -> 168.58 | J74: =Nego!I18 -> 19719.975 | K74: =I74*J74 -> 3324393.4
B75: =IF(AND(B74<>0,D75<>0),B74+1,"") | C75: =PPK.HPS!B26 -> Pengecatan ulang dinding luar | H75: =PPK.HPS!F26 -> m2 | I75: =PPK.HPS!G26 -> 842.91 | J75: =Nego!I19 -> 40683.291 | K75: =I75*J75 -> 34292353
B76: =IF(AND(B75<>0,D76<>0),B75+1,"") | C76: =PPK.HPS!B27 -> Pengecatan ACP dengan cat besi | H76: =PPK.HPS!F27 -> m2 | I76: =PPK.HPS!G27 -> 419 | J76: =Nego!I20 -> 47607.593 | K76: =I76*J76 -> 19947581
B77: =IF(AND(B76<>0,D77<>0),B76+1,"") | C77: =PPK.HPS!B28 -> 0 | H77: =PPK.HPS!F28 -> 0 | I77: =PPK.HPS!G28 -> 0 | J77: =Nego!I21 -> 0 | K77: =I77*J77 -> 0
... B81: =IF(AND(B80<>0,D81<>0),B80+1,"") | C81: =PPK.HPS!B32 -> 0 | H81: =PPK.HPS!F32 -> 0 | I81: =PPK.HPS!G32 -> 0 | J81: =Nego!I25 -> 0 | K81: =I81*J81 -> 0
C82: =PPK.HPS!B33 -> 0 | H82: =PPK.HPS!F33 -> 0 | I82: =PPK.HPS!G33 -> 0 | J82: =Nego!I26 -> 0 | K82: =I82*J82 -> 0
C83: =PPK.HPS!B34 -> 0 | H83: =PPK.HPS!F34 -> 0 | I83: =PPK.HPS!G34 -> 0 | J83: =Nego!I27 -> 0 | K83: =I83*J83 -> 0
C84: =PPK.HPS!B35 -> 0 | H84: =PPK.HPS!F35 -> 0 | I84: =PPK.HPS!G35 -> 0 | J84: =Nego!I28 -> 0 | K84: =I84*J84 -> 0
C85: =PPK.HPS!B36 -> 0 | H85: =PPK.HPS!F36 -> 0 | I85: =PPK.HPS!G36 -> 0 | J85: =Nego!I29 -> 0 | K85: =I85*J85 -> 0
C86: =PPK.HPS!B37 -> 0 | H86: =PPK.HPS!F37 -> 0 | I86: =PPK.HPS!G37 -> 0 | J86: =Nego!I30 -> 0 | K86: =I86*J86 -> 0
C87: =PPK.HPS!B38 -> 0 | H87: =PPK.HPS!F38 -> 0 | I87: =PPK.HPS!G38 -> 0 | J87: =Nego!I31 -> 0 | K87: =I87*J87 -> 0
B88: =IF(AND(B81<>0,D88<>0),B81+1,"") | C88: =PPK.HPS!B39 -> 0 | H88: =PPK.HPS!F39 -> 0 | I88: =PPK.HPS!G39 -> 0 | J88: =Nego!I32 -> 0 | K88: =I88*J88 -> 0
B89: =IF(AND(B88<>0,D89<>0),B88+1,"") | J89: Total | K89: =SUM(K65:K88) -> 62939328
B90: =IF(AND(B89<>0,D90<>0),B89+1,"") | J90: 0.11 | K90: =K89*J90 -> 6923326
B91: =IF(AND(B90<>0,D91<>0),B90+1,"") | J91: Total + PPN (Pembulatan) | K91: =ROUNDDOWN(K89+K90,-3) -> 69862000
B92: Ket | C92: : | D92: =PPK.HPS!A48 -> Harga tersebut di atas sudah termasuk pajak-pajak dan biaya pungutan resmi lainnya.
A94: 2. | B94: Tanggal barang diterima | E94: : | F94: =TEXT(Input!$F$94,"[$-421]d mmmm yyyy")&";" -> 2 September 2023;
A95: 3. | B95: Syarat-syarat pekerjaan | E95: : | F95: ="sesuai dengan persyaratan dan ketentuan "&Input!E15&"" -> sesuai dengan persyaratan dan ketentuan SPK
A96: 4. | B96: Waktu penyelesaian | E96: : | F96: ="selama "&masa&" ("&Input!$E$16&") hari kalender dan pekerjaan harus sudah selesai pada tanggal "&TEXT(Input!$F$93,"[$-421]d mmmm yyyy") -> selama 30 (tiga puluh) hari kalender dan pekerjaan harus sudah selesai pada tanggal 2 September 2023
A98: 5. | B98: Alamat pengiriman | E98: : | F98: =Input!$D$18 -> Kantor Badan Pengelolaan Keuangan dan Aset Daerah Jalan Pejanggik Nomor 14 Telp.( 0370 ) 627689, 625345 Fax: 627677
A100: 6. | B100: Denda | E100: : | F100: ="Terhadap setiap hari keterlambatan penyelesaian pekerjaan Penyedia Jasa akan dikenakan Denda Keterlambatan sebesar 1/1000 (satu permil) dari nilai "&Input!E15&" (tidak termasuk PPN)." -> Terhadap setiap hari keterlambatan penyelesaian pekerjaan Penyedia Jasa akan dikenakan Denda Keterlambatan sebesar 1/1000 (satu permil) dari nilai SPK (tidak termasuk PPN).
I104: =ppk_lok&", "&TEXT(Input!$F$92,"[$-421]d mmmm yyyy") -> Mataram, 3 Agustus 2023
D105: Menerima dan menyetujui: | I105: Untuk dan atas nama
D106: Untuk dan atas nama | I106: =opd_nama -> Badan Pengelolaan Keuangan dan Aset Daerah
D107: =bu_nama -> PT. DARUSSALAM MEDIA GROUP | I107: Pejabat Penandatangan Kontrak
D111: =bu_pimn -> Saripudin | I111: =ppk_nama -> Ika Kurnia Mustika, ST, MT
D112: =bu_pim -> Direktur | I112: ="NIP. "&ppk_nip -> NIP. 19791117 200901 1 006
A114: BERITA ACARA HASIL PEMERIKSAAN
A115: =paket -> Belanja Pemeliharaan Bangunan Gedung-Bangunan Gedung Tempat Kerja-Bangunan Gedung Kantor-Pemeliharaan Gedung Bertingkat
A116: ="Nomor: "&Input!$D$102 -> Nomor: 027/BAHP/A/IX/68/2023 | L116: balik ke input
A118: ="Pada hari ini, "&Input!$E$102&", tanggal "&TEXT(Input!$F$102,"[$-421]d mmmm yyyy")&", kami yang bertandatangan di bawah ini:" -> Pada hari ini, Sabtu, tanggal 2 September 2023, kami yang bertandatangan di bawah ini:
A120: Nama | C120: : | D120: =ppk_nama -> Ika Kurnia Mustika, ST, MT
A121: NIP | C121: : | D121: =ppk_nip -> 19791117 200901 1 006
A122: Jabatan | C122: : | D122: =ppk_jab -> Pejabat Pembuat Komitmen
A123: Alamat | C123: : | D123: =opd_almt -> Jalan Pejanggik Nomor 14 Telp.( 0370 ) 627689, 625345 Fax: 627677
A125: ="yang bertindak untuk dan atas nama "&opd_nama&";" -> yang bertindak untuk dan atas nama Badan Pengelolaan Keuangan dan Aset Daerah;
A126: Selanjutnya disebut "Pejabat Penandatangan Kontrak".
A128: Nama | C128: : | D128: =bu_pimn -> Saripudin
A129: Jabatan | C129: : | D129: =bu_pim -> Direktur
A130: Alamat | C130: : | D130: =bu_almt -> JL Meninting 13 No.. 22C BTN Kekalik, Kel. Pagesangan Barat, Kota Mataram, Provinsi Nusa Tenggara Barat
A132: ="yang bertindak untuk dan atas nama "&bu_nama&";" -> yang bertindak untuk dan atas nama PT. DARUSSALAM MEDIA GROUP;
A133: Selanjutnya disebut "Penyedia".
A135: ="Penyedia telah menyelesaikan pekerjaan dari PPK yaitu paket pekerjaan "&paket&" sesuai Surat Perintah Kerja (SPK) nomor "&Input!$D$91&" tanggal "&TEXT(Input!$F$91,"[$-421]d mmmm yyyy")&" sebagai berikut:" -> Penyedia telah menyelesaikan pekerjaan dari PPK yaitu paket pekerjaan Belanja Pemeliharaan Bangunan Gedung-Bangunan Gedung Tempat Kerja-Bangunan Gedung Kantor-Pemeliharaan Gedung Bertingkat sesuai Surat Perintah Kerja (SPK) nomor 027.1/1/SPK/BPKAD/2025 tanggal 3 Agustus 2023 sebagai berikut:
B139: No | C139: Deskripsi Item/Pekerjaan | H139: Satuan | I139: Kuantitas | J139: Hasil Pemeriksaan
B140: 1 | C140: =C65 -> PEKERJAAN PERSIAPAN | H140: =H65 -> 0 | I140: =I65 -> 0 | J140: Terpasang 100% dan telah diujicoba
B141: =IF(AND(B140<>0,D141<>0),B140+1,"") | C141: =C66 -> Pengukuran | H141: =H66 -> keg | I141: =I66 -> 1
B142: =IF(AND(B141<>0,D142<>0),B141+1,"") | C142: =C67 -> Pembersihan Lokasi | H142: =H67 -> keg | I142: =I67 -> 1
B143: =IF(AND(B142<>0,D143<>0),B142+1,"") | C143: =C68 -> 0 | H143: =H68 -> 0 | I143: =I68 -> 0
B144: =IF(AND(B143<>0,D144<>0),B143+1,"") | C144: =C69 -> SMK3 KONSTRUKSI | H144: =H69 -> 0 | I144: =I69 -> 0
B145: =IF(AND(B144<>0,D145<>0),B144+1,"") | C145: =C70 -> Alat Pelindung Kerja dan Alat Pelindung Diri | H145: =H70 -> set | I145: =I70 -> 5
B146: =IF(AND(B145<>0,D146<>0),B145+1,"") | C146: =C71 -> 0 | H146: =H71 -> 0 | I146: =I71 -> 0
B147: =IF(AND(B146<>0,D147<>0),B146+1,"") | C147: =C72 -> PEKERJAAN PENGECATAN | H147: =H72 -> 0 | I147: =I72 -> 0
B148: =IF(AND(B147<>0,D148<>0),B147+1,"") | C148: =C73 -> Sewa stager | H148: =H73 -> keg | I148: =I73 -> 1
B149: =IF(AND(B148<>0,D149<>0),B148+1,"") | C149: =C74 -> Pengerokan cat yang terkelupas | H149: =H74 -> m2 | I149: =I74 -> 168.58
B150: =IF(AND(B149<>0,D150<>0),B149+1,"") | C150: =C75 -> Pengecatan ulang dinding luar | H150: =H75 -> m2 | I150: =I75 -> 842.91
...

Sheet PPK.PK
D1: =UPPER(opd_pem) -> PEMERINTAH PROVINSI NUSA TENGGARA BARAT
D2: =UPPER(opd_nama) -> BADAN PENGELOLAAN KEUANGAN DAN ASET DAERAH
D3: =opd_almt -> Jalan Pejanggik Nomor 14 Telp.( 0370 ) 627689, 625345 Fax: 627677
K5: =ppk_lok&", "&Input!$H$90 -> Mataram, 3 Agustus 2023
A6: Nomor | C6: : | D6: =Input!D90 -> 027.1/02.PPK/BPKAD/2025 | L6: balik ke input
A7: Lampiran | C7: : | D7: 1 (satu) Gabung
A9: Kepada Yth.
A10: =bu_pim&" "&bu_nama -> Direktur PT. DARUSSALAM MEDIA GROUP
A11: di -
D12: =bu_lok -> Mataram
A14: Perihal | C14: : | D14: ="Penunjukan Penyedia Untuk Pelaksanaan Paket Pekerjaan "&paket -> Penunjukan Penyedia Untuk Pelaksanaan Paket Pekerjaan Belanja Pemeliharaan Bangunan Gedung-Bangunan Gedung Tempat Kerja-Bangunan Gedung Kantor-Pemeliharaan Gedung Bertingkat
D17: ="Dengan ini kami beritahukan bahwa penawaran Saudara nomor "&Input!$D$82&" tanggal "&Input!$H$82&" untuk paket pekerjaan "&paket&" dengan hasil negosiasi harga sebesar Rp. "&TEXT(bu_hn,tiko1)&" ("&bu_hn2&") kami nyatakan diterima/disetujui." -> Dengan ini kami beritahukan bahwa penawaran Saudara nomor 02/DMG/VI/2025 tanggal 1 Agustus 2023 untuk paket pekerjaan Belanja Pemeliharaan Bangunan Gedung-Bangunan Gedung Tempat Kerja-Bangunan Gedung Kantor-Pemeliharaan Gedung Bertingkat dengan hasil negosiasi harga sebesar Rp. 69,862,000 (Enam Puluh Sembilan Juta Delapan Ratus Enam Puluh Dua Ribu Rupiah) kami nyatakan diterima/disetujui.
D22: Sebagai tindak lanjut dari Surat Penunjukan Penyedia Barang/Jasa (SPPBJ) ini Saudara diharuskan menandatangani SPK paling lambat 14 (empat belas) hari kerja setelah diterbitkannya SPPBJ. Kegagalan Saudara untuk menerima penunjukan ini yang disusun berdasarkan evaluasi terhadap penawaran Saudara, akan dikenakan sanksi sesuai ketentuan dalam Peraturan Presiden No. 16 Tahun 2018 tentang Pengadaan Barang/Jasa beserta petunjuk teknisnya.
I29: =ppk_jab -> Pejabat Pembuat Komitmen
I33: =ppk_nama -> Ika Kurnia Mustika, ST, MT
I34: ="NIP. "&ppk_nip -> NIP. 19791117 200901 1 006
A36: Tembusan disampaikan kepada Yth:
A37: ="1. "&pa_jab&" di "&pa_lok&";" -> 1. Kepala Badan Pengelolaan Keuangan dan Aset Daerah di Mataram;
A38: ="2. "&apip&" di "&apip_lok&";" -> 2. Inspektur Provinsi NTB di Mataram;
A39: ="3. "&pokja&" Pada "&ukpbj&" di "&pp_lok&";" -> 3. Pejabat Pengadaan Pada Badan Pengelolaan Keuangan dan Aset Daerah di Mataram;
A40: 4. Pertinggal.
A42: BERITA ACARA PENYERAHAN LOKASI PEKERJAAN
A43: ="Nomor: "&Input!$D$96 -> Nomor: 027/BASL/A/VIII/44/2023 | L43: balik ke input
A45: ="Pada hari ini, "&Input!$E$96&", tanggal "&Input!$H$96&", kami yang bertandatangan di bawah ini:" -> Pada hari ini, Kamis, tanggal 3 Agustus 2023, kami yang bertandatangan di bawah ini:
A47: Nama | C47: : | D47: =ppk_nama -> Ika Kurnia Mustika, ST, MT
A48: NIP | C48: : | D48: =ppk_nip -> 19791117 200901 1 006
A49: Jabatan | C49: : | D49: =ppk_jab -> Pejabat Pembuat Komitmen
A50: Alamat | C50: : | D50: =opd_almt -> Jalan Pejanggik Nomor 14 Telp.( 0370 ) 627689, 625345 Fax: 627677
A52: ="yang bertindak untuk dan atas nama "&opd_nama&";" -> yang bertindak untuk dan atas nama Badan Pengelolaan Keuangan dan Aset Daerah;
A53: Selanjutnya disebut "Pejabat Penandatangan Kontrak".
A55: Nama | C55: : | D55: =bu_pimn -> Saripudin
A56: Jabatan | C56: : | D56: =bu_pim -> Direktur
A57: Alamat | C57: : | D57: =bu_almt -> JL Meninting 13 No.. 22C BTN Kekalik, Kel. Pagesangan Barat, Kota Mataram, Provinsi Nusa Tenggara Barat
A59: ="yang bertindak untuk dan atas nama "&bu_nama&";" -> yang bertindak untuk dan atas nama PT. DARUSSALAM MEDIA GROUP;
A60: Selanjutnya disebut "Penyedia".
A62: ="Berdasarkan Surat Perintah Kerja (SPK) nomor "&Input!$D$91&", tanggal "&Input!$H$91&" Pekerjaan "&paket&", dengan ini Pejabat Penandatangan Kontrak dan Penyedia menyetujui semua ketentuan-ketentuan sebagai berikut:" -> Berdasarkan Surat Perintah Kerja (SPK) nomor 027.1/1/SPK/BPKAD/2025, tanggal 3 Agustus 2023 Pekerjaan Belanja Pemeliharaan Bangunan Gedung-Bangunan Gedung Tempat Kerja-Bangunan Gedung Kantor-Pemeliharaan Gedung Bertingkat, dengan ini Pejabat Penandatangan Kontrak dan Penyedia menyetujui semua ketentuan-ketentuan sebagai berikut:
A65: 1. | B65: ="PPK menyerahkan kepada Penyedia dan penyedia menerima dengan baik dari PPK lokasi pekerjaan "&paket&";" -> PPK menyerahkan kepada Penyedia dan penyedia menerima dengan baik dari PPK lokasi pekerjaan Belanja Pemeliharaan Bangunan Gedung-Bangunan Gedung Tempat Kerja-Bangunan Gedung Kantor-Pemeliharaan Gedung Bertingkat;
A67: 2. | B67: Tanggung jawab pelaksanaan dan pemeliharaan pekerjaan sebagaimana tersebut dalam pasal 1 yang semula adalah tanggung jawab PPK, maka sejak ditandatangani Berita Acara Penyerahan Lokasi Kerja ini menjadi tanggung jawab Penyedia, baik biaya maupun pelaksanaannya;
A70: 3. | B70: Penyerahan Lapangan ini berlaku mulai tanggal ditandatangani, sampai dengan diserahkan kembali melalui Berita Acara Penyerahan Lokasi Kerja ini dibuat dengan sebenarnya untuk dapat digunakan sebagaimana mestinya dengan ketentuan bahwa apabila dikemudian hari ternyata terdapat kekeliruan dalam Berita Acara ini akan diubah dan diperbaiki sebagaimana mestinya.
A75: Demikian Berita Acara ini dibuat dengan sebenarnya agar dapat dipergunakan sebagaimana mestinya.
D77: Yang menerima, | I77: Yang menyerahkan,
D78: Penyedia | I78: Pejabat Penandatangan Kontrak
D82: =bu_pimn -> Saripudin | I82: =ppk_nama -> Ika Kurnia Mustika, ST, MT
D83: =bu_pim&" "&bu_nama -> Direktur PT. DARUSSALAM MEDIA GROUP | I83: ="NIP. "&ppk_nip -> NIP. 19791117 200901 1 006
A86: SURAT PERINTAH MULAI KERJA (SPMK) | L86: untuk konstruksi
A87: ="Nomor: "&Input!$D$97 -> Nomor: 027/SPMK/A/VIII/45/2023
A89: Yang bertandatangan di bawah ini: | L89: balik ke input
A91: Nama | C91: : | D91: =ppk_nama -> Ika Kurnia Mustika, ST, MT
A92: Jabatan | C92: : | D92: =ppk_jab -> Pejabat Pembuat Komitmen
A93: Alamat | C93: : | D93: =opd_almt -> Jalan Pejanggik Nomor 14 Telp.( 0370 ) 627689, 625345 Fax: 627677
A94: ="selanjutnya disebut sebagai Pejabat Penandatangan Kontrak;" -> selanjutnya disebut sebagai Pejabat Penandatangan Kontrak;
A96: ="berdasarkan SPK "&paket&" pada "&opd_nama&" nomor "&Input!$D$91&" tanggal "&Input!$H$91&", bersama ini memerintahkan:" -> berdasarkan SPK Belanja Pemeliharaan Bangunan Gedung-Bangunan Gedung Tempat Kerja-Bangunan Gedung Kantor-Pemeliharaan Gedung Bertingkat pada Badan Pengelolaan Keuangan dan Aset Daerah nomor 027.1/1/SPK/BPKAD/2025 tanggal 3 Agustus 2023, bersama ini memerintahkan:
A99: Perusahaan | C99: : | D99: =bu_nama -> PT. DARUSSALAM MEDIA GROUP
A100: NPWP | C100: : | D100: =bu_npwp -> 03.990.125.5.8-911.000
A101: Alamat | C101: : | D101: =bu_almt -> JL Meninting 13 No.. 22C BTN Kekalik, Kel. Pagesangan Barat, Kota Mataram, Provinsi Nusa Tenggara Barat
A103: ="yang dalam hal ini diwakili oleh "&bu_pimn&" selanjutnya disebut sebagai Penyedia;" -> yang dalam hal ini diwakili oleh Saripudin selanjutnya disebut sebagai Penyedia;
A104: untuk mengirimkan barang dengan memperhatikan ketentuan-ketentuan sebagai berikut:
A106: 1. | B106: Macam Pekerjaan | E106: : | F106: =PPK.Spek!B15 -> Router | L106: ="unhide row "&ROW(A107)&" - "&ROW(A125) -> unhide row 107 - 125
F107: =PPK.Spek!B16 -> Optical Line Terminal
F108: =PPK.Spek!B17 -> Optical Termination Box
F109: =PPK.Spek!B18 -> Optical Distribution Point
F110: =PPK.Spek!B19 -> Kabel backbone KU Mini 12 core pig 8 2000M
F111: =PPK.Spek!B20 -> Kabel Fiber 4 core pig 8 2000M
F112: =PPK.Spek!B21 -> Kabel UTP CAT 6
F113: =PPK.Spek!B22 -> Akses Poin Outdor NS
F114: =PPK.Spek!B23 -> Switch Hub 24 port
F115: =PPK.Spek!B24 -> Modem Optical Network Unit
F116: =PPK.Spek!B25 -> UPS 2KVA
F117: =PPK.Spek!B26 -> 0
F118: =PPK.Spek!B27 -> 0
... F125: =PPK.Spek!B34 -> 0
A126: 2. | B126: Nilai SPK | E126: : | F126: ="Rp. "&TEXT(bu_hn,tiko1)&" ("&bu_hn2&")" -> Rp. 69,862,000 (Enam Puluh Sembilan Juta Delapan Ratus Enam Puluh Dua Ribu Rupiah)
A127: 3. | B127: Tanggal Mulai Kerja | E127: : | F127: =Input!$F$98 -> 45141
A128: 4. | B128: Syarat-syarat Pekerjaan | E128: : | F128: Sesuai dengan persyaratan dan ketentuan dalam SPK
A129: 5. | B129: Waktu penyelesaian | E129: : | F129: ="selama "&masa&" ("&Input!$E$16&") hari kalender dan pekerjaan harus sudah selesai pada tanggal "&Input!$H$99 -> selama 30 (tiga puluh) hari kalender dan pekerjaan harus sudah selesai pada tanggal 2 September 2023
A131: 6. | B131: Denda | E131: : | F131: besarnya denda yang dikenakan kepada penyedia atas keterlambatan penyelesaian pekerjaan untuk setiap hari keterlambatan adalah 1/1000 (satu perseribu) bagian SPK yang terlambat, sesuai yang ditetapkan dalam syarat-syarat khusus SPK.
A136: =ppk_lok&", "&Input!$H$97 -> Mataram, 3 Agustus 2023
A137: =bu_nama -> PT. DARUSSALAM MEDIA GROUP | H137: =opd_nama -> Badan Pengelolaan Keuangan dan Aset Daerah
A142: =bu_pimn -> Saripudin | H142: =ppk_nama -> Ika Kurnia Mustika, ST, MT
A143: =bu_pim -> Direktur | H143: =ppk_jab -> Pejabat Pembuat Komitmen
A145: BERITA ACARA HASIL PEMERIKSAAN
A146: =paket -> Belanja Pemeliharaan Bangunan Gedung-Bangunan Gedung Tempat Kerja-Bangunan Gedung Kantor-Pemeliharaan Gedung Bertingkat
A147: ="Nomor: "&Input!$D$102 -> Nomor: 027/BAHP/A/IX/68/2023
A149: ="Pada hari ini, "&Input!$E$102&", tanggal "&Input!$H$102&", kami yang bertandatangan di bawah ini:" -> Pada hari ini, Sabtu, tanggal 2 September 2023, kami yang bertandatangan di bawah ini:
A151: Nama | C151: : | D151: =ppk_nama -> Ika Kurnia Mustika, ST, MT
A152: NIP | C152: : | D152: =ppk_nip -> 19791117 200901 1 006
A153: Jabatan | C153: : | D153: =ppk_jab -> Pejabat Pembuat Komitmen
A154: Alamat | C154: : | D154: =opd_almt -> Jalan Pejanggik Nomor 14 Telp.( 0370 ) 627689, 625345 Fax: 627677
A156: ="yang bertindak untuk dan atas nama "&opd_nama&";" -> yang bertindak untuk dan atas nama Badan Pengelolaan Keuangan dan Aset Daerah;
A157: Selanjutnya disebut "Pejabat Penandatangan Kontrak".
A159: Nama | C159: : | D159: =bu_pimn -> Saripudin
A160: Jabatan | C160: : | D160: =bu_pim -> Direktur
A161: Alamat | C161: : | D161: =bu_almt -> JL Meninting 13 No.. 22C BTN Kekalik, Kel. Pagesangan Barat, Kota Mataram, Provinsi Nusa Tenggara Barat
A163: ="yang bertindak untuk dan atas nama "&bu_nama&";" -> yang bertindak untuk dan atas nama PT. DARUSSALAM MEDIA GROUP;
A164: Selanjutnya disebut "Penyedia".
A166: ="Penyedia telah menyelesaikan pekerjaan dari PPK yaitu paket pekerjaan "&paket&" sesuai Surat Perintah Kerja (SPK) nomor "&Input!$D$91&" tanggal "&Input!$H$91&" sebagai berikut:" -> Penyedia telah menyelesaikan pekerjaan dari PPK yaitu paket pekerjaan Belanja Pemeliharaan Bangunan Gedung-Bangunan Gedung Tempat Kerja-Bangunan Gedung Kantor-Pemeliharaan Gedung Bertingkat sesuai Surat Perintah Kerja (SPK) nomor 027.1/1/SPK/BPKAD/2025 tanggal 3 Agustus 2023 sebagai berikut:
B170: No | C170: Deskripsi Item/Pekerjaan | H170: Satuan | I170: Kuantitas | J170: Hasil Pemeriksaan
B171: 1 | C171: =PPK.HPS!B16 -> PEKERJAAN PERSIAPAN | H171: =PPK.HPS!F16 -> 0 | I171: =PPK.HPS!G16 -> 0 | J171: Terpasang 100% dan telah diujicoba
B172: =IF(AND(B171<>0,D172<>0),B171+1,"") | C172: =PPK.HPS!B17 -> Pengukuran | H172: =PPK.HPS!F17 -> keg | I172: =PPK.HPS!G17 -> 1
B173: =IF(AND(B172<>0,D173<>0),B172+1,"") | C173: =PPK.HPS!B18 -> Pembersihan Lokasi | H173: =PPK.HPS!F18 -> keg | I173: =PPK.HPS!G18 -> 1
...

Sheet P1
A1: contoh
D3: Kop Penyedia
K7: =Input!$D$145&", "&TEXT(Input!F100,"[$-421]d mmmm yyyy") -> Ranjok Tebing, 1 September 2023
A8: Nomor | C8: : | D8: =Input!$D$100 -> nomor penyedia | L8: balik ke input
A9: Lampiran | C9: : | D9: 1 (satu) Gabung
A11: Kepada Yth.
A12: =ppk_jab -> Pejabat Pembuat Komitmen
A13: =opd_nama -> Badan Pengelolaan Keuangan dan Aset Daerah
A14: di -
C15: =ppk_lok -> Mataram
A17: Perihal | C17: : | D17: ="Penyerahan Hasil Pekerjaan "&paket -> Penyerahan Hasil Pekerjaan Belanja Pemeliharaan Bangunan Gedung-Bangunan Gedung Tempat Kerja-Bangunan Gedung Kantor-Pemeliharaan Gedung Bertingkat
A20: ="Sehubungan dengan telah selesainya pelaksanaan pekerjaan "&paket&" sesuai dengan Surat Perintah Kerja (SPK) nomor "&Input!$D$91&" tanggal "&Input!$H$91&" dengan nilai Rp. "&TEXT(bu_hn,tiko1)&" ("&bu_hn2&"), maka berkaitan dengan hal tersebut diatas kami mohon untuk dapat dilakukan pemeriksaan pekerjaan dan selanjutnya dapat dilakukan Serah Terima Pekerjaan 100% (seratus persen)." -> Sehubungan dengan telah selesainya pelaksanaan pekerjaan Belanja Pemeliharaan Bangunan Gedung-Bangunan Gedung Tempat Kerja-Bangunan Gedung Kantor-Pemeliharaan Gedung Bertingkat sesuai dengan Surat Perintah Kerja (SPK) nomor 027.1/1/SPK/BPKAD/2025 tanggal 3 Agustus 2023 dengan nilai Rp. 69,862,000 (Enam Puluh Sembilan Juta Delapan Ratus Enam Puluh Dua Ribu Rupiah), maka berkaitan dengan hal tersebut diatas kami mohon untuk dapat dilakukan pemeriksaan pekerjaan dan selanjutnya dapat dilakukan Serah Terima Pekerjaan 100% (seratus persen).
A26: Demikian permohonan kami, atas perhatiannya kami ucapkan terima kasih.
I28: =bu_nama -> PT. DARUSSALAM MEDIA GROUP
I32: =bu_pimn -> Saripudin
I33: =bu_pim -> Direktur
A35: Tembusan disampaikan kepada yang terhormat:
A36: ="1. "&pa_jab&" di "&pa_lok&";" -> 1. Kepala Badan Pengelolaan Keuangan dan Aset Daerah di Mataram;
A37: ="2. "&Input!$D$157&" di "&pa_lok&";" -> 2. Pejabat Pelaksana Teknis Kegiatan di Mataram;
A38: ="3. Konsultan Pengawas "&Input!D$149&";" -> 3. Konsultan Pengawas Quod Erat Demonstrandum, FA;

Sheet Srt2.PK
A1: BERITA ACARA KEMAJUAN PELAKSANAAN PEKERJAAN | L1: balik ke input
A3: ="Pada hari ini, "&Input!$E$101&", tanggal "&Input!$H$101&", kami yang bertandatangan di bawah ini:" -> Pada hari ini, Jumat, tanggal 1 September 2023, kami yang bertandatangan di bawah ini:
A5: I. | B5: Nama | E5: : | F5: =bu_pimn -> Saripudin
B6: Jabatan | E6: : | F6: =bu_pim&" "&bu_nama -> Direktur PT. DARUSSALAM MEDIA GROUP
B7: Alamat | E7: : | F7: =bu_almt -> JL Meninting 13 No.. 22C BTN Kekalik, Kel. Pagesangan Barat, Kota Mataram, Provinsi Nusa Tenggara Barat
A9: II. | B9: Nama | E9: : | F9: =Input!D150 -> Conan Edogawa
B10: Jabatan | E10: : | F10: =Input!$D$151&" pada "&Input!$D$149 -> Team Leader pada Quod Erat Demonstrandum, FA
B11: Alamat | E11: : | F11: =Input!$D$152 -> Nippon Meitantei Quadran Z Prefecture Y
A13: Dengan ini menyatakan:
A14: 1. | B14: Telah mengadakan penelitian dan pemeriksaan atas hasil pekerjaan pelaksanaan untuk :
B15: a. | C15: Unit Kerja | E15: : | F15: =opd_nama -> Badan Pengelolaan Keuangan dan Aset Daerah
B16: b. | C16: Pekerjaan | E16: : | F16: =paket -> Belanja Pemeliharaan Bangunan Gedung-Bangunan Gedung Tempat Kerja-Bangunan Gedung Kantor-Pemeliharaan Gedung Bertingkat
B17: c. | C17: Lokasi | E17: : | F17: =lokasi -> Mataram
B18: d. | C18: DPA | E18: : | F18: ="nomor "&Input!$D$160&" tanggal "&Input!$D$161 -> nomor DPA/A.1/5.02.0.00.0.00.02.0000/001/2025 tanggal 02 Januari 2025
B19: e. | C19: Penyedia | E19: : | F19: =bu_nama -> PT. DARUSSALAM MEDIA GROUP
B20: f. | C20: SPK | E20: : | F20: ="nomor "&spk_no&" tanggal "&spk_tgl -> nomor 027.1/1/SPK/BPKAD/2025 tanggal 3 Agustus 2023
B21: g. | C21: Nilai Kontrak | E21: : | F21: ="Rp. "&TEXT(spk_nilai,tiko1) -> Rp. 69,862,000
F22: ="("&spk_ter&")" -> (Enam Puluh Sembilan Juta Delapan Ratus Enam Puluh Dua Ribu Rupiah)
A25: 2. | B25: Pelaksanaan Pekerjaan tersebut di atas telah mencapai kemajuan fisik sebesar 100% (seratus persen).
A27: 3. | B27: Berdasarkan Syarat-syarat Umum Surat Perintah Kerja (SPK), dapat diadakan Serah Terima Hasil Pekerjaan atas hasil Pekerjaan tersebut dimaksud.
A30: Demikian Berita Acara ini dibuat dengan sebenarnya agar dapat dipergunakan sebagaimana mestinya.
A32: Mengetahui, | F32: Disetujui oleh, | I32: Dibuat oleh,
A33: =Input!$D$157 -> Pejabat Pelaksana Teknis Kegiatan | F33: Kontraktor Pelaksana | I33: Konsultan Pengawas
F34: =bu_nama -> PT. DARUSSALAM MEDIA GROUP | I34: =Input!$D$149 -> Quod Erat Demonstrandum, FA
A38: =Input!$D$155 -> M. Syamsul Hadi, S.E | F38: =bu_pimn -> Saripudin | I38: =Input!$D$150 -> Conan Edogawa
A39: ="NIP. "&Input!$D$156 -> NIP. 19810210 200501 1 010 | F39: =bu_pim -> Direktur | I39: =Input!$D$151 -> Team Leader

Sheet PA.Srt2
D1: =UPPER(opd_pem) -> PEMERINTAH PROVINSI NUSA TENGGARA BARAT
D2: =UPPER(opd_nama) -> BADAN PENGELOLAAN KEUANGAN DAN ASET DAERAH
D3: =opd_almt -> Jalan Pejanggik Nomor 14 Telp.( 0370 ) 627689, 625345 Fax: 627677
L5: =ppk_lok&", "&TEXT(Input!$F$76,"[$-421]d mmmm yyyy") -> Mataram, 6 Oktober 2025
A6: Nomor | C6: : | D6: =Input!D105 -> 013/CDE/A/IX/741c/2023 | J6: Kepada Yth. | N6: balik ke input
A7: Lampiran | C7: : | D7: 1 (satu) Gabung | J7: =php_jab -> Pejabat Pemeriksa Hasil Pekerjaan
A8: Perihal | C8: : | D8: ="Pelaksanaan Serah Terima Pekerjaan "&paket -> Pelaksanaan Serah Terima Pekerjaan Belanja Pemeliharaan Bangunan Gedung-Bangunan Gedung Tempat Kerja-Bangunan Gedung Kantor-Pemeliharaan Gedung Bertingkat
J9: di -
J10: =" "&php_lok -> Mataram
D12: ="Sehubungan dengan surat "&ppk_jab&" nomor "&Input!$D$104&" tanggal "&Input!$H$104&" perihal "&PPK.B!$D$241&" dengan Kontrak nomor "&Input!$D$91&" tanggal "&Input!$H$91&", maka dengan ini "&php_jab&" dapat melaksanakan :" -> Sehubungan dengan surat Pejabat Pembuat Komitmen nomor 027.3/17/BAPH/BPKAD/2024 tanggal 2 September 2023 perihal Penyerahan Hasil Pekerjaan Belanja Pemeliharaan Bangunan Gedung-Bangunan Gedung Tempat Kerja-Bangunan Gedung Kantor-Pemeliharaan Gedung Bertingkat dengan Kontrak nomor 027.1/1/SPK/BPKAD/2025 tanggal 3 Agustus 2023, maka dengan ini Pejabat Pemeriksa Hasil Pekerjaan dapat melaksanakan :
D16: 1. | E16: Pemeriksaan administratif proses pengadaan barang/jasa sejak perencanaan pengadaan sampai dengan serah terima hasil pekerjaan, meliputi dokumen program/penganggaran, surat penetapan PPK, dokumen perencanaan pengadaan, RUP/SIRUP, dokumen persiapan pengadaan, dokumen pemilihan Penyedia, dokumen Kontrak dan perubahannya serta pengendaliannya, dan dokumen serah terima hasil pekerjaan;
D22: 2. | E22: Membuat Berita Acara Pemeriksaan Hasil Pekerjaan atas pekerjaan tersebut.
D24: Demikian untuk dilaksanakan sebagaimana mestinya.
J26: =pa_jab -> Kepala Badan Pengelolaan Keuangan dan Aset Daerah
J27: ="selaku "&pa_sku -> selaku Pengguna Anggaran
J31: =pa_nam -> Dr. H. Nursalim., S.Sos., M.M
J32: =pa_gol2&" ("&pa_gol&")" -> Pembina Utama Muda (IV/c)
J33: ="NIP. "&pa_nip -> NIP. 19721231 199402 1 009
A34: Tembusan disampaikan kepada Yth:
A35: ="1. "&ppk_jab&" di "&ppk_lok&";" -> 1. Pejabat Pembuat Komitmen di Mataram;
A36: ="2. Pejabat Pelaksana Teknis Kegiatan di "&pa_lok&";" -> 2. Pejabat Pelaksana Teknis Kegiatan di Mataram;
A37: 3. Pertinggal

Sheet PHP
D1: =UPPER(opd_lok) -> PROVINSI NUSA TENGGARA BARAT
D2: =UPPER(opd_nama) -> BADAN PENGELOLAAN KEUANGAN DAN ASET DAERAH
D3: =opd_almt -> Jalan Pejanggik Nomor 14 Telp.( 0370 ) 627689, 625345 Fax: 627677
A5: BERITA ACARA PEMERIKSAAN HASIL PEKERJAAN | K5: hanya jika ada PjPHP/PPHP
A6: =paket -> Belanja Pemeliharaan Bangunan Gedung-Bangunan Gedung Tempat Kerja-Bangunan Gedung Kantor-Pemeliharaan Gedung Bertingkat | K6: balik ke input
A7: ="Nomor: "&Input!$D$106 -> Nomor: 027.3/17/BAPHP/BPKAD/2024
A9: ="Pada hari ini, "&Input!$E$106&", tanggal "&Input!$H$106&", sesuai dengan penyerahan hasil pekerjaan oleh "&ppk_jab&" melalui surat nomor "&Input!$D$104&" tanggal "&Input!$H$104&" dan Surat Tugas "&php_jab&" nomor "&Input!$D$105&" tanggal "&Input!$H$105&", maka "&php_jab&" bersama dengan "&ppk_jab&" melaksanakan telah menyelesaikan rapat pemeriksaan administrasi untuk pekerjaan sebagai berikut:" -> Pada hari ini, Sabtu, tanggal 2 September 2023, sesuai dengan penyerahan hasil pekerjaan oleh Pejabat Pembuat Komitmen melalui surat nomor 027.3/17/BAPH/BPKAD/2024 tanggal 2 September 2023 dan Surat Tugas Pejabat Pemeriksa Hasil Pekerjaan nomor 013/CDE/A/IX/741c/2023 tanggal 2 September 2023, maka Pejabat Pemeriksa Hasil Pekerjaan bersama dengan Pejabat Pembuat Komitmen melaksanakan telah menyelesaikan rapat pemeriksaan administrasi untuk pekerjaan sebagai berikut:
A15: Paket/Pekerjaan | E15: : | F15: =ppk_nama -> Ika Kurnia Mustika, ST, MT
A16: Nomor Kontrak | E16: : | F16: =ppk_nip -> 19791117 200901 1 006
A17: Tanggal Kontrak | E17: : | F17: =ppk_jab -> Pejabat Pembuat Komitmen
A18: Nilai Kontrak | E18: : | F18: =spk_nilai -> 69862000
F19: ="("&spk_ter&")" -> (Enam Puluh Sembilan Juta Delapan Ratus Enam Puluh Dua Ribu Rupiah)
A21: ="Setelah mempelajari secara seksama seluruh administrasi pelaksanaan paket pekerjaan yang disampaikan oleh "&ppk_jab&", "&php_jab&" menyatakan bahwa seluruh data telah lengkap dan sesuai daftar simak yang dipersyaratkan sebagaimana terlampir." -> Setelah mempelajari secara seksama seluruh administrasi pelaksanaan paket pekerjaan yang disampaikan oleh Pejabat Pembuat Komitmen, Pejabat Pemeriksa Hasil Pekerjaan menyatakan bahwa seluruh data telah lengkap dan sesuai daftar simak yang dipersyaratkan sebagaimana terlampir.
A25: ="Demikian Berita Acara ini dibuat dan ditandatangani di "&lokasi&" pada tanggal tersebut di atas." -> Demikian Berita Acara ini dibuat dan ditandatangani di Mataram pada tanggal tersebut di atas. | K25: ="Kalau tidak ada PTP, row "&K36&" - "&K40&" di-hide" -> Kalau tidak ada PTP, row 36 - 40 di-hide
A27: No | B27: =php_jab -> Pejabat Pemeriksa Hasil Pekerjaan | H27: Tandatangan
A29: 1 | B29: =php_na1 -> Nyiur Melambai | H29: 1.
B30: ="NIP. "&php_nip1 -> NIP. 19920202 200202 2 002
A31: 2 | B31: =php_na2 -> Rayuan Kelapa | H31: 2.
B32: ="NIP. "&php_nip2 -> NIP. 19930303 200303 1 003
A33: 3 | B33: =php_na3 -> Gugur Bunga | H33: 3.
B34: ="NIP. "&php_nip3 -> NIP. 19940404 200404 2 004
B36: =Input!$D$157 -> Pejabat Pelaksana Teknis Kegiatan | H36: Tandatangan | K36: =ROW() -> 36
B38: =Input!$D$155 -> M. Syamsul Hadi, S.E
B39: ="NIP. "&Input!$D$156 -> NIP. 19810210 200501 1 010
K40: =ROW() -> 40
B41: =ppk_jab -> Pejabat Pembuat Komitmen | H41: Tandatangan
B43: =ppk_nama -> Ika Kurnia Mustika, ST, MT
B44: ="NIP. "&ppk_nip -> NIP. 19791117 200901 1 006
A48: DAFTAR SIMAK
A49: PEMERIKSAAN ADMINISTRASI HASIL PEKERJAAN
A50: =paket -> Belanja Pemeliharaan Bangunan Gedung-Bangunan Gedung Tempat Kerja-Bangunan Gedung Kantor-Pemeliharaan Gedung Bertingkat | K50: balik ke input
A52: Hari, Tanggal | E52: : | F52: =Input!E106&", "&Input!H106 -> Sabtu, 2 September 2023
A54: Daftar dokumen yang harus dilengkapi pada saat acara Pemeriksaan Hasil Pekerjaan sebagai berikut:
A56: Jenis Dokumen / Uraian | H56: Keterangan
A58: A | B58: Dokumen Perencanaan Pengadaan meliputi:
B59: 1 | C59: Rencana Umum Pengadaan | H59: þ | I59: Ada Dan Lengkap
B60: 2 | C60: Penyusunan Spesifikasi Teknis/Kak | H60: þ | I60: Ada Dan Lengkap
B61: 3 | C61: Penyusunan perkiraan biaya/RAB; | H61: þ | I61: Ada Dan Lengkap
B62: 4 | C62: Pemaketan Pengadaan Barang/Jasa; | H62: þ | I62: Ada Dan Lengkap
B63: 5 | C63: Konsolidasi Pengadaan Barang/Jasa; | H63: þ | I63: Ada Dan Lengkap
B64: 6 | C64: Penyusunan biaya pendukung | H64: þ | I64: Ada Dan Lengkap
A65: B | B65: Rencana Kerja Anggaran dan Dokumen Pelaksanaan Anggaran (RKA/DPA)
B66: 1 | C66: Rekening Belanja ......................................... | H66: þ | I66: Ada Dan Lengkap
B67: 2 | C67: Rekening Belanja ......................................... | H67: ¨ | I67: Tidak Diperlukan
B68: 3 | C68: Rekening Belanja ......................................... | H68: ¨ | I68: Tidak Diperlukan
A69: C | B69: Dokumen Persiapan Pengadaan Barang/Jasa meliputi :
B70: 1 | C70: Penetapan HPS | H70: þ | I70: Ada Dan Lengkap
B71: 2 | C71: Penetapan rancangan kontrak; | H71: þ | I71: Ada Dan Lengkap
B72: 3 | C72: Penetapan spesifikasi teknis/KA | H72: þ | I72: Ada Dan Lengkap
B73: 4 | C73: Penetapan uang muka | H73: þ | I73: Ada Dan Lengkap
B74: 5 | C74: Penetapan Jaminan uang muka | H74: þ | I74: Ada Dan Lengkap
B75: 6 | C75: Penetapan jaminan pelaksanaan, | H75: ¨ | I75: Tidak Diperlukan
B76: 7 | C76: Penetapan jaminan pemeliharaan | H76: ¨ | I76: Tidak Diperlukan
B77: 8 | C77: Penetapan sertifikat garansi | H77: þ | I77: Ada Dan Lengkap
B78: 9 | C78: Penetapan penyesuaian harga | H78: ¨ | I78: Tidak Diperlukan
A79: D | B79: Dokumen Pelaksanaan Pemilihan
B80: 1 | C80: Dokumen Pemilihan | H80: þ | I80: Ada Dan Lengkap
B81: 2 | C81: Addendum Dokumen Pemilihan | H81: ¨ | I81: Tidak Diperlukan
B82: 3 | C82: Berita Acara Evaluasi Penawaran | H82: þ | I82: Ada Dan Lengkap
B83: 4 | C83: Berita Acara Evaluasi dan Pembuktian Kualifikasi | H83: þ | I83: Ada Dan Lengkap
B84: 5 | C84: Surat Penetapan Pemenang | H84: ¨ | I84: Tidak Diperlukan
B85: 6 | C85: Berita Acara Hasil Pemilihan | H85: þ | I85: Ada Dan Lengkap
B86: 7 | C86: Summary Proses Pemilihan | H86: ¨ | I86: Tidak Diperlukan
B87: 8 | C87: Sanggah dan Jawaban Sanggah | H87: ¨ | I87: Tidak Diperlukan
B88: 9 | C88: Pengaduan dan Jawaban Pengaduan | H88: ¨ | I88: Tidak Diperlukan
A89: E | B89: Dokumen Pelaksanaan Kontrak
B90: 1 | C90: Berita Acara Persiapan Penandatanganan Kontrak/Persiapan Penerbitan SPPBJ | H90: ý | I90: Tidak Diperlukan
B91: 2 | C91: SPPBJ | H91: þ | I91: Ada Dan Lengkap
B92: 3 | C92: Dokumen Kontrak/Perjanjian | H92: þ | I92: Ada Dan Lengkap
B93: 4 | C93: Berita Acara Rapat Persiapan Pelaksanaan Kontrak (PCM) | H93: ¨ | I93: Tidak Diperlukan
B94: 5 | C94: Laporan Harian | H94: ¨ | I94: Tidak Diperlukan
B95: 6 | C95: Laporan Mingguan | H95: ¨ | I95: Tidak Diperlukan
B96: 7 | C96: Laporan Bulanan | H96: ¨ | I96: Tidak Diperlukan
B97: 8 | C97: Dokumen Pengendalian Kontrak/Pekerjaan lainnya...... | H97: ¨ | I97: Tidak Diperlukan
A98: F | B98: Dokumen Serah Terima Pekerjaan
B99: 1 | C99: Berita Acara Hasil Pemeriksaan Pertama Pekerjaan (PHO) | H99: þ | I99: Ada Dan Lengkap
B100: 2 | C100: Rencana Serah Terima Akhir Pekerjaan. | H100: ¨ | I100: Tidak Diperlukan
B101: 3 | C101: Jaminan Pemeliharaan | H101: ¨ | I101: Tidak Diperlukan
B102: 4 | C102: ..................................................................... | H102: ¨ | I102: Tidak Diperlukan
A103: G | B103: Surat Keputusan Pengguna Anggaran
B104: 1 | C104: Penetapan KPA | H104: þ | I104: Ada Dan Lengkap
B105: 2 | C105: Penetapan PPK | H105: þ | I105: Ada Dan Lengkap
B106: 3 | C106: ="Penetapan "&php_jab -> Penetapan Pejabat Pemeriksa Hasil Pekerjaan | H106: þ | I106: Ada Dan Lengkap
B107: 4 | C107: Penetapan Tim Teknis/Ahli | H107: ¨ | I107: Tidak Diperlukan
B108: 5 | C108: Penetapan Gagal Lelang | H108: ¨ | I108: Tidak Diperlukan
B109: 6 | C109: Penetapan Pemenang (diatas 100M) | H109: ¨ | I109: Tidak Diperlukan
A110: H | B110: Surat Penugasan Kuasa Pengguna Anggaran kepada PPK sebagai Pejabat Penandatangan Kontrak. | H110: þ | I110: Ada Dan Lengkap
A111: I | B111: Surat Keputusan PPK terkait Pembentukan Tim Penerima Pekerjaan | H111: þ | I111: Ada Dan Lengkap
A112: J | B112: Lainnya ….. | H112: ¨ | I112: Tidak Diperlukan

Sheet PA.BAST
D1: =UPPER(opd_lok) -> PROVINSI NUSA TENGGARA BARAT
D2: =UPPER(opd_nama) -> BADAN PENGELOLAAN KEUANGAN DAN ASET DAERAH
D3: =opd_almt -> Jalan Pejanggik Nomor 14 Telp.( 0370 ) 627689, 625345 Fax: 627677
A5: BERITA ACARA SERAH TERIMA PEKERJAAN
A6: ="Nomor : "&Input!D108 -> Nomor : 013/CDE/A/IX/758/2023 | N6: balik ke input
A8: ="Pada hari ini, "&Input!$E$108&" tanggal "&Input!$H$108&", kami yang bertanda tangan di bawah ini :" -> Pada hari ini, Senin tanggal 10 November 2025, kami yang bertanda tangan di bawah ini :
A10: I. | B10: Nama | E10: : | F10: =pa_nam -> Dr. H. Nursalim., S.Sos., M.M
B11: Jabatan | E11: : | F11: =pa_jab -> Kepala Badan Pengelolaan Keuangan dan Aset Daerah
B12: Alamat | E12: : | F12: =opd_almt -> Jalan Pejanggik Nomor 14 Telp.( 0370 ) 627689, 625345 Fax: 627677
F13: ="Selanjutnya disebut "&pa_sku -> Selanjutnya disebut Pengguna Anggaran
A15: II. | B15: Nama | E15: : | F15: =ppk_nama -> Ika Kurnia Mustika, ST, MT
B16: Jabatan | E16: : | F16: =ppk_jab -> Pejabat Pembuat Komitmen
B17: Alamat | E17: : | F17: Jl. Majapahit No.16 Mataram
F18: Selanjutnya disebut PPK
A20: Kedua belah pihak berdasarkan :
A21: 1. | B21: ="Berita Acara Pemeriksaan Hasil Pekerjaan nomor "&Input!$D$102&" tanggal "&Input!$H$102&";" -> Berita Acara Pemeriksaan Hasil Pekerjaan nomor 027/BAHP/A/IX/68/2023 tanggal 2 September 2023;
A22: 2. | B22: ="Berita Acara Serah Terima Pekerjaan (BAST) nomor "&Input!$D$103&" tanggal "&Input!$H$103&";" -> Berita Acara Serah Terima Pekerjaan (BAST) nomor 027.3/17/STHP/BPKAD/2024 tanggal 2 September 2023;
A24: ="Dengan ini PPK dan Pengguna Anggaran telah setuju dan dapat melakukan Serah Terima Pekerjaan "&paket&" dengan ketentuan-ketentuan sebagai berikut :" -> Dengan ini PPK dan Pengguna Anggaran telah setuju dan dapat melakukan Serah Terima Pekerjaan Belanja Pemeliharaan Bangunan Gedung-Bangunan Gedung Tempat Kerja-Bangunan Gedung Kantor-Pemeliharaan Gedung Bertingkat dengan ketentuan-ketentuan sebagai berikut :
A26: 1. | B26: ="PPK menyerahkan kepada Pengguna Anggaran dan Pengguna Anggaran menerima dari PPK atas seluruh Pekerjaan :" -> PPK menyerahkan kepada Pengguna Anggaran dan Pengguna Anggaran menerima dari PPK atas seluruh Pekerjaan :
B28: a. | C28: Unit Kerja | E28: : | F28: Dinas Perumahan dan Permukiman Prov. Nusa Tenggara Barat
B29: b. | C29: Pekerjaan | E29: : | F29: =paket -> Belanja Pemeliharaan Bangunan Gedung-Bangunan Gedung Tempat Kerja-Bangunan Gedung Kantor-Pemeliharaan Gedung Bertingkat
B30: c. | C30: Lokasi | E30: : | F30: =lokasi -> Mataram
B31: d. | C31: DPA | E31: : | F31: ="nomor "&Input!$D$160&" tanggal "&Input!$D$161 -> nomor DPA/A.1/5.02.0.00.0.00.02.0000/001/2025 tanggal 02 Januari 2025
B32: e. | C32: Penyedia | E32: : | F32: =bu_nama -> PT. DARUSSALAM MEDIA GROUP
B33: f. | C33: SPK | E33: : | F33: ="nomor "&spk_no&" tanggal "&spk_tgl -> nomor 027.1/1/SPK/BPKAD/2025 tanggal 3 Agustus 2023
B34: g. | C34: Nilai Kontrak | E34: : | F34: ="Rp. "&TEXT(spk_nilai,tiko1)&" ("&spk_ter&")" -> Rp. 69,862,000 (Enam Puluh Sembilan Juta Delapan Ratus Enam Puluh Dua Ribu Rupiah)
A36: 2. | B36: ="Penyerahan sebagaimana dimaksud dalam angka 1 berupa Pekerjaan antara lain :" -> Penyerahan sebagaimana dimaksud dalam angka 1 berupa Pekerjaan antara lain :
B37: 1 | C37: =PPK.HPS!G16&" "&PPK.HPS!F16&" "&PPK.HPS!B16 -> PEKERJAAN PERSIAPAN
B38: =IF(AND(B37<>0,C38<>0),B37+1,"") -> 2 | C38: =PPK.HPS!G17&" "&PPK.HPS!F17&" "&PPK.HPS!B17 -> 1 keg Pengukuran
B39: =IF(AND(B38<>0,C39<>0),B38+1,"") -> 3 | C39: =PPK.HPS!G18&" "&PPK.HPS!F18&" "&PPK.HPS!B18 -> 1 keg Pembersihan Lokasi
B40: =IF(AND(B39<>0,C40<>0),B39+1,"") -> 4 | C40: =PPK.HPS!G19&" "&PPK.HPS!F19&" "&PPK.HPS!B19
B41: =IF(AND(B40<>0,C41<>0),B40+1,"") -> 5 | C41: =PPK.HPS!G20&" "&PPK.HPS!F20&" "&PPK.HPS!B20 -> SMK3 KONSTRUKSI
B42: =IF(AND(B41<>0,C42<>0),B41+1,"") -> 6 | C42: =PPK.HPS!G21&" "&PPK.HPS!F21&" "&PPK.HPS!B21 -> 5 set Alat Pelindung Kerja dan Alat Pelindung Diri
B43: =IF(AND(B42<>0,C43<>0),B42+1,"") -> 7 | C43: =PPK.HPS!G22&" "&PPK.HPS!F22&" "&PPK.HPS!B22
B44: =IF(AND(B43<>0,C44<>0),B43+1,"") -> 8 | C44: =PPK.HPS!G23&" "&PPK.HPS!F23&" "&PPK.HPS!B23 -> PEKERJAAN PENGECATAN
B45: =IF(AND(B44<>0,C45<>0),B44+1,"") -> 9 | C45: =PPK.HPS!G24&" "&PPK.HPS!F24&" "&PPK.HPS!B24 -> 1 keg Sewa stager
B46: =IF(AND(B45<>0,C46<>0),B45+1,"") -> 10 | C46: =PPK.HPS!G25&" "&PPK.HPS!F25&" "&PPK.HPS!B25 -> 168.58 m2 Pengerokan cat yang terkelupas
B47: =IF(AND(B46<>0,C47<>0),B46+1,"") -> 11 | C47: =PPK.HPS!G26&" "&PPK.HPS!F26&" "&PPK.HPS!B26 -> 842.91 m2 Pengecatan ulang dinding luar
B48: =IF(AND(B47<>0,C48<>0),B47+1,"") -> 12 | C48: =PPK.HPS!G27&" "&PPK.HPS!F27&" "&PPK.HPS!B27 -> 419 m2 Pengecatan ACP dengan cat besi
B49: =IF(AND(B48<>0,C49<>0),B48+1,"") -> 13 | C49: =PPK.HPS!G28&" "&PPK.HPS!F28&" "&PPK.HPS!B28
... B62: =IF(AND(B61<>0,C62<>0),B61+1,"") -> 26 | C62: =PPK.HPS!G41&" "&PPK.HPS!F41&" "&PPK.HPS!B41
A64: Demikian Berita Acara Serah Terima Pertama Pekerjaan ini dibuat dan ditandatangani pada hari dan tanggal tersebut di atas di Mataram untuk dapat dipergunakan sebagaimana mestinya.
A67: =pa_jab -> Kepala Badan Pengelolaan Keuangan dan Aset Daerah
A68: =opd_lok -> Provinsi Nusa Tenggara Barat
A69: ="selaku "&pa_sku -> selaku Pengguna Anggaran | I69: =ppk_jab -> Pejabat Pembuat Komitmen
A73: =pa_nam -> Dr. H. Nursalim., S.Sos., M.M | I73: =ppk_nama -> Ika Kurnia Mustika, ST, MT
A74: ="NIP. "&pa_nip -> NIP. 19721231 199402 1 009 | I74: ="NIP. "&ppk_nip -> NIP. 19791117 200901 1 006

Sheet ResKon
A1: LAMPIRAN RESUME KONTRAK
A2: (URAIAN DAN VOLUME PEKERJAAN)
A4: Nama Penyedia | D4: : | E4: =bu_nama -> PT. DARUSSALAM MEDIA GROUP
A5: Tanggal Kontrak | D5: : | E5: =Input!H91 -> 3 Agustus 2023
A6: Kegiatan | D6: :
A7: Pekerjaan | D7: : | E7: =paket -> Belanja Pemeliharaan Bangunan Gedung-Bangunan Gedung Tempat Kerja-Bangunan Gedung Kantor-Pemeliharaan Gedung Bertingkat
A9: Sumber Dana | D9: : | E9: =dana -> DPA
A10: Lingkup Kegiatan | D10: : | E10: =lingkup -> Pengecatan tembok eksterior dan panel ACP Gedung Kantor BPKAD
A12: No | B12: Deskripsi Item/Pekerjaan | G12: Sat | H12: Vol | I12: Harga Satuan (Rp) | J12: Jumlah Harga (Rp) | L12: balik ke input
A14: =IF(B14<>0,MAX(A11:A13)+1,0) -> 1 | B14: =PPK.HPS!B16 -> PEKERJAAN PERSIAPAN | G14: =PPK.HPS!F16 -> 0 | H14: =PPK.HPS!G16 -> 0 | I14: =Nego!I9 -> 0 | J14: =IF(B14=0,0,H14*I14) -> 0 | L14: Harga Satuan isi sendiri
A15: =IF(B15<>0,MAX(A12:A14)+1,0) -> 2 | B15: =PPK.HPS!B17 -> Pengukuran | G15: =PPK.HPS!F17 -> keg | H15: =PPK.HPS!G17 -> 1 | I15: =Nego!I10 -> 200000 | J15: =IF(B15=0,0,H15*I15) -> 200000
A16: =IF(B16<>0,MAX(A13:A15)+1,0) -> 3 | B16: =PPK.HPS!B18 -> Pembersihan Lokasi | G16: =PPK.HPS!F18 -> keg | H16: =PPK.HPS!G18 -> 1 | I16: =Nego!I11 -> 300000 | J16: =IF(B16=0,0,H16*I16) -> 300000
A17: =IF(B17<>0,MAX(A13:A16)+1,0) -> 0 | B17: =PPK.HPS!B19 -> 0 | G17: =PPK.HPS!F19 -> 0 | H17: =PPK.HPS!G19 -> 0 | I17: =Nego!I12 -> 0 | J17: =IF(B17=0,0,H17*I17) -> 0
A18: =IF(B18<>0,MAX(A14:A17)+1,0) -> 4 | B18: =PPK.HPS!B20 -> SMK3 KONSTRUKSI | G18: =PPK.HPS!F20 -> 0 | H18: =PPK.HPS!G20 -> 0 | I18: =Nego!I13 -> 0 | J18: =IF(B18=0,0,H18*I18) -> 0
A19: =IF(B19<>0,MAX(A15:A18)+1,0) -> 5 | B19: =PPK.HPS!B21 -> Alat Pelindung Kerja dan Alat Pelindung Diri | G19: =PPK.HPS!F21 -> set | H19: =PPK.HPS!G21 -> 5 | I19: =Nego!I14 -> 75000 | J19: =IF(B19=0,0,H19*I19) -> 375000
A20: =IF(B20<>0,MAX(A16:A19)+1,0) -> 0 | B20: =PPK.HPS!B22 -> 0 | G20: =PPK.HPS!F22 -> 0 | H20: =PPK.HPS!G22 -> 0 | I20: =Nego!I15 -> 0 | J20: =IF(B20=0,0,H20*I20) -> 0
A21: =IF(B21<>0,MAX(A17:A20)+1,0) -> 6 | B21: =PPK.HPS!B23 -> PEKERJAAN PENGECATAN | G21: =PPK.HPS!F23 -> 0 | H21: =PPK.HPS!G23 -> 0 | I21: =Nego!I16 -> 0 | J21: =IF(B21=0,0,H21*I21) -> 0
A22: =IF(B22<>0,MAX(A18:A21)+1,0) -> 7 | B22: =PPK.HPS!B24 -> Sewa stager | G22: =PPK.HPS!F24 -> keg | H22: =PPK.HPS!G24 -> 1 | I22: =Nego!I17 -> 4500000 | J22: =IF(B22=0,0,H22*I22) -> 4500000
A23: =IF(B23<>0,MAX(A19:A22)+1,0) -> 8 | B23: =PPK.HPS!B25 -> Pengerokan cat yang terkelupas | G23: =PPK.HPS!F25 -> m2 | H23: =PPK.HPS!G25 -> 168.58 | I23: =Nego!I18 -> 19719.975 | J23: =IF(B23=0,0,H23*I23) -> 3324393.4
A24: =IF(B24<>0,MAX(A20:A23)+1,0) -> 9 | B24: =PPK.HPS!B26 -> Pengecatan ulang dinding luar | G24: =PPK.HPS!F26 -> m2 | H24: =PPK.HPS!G26 -> 842.91 | I24: =Nego!I19 -> 40683.291 | J24: =IF(B24=0,0,H24*I24) -> 34292353
A25: =IF(B25<>0,MAX(A21:A24)+1,0) -> 10 | B25: =PPK.HPS!B27 -> Pengecatan ACP dengan cat besi | G25: =PPK.HPS!F27 -> m2 | H25: =PPK.HPS!G27 -> 419 | I25: =Nego!I20 -> 47607.593 | J25: =IF(B25=0,0,H25*I25) -> 19947581
A26: =IF(B26<>0,MAX(A22:A25)+1,0) -> 0 | B26: =PPK.HPS!B28 -> 0 | G26: =PPK.HPS!F28 -> 0 | H26: =PPK.HPS!G28 -> 0 | I26: =Nego!I21 -> 0 | J26: =IF(B26=0,0,H26*I26) -> 0
A27: =IF(B27<>0,MAX(A23:A26)+1,0) -> 0 | B27: =PPK.HPS!B29 -> 0 | G27: =PPK.HPS!F29 -> 0 | H27: =PPK.HPS!G29 -> 0 | I27: =Nego!I22 -> 0 | J27: =IF(B27=0,0,H27*I27) -> 0
A28: =IF(B28<>0,MAX(A24:A27)+1,0) -> 0 | B28: =PPK.HPS!B30 -> 0 | G28: =PPK.HPS!F30 -> 0 | H28: =PPK.HPS!G30 -> 0 | I28: =Nego!I23 -> 0 | J28: =IF(B28=0,0,H28*I28) -> 0
... A39: =IF(B39<>0,MAX(A35:A38)+1,0) -> 0 | B39: =PPK.HPS!B41 -> 0 | G39: =PPK.HPS!F41 -> 0 | H39: =PPK.HPS!G41 -> 0 | I39: =Nego!I34 -> 0 | J39: =IF(B39=0,0,H39*I39) -> 0
I41: Total | J41: =SUM(J14:J40) -> 62939328
I42: =Nego!I36 -> 0.11 | J42: =J41*I42 -> 6923326
I43: Total + PPN (Pembulatan) | J43: =ROUNDDOWN(J41+J42,-3) -> 69862000
A44: Terbilang | D44: : | E44: =Uang!A161 -> Enam Puluh Sembilan Juta Delapan Ratus Enam Puluh Dua Ribu Rupiah
A46: Harga tersebut di atas sudah termasuk pajak-pajak dan biaya pungutan resmi lainnya.
G48: =lokasi&", "&Input!H109 -> Mataram, 10 November 2025
G49: =Input!D23 -> Kepala Badan Pengelolaan Keuangan dan Aset Daerah
G50: =opd_lok -> Provinsi Nusa Tenggara Barat
A51: =Input!D31 -> Pejabat Pembuat Komitmen | G51: Selaku Pengguna Anggaran
A56: =ppk_nama -> Ika Kurnia Mustika, ST, MT | G56: =Input!$D$24 -> Dr. H. Nursalim., S.Sos., M.M
A57: ="NIP. "&ppk_nip -> NIP. 19791117 200901 1 006 | G57: ="NIP. "&Input!$D$25 -> NIP. 19721231 199402 1 009
A60: RINGKASAN KONTRAK / RESUME KONTRAK
A61: APBD PROVINSI NUSA TENGGARA BARAT TA. 2025
A63: I. | B63: DATA KEGIATAN
B64: 1. | C64: NAMA KEGIATAN | F64: :
B65: 2. | C65: KODE KEGIATAN | F65: :
B66: 3. | C66: PEJABAT PELAKSANA TEKNIS KEGIATAN
C67: NAMA | F67: :
C68: NIP | F68: :
C69: PANGKAT/GOL. RUANG | F69: :
C70: JABATAN | F70: :
B71: 4. | C71: PEJABAT PEMBUAT KOMITMEN
C72: NAMA | F72: : | G72: =ppk_nama -> Ika Kurnia Mustika, ST, MT
C73: NIP | F73: : | G73: =ppk_nip -> 19791117 200901 1 006
C74: PANGKAT/GOL. RUANG | F74: : | G74: =ppk_gol2&" ("&ppk_gol&")" -> Pembina Utama Muda (IV/c)
C75: JABATAN | F75: : | G75: =ppk_jab -> Pejabat Pembuat Komitmen
A77: II. | B77: DATA PAKET PEKERJAAN
B78: 1. | C78: NAMA PAKET PEKERJAAN | F78: : | G78: =paket -> Belanja Pemeliharaan Bangunan Gedung-Bangunan Gedung Tempat Kerja-Bangunan Gedung Kantor-Pemeliharaan Gedung Bertingkat
B81: 2. | C81: KODE REKENING | F81: :
B82: 3. | C82: ANGGARAN PAKET PEKERJAAN | F82: :
A84: III. | B84: DATA PENYEDIA BARANG/JASA
B85: 1. | C85: NAMA PENYEDIA | F85: : | G85: =bu_nama -> PT. DARUSSALAM MEDIA GROUP
B86: 2. | C86: ALAMAT PENYEDIA | F86: : | G86: =bu_almt -> JL Meninting 13 No.. 22C BTN Kekalik, Kel. Pagesangan Barat, Kota Mataram, Provinsi Nusa Tenggara Barat
B88: 3. | C88: NOMOR REKENING BANK | F88: : | G88: =bu_rek&" atas nama "&Input!D166&" pada "&Input!D165 -> 001-02-0039638-3 atas nama PT. DARUSSALAM MEDIA GROUP pada Bank NTB Syariah
B90: 4. | C90: NPWP | F90: : | G90: =bu_npwp -> 03.990.125.5.8-911.000
A92: IV. | B92: DATA KONTRAK AWAL
B93: 1. | C93: NOMOR | F93: : | G93: =spk_no -> 027.1/1/SPK/BPKAD/2025
B94: 2. | C94: TANGGAL | F94: : | G94: =spk_tgl -> 3 Agustus 2023
B95: 3. | C95: NILAI | F95: : | G95: =bu_hn -> 69862000
B96: 4. | C96: MASA PELAKSANAAN | F96: : | G96: =masa -> 30
B97: 5. | C97: TANGGAL SERAH TERIMA AWAL | F97: : | G97: =Input!F108 -> 45971
B98: 6. | C98: TANGGAL SERAH TERIMA II | F98: : | G98: =G97+G99 -> 46061
B99: 7. | C99: MASA PEMELIHARAAN | F99: : | G99: =Input!D132 -> 90
B100: 8. | C100: KEMAJUAN FISIK | F100: :
B102: DATA ADENDUM KONTRAK
B103: 1. | C103: NOMOR | F103: : | G103: -
B104: 2. | C104: TANGGAL | F104: : | G104: -
B105: 3. | C105: NILAI | F105: : | G105: -
B106: 4. | C106: MASA PELAKSANAAN | F106: : | G106: -
B107: 5. | C107: TANGGAL SERAH TERIMA I | F107: : | G107: -
B108: 6. | C108: TANGGAL SERAH TERIMA II | F108: : | G108: -
B109: 7 | C109: MASA PEMELIHARAAN | F109: : | G109: -
A111: V. | B111: DATA JAMINAN
B112: 1. | C112: NO & TGL JAMINAN PELAKSANAAN | F112: :
B113: 2. | C113: NO & TGL JAMINAN UANG MUKA | F113: :
B114: 3. | C114: NO & TGL JAMINAN PEMELIHARAAN | F114: :
A116: VI. | B116: PEMBAYARAN
B117: 1. | C117: BULAN KE | F117: :
B118: 2. | C118: TERMIN KE | F118: :
B119: 3. | C119: SEKALIGUS | F119: :
A121: VII. | B121: INFORMASI PEMBAYARAN
B122: 1. | C122: NILAI KONTRAK | F122: : | G122: =G95 -> 69862000
B123: 2. | C123: NILAI PEMBAYARAN S/D BAP YANG LALU | F123: : | G123: 0
B124: 3. | C124: NILAI PEKERJAAN BAP INI | F124: : | G124: =G122 -> 69862000
B125: 4. | C125: SISA BELUM DIBAYAR | F125: : | G125: =G124-G123 -> 69862000
G127: =G48 -> Mataram, 10 November 2025
G128: =G49 -> Kepala Badan Pengelolaan Keuangan dan Aset Daerah
G129: =opd_lok -> Provinsi Nusa Tenggara Barat
A130: =A51 -> Pejabat Pembuat Komitmen | G130: Selaku Pengguna Anggaran
A135: =ppk_nama -> Ika Kurnia Mustika, ST, MT | G135: =Input!$D$24 -> Dr. H. Nursalim., S.Sos., M.M
A136: ="NIP. "&ppk_nip -> NIP. 19791117 200901 1 006 | G136: ="NIP. "&Input!$D$25 -> NIP. 19721231 199402 1 009

Sheet Bayar
C1: =UPPER(opd_pem) -> PEMERINTAH PROVINSI NUSA TENGGARA BARAT
C2: =UPPER(opd_nama) -> BADAN PENGELOLAAN KEUANGAN DAN ASET DAERAH
C3: =opd_almt -> Jalan Pejanggik Nomor 14 Telp.( 0370 ) 627689, 625345 Fax: 627677
A5: BERITA ACARA PEMBAYARAN
A6: ="Nomor: "&Input!D110 -> Nomor: 027.3/19/BA.PBY/BPKAD/2024 | L6: balik ke input
A8: ="Pada hari ini, "&Input!E110&", tanggal "&Input!H110&" kami yang bertandatangan di bawah ini:" -> Pada hari ini, Senin, tanggal 10 November 2025 kami yang bertandatangan di bawah ini:
A10: I. | B10: Nama | D10: : | E10: =ppk_nama -> Ika Kurnia Mustika, ST, MT
B11: NIP | D11: : | E11: =ppk_nip -> 19791117 200901 1 006
B12: Jabatan | D12: : | E12: =ppk_jab -> Pejabat Pembuat Komitmen
B13: Alamat | D13: : | E13: =opd_almt -> Jalan Pejanggik Nomor 14 Telp.( 0370 ) 627689, 625345 Fax: 627677
E14: selanjutnya disebut sebagai Pejabat Penandatangan Kontrak;
A16: II. | B16: Nama Perusahaan | D16: : | E16: =bu_nama -> PT. DARUSSALAM MEDIA GROUP
B17: NPWP | D17: : | E17: =bu_npwp -> 03.990.125.5.8-911.000
B18: Alamat | D18: : | E18: =bu_almt -> JL Meninting 13 No.. 22C BTN Kekalik, Kel. Pagesangan Barat, Kota Mataram, Provinsi Nusa Tenggara Barat
E19: selanjutnya disebut sebagai Penyedia;
A21: ="Berdasarkan Berita Acara Penyelesaian Pekerjaan yang ditandatangani oleh Pejabat Penandatangan Kontrak dan Penyedia nomor "&Input!D104&" tanggal "&Input!H102&", pekerjaan dinyatakan telah selesai." -> Berdasarkan Berita Acara Penyelesaian Pekerjaan yang ditandatangani oleh Pejabat Penandatangan Kontrak dan Penyedia nomor 027.3/17/BAPH/BPKAD/2024 tanggal 2 September 2023, pekerjaan dinyatakan telah selesai.
A25: ="Sesuai Surat Perintah Kerja (SPK), maka Penyedia berhak menerima pembayaran atas Pekerjaan "&paket&" dari Pejabat Penandatangan Kontrak sebesar Rp. "&TEXT(spk_nilai,tiko1)&" ("&spk_ter&")." -> Sesuai Surat Perintah Kerja (SPK), maka Penyedia berhak menerima pembayaran atas Pekerjaan Belanja Pemeliharaan Bangunan Gedung-Bangunan Gedung Tempat Kerja-Bangunan Gedung Kantor-Pemeliharaan Gedung Bertingkat dari Pejabat Penandatangan Kontrak sebesar Rp. 69,862,000 (Enam Puluh Sembilan Juta Delapan Ratus Enam Puluh Dua Ribu Rupiah).
A29: Penyedia sepakat atas jumlah pembayaran di atas dan dibayar ke rekening:
B30: Nomor | D30: : | E30: =Input!D164 -> 001-02-0039638-3
B31: Nama Bank | D31: : | E31: =Input!D165 -> Bank NTB Syariah
B32: Atas Nama | D32: : | E32: =Input!D166 -> PT. DARUSSALAM MEDIA GROUP
A34: Demikian Berita Acara ini dibuat untuk dapat dipergunakan sebagaimana mestinya.
D36: Penyedia | H36: =opd_nama -> Badan Pengelolaan Keuangan dan Aset Daerah
D37: =bu_nama -> PT. DARUSSALAM MEDIA GROUP | H37: Pejabat Penandatangan Kontrak
D41: =bu_pimn -> Saripudin | H41: =ppk_nama -> Ika Kurnia Mustika, ST, MT
D42: =bu_pim -> Direktur | H42: ="NIP. "&ppk_nip -> NIP. 19791117 200901 1 006
F44: Mengetahui,
F45: =pa_jab -> Kepala Badan Pengelolaan Keuangan dan Aset Daerah
F46: ="Selaku "&pa_sku -> Selaku Pengguna Anggaran
F50: =pa_nam -> Dr. H. Nursalim., S.Sos., M.M
F51: =pa_gol2&" ("&pa_gol&")" -> Pembina Utama Muda (IV/c)
F52: ="NIP. "&pa_nip -> NIP. 19721231 199402 1 009
A55: UNTUK PEMERINTAH | H55: Lembar Ke | I55: : | J55: 1,2,3,4 | L55: balik ke input
H56: No. Rekening | I56: :
H57: Dibukukan tgl | I57: :
H58: Nomor Buku | I58: :
A60: K U I T A N S I
A63: TERIMA DARI | D63: : | E63: =UPPER(pa_jab) -> KEPALA BADAN PENGELOLAAN KEUANGAN DAN ASET DAERAH
A65: BANYAKNYA UANG | D65: : | E65: =spk_nilai -> 69862000
A67: UNTUK PEMBAYARAN | D67: : | E67: =paket -> Belanja Pemeliharaan Bangunan Gedung-Bangunan Gedung Tempat Kerja-Bangunan Gedung Kantor-Pemeliharaan Gedung Bertingkat
A69: TERBILANG | D69: : | E69: =spk_ter -> Enam Puluh Sembilan Juta Delapan Ratus Enam Puluh Dua Ribu Rupiah
A72: Mengetahui/Menyetujui | H72: ="Mataram, "&" "&tahun -> Mataram, 2025
A73: =pa_jab -> Kepala Badan Pengelolaan Keuangan dan Aset Daerah
F74: Lunas dibayar, | H74: Yang Menerima Uang,
A75: ="Selaku "&pa_sku -> Selaku Pengguna Anggaran | F75: Bendahara Pengeluaran, | H75: =bu_nama -> PT. DARUSSALAM MEDIA GROUP
A79: =pa_nam -> Dr. H. Nursalim., S.Sos., M.M | F79: =Input!$D$170 -> Warni Juita, SE | H79: =bu_pimn -> Saripudin
A80: ="NIP. "&pa_nip -> NIP. 19721231 199402 1 009 | F80: ="NIP. "&Input!$D$171 -> NIP. 19821231 200801 2 021 | H80: ="NPWP. "&bu_npwp -> NPWP. 03.990.125.5.8-911.000
F82: Barang/Jasa tersebut telah diterima
F83: dalam keadaan baik dan cukup.
A85: =php_jab -> Pejabat Pemeriksa Hasil Pekerjaan | H85: =ppk_jab -> Pejabat Pembuat Komitmen
A89: =php_na1 -> Nyiur Melambai | H89: =ppk_nama -> Ika Kurnia Mustika, ST, MT
A90: ="NIP. "&php_nip1 -> NIP. 19920202 200202 2 002 | H90: ="NIP. "&ppk_nip -> NIP. 19791117 200901 1 006

Sheet spk.cover
D1: =opd_lok -> Provinsi Nusa Tenggara Barat
D2: =opd_nama -> Badan Pengelolaan Keuangan dan Aset Daerah
D3: =opd_almt -> Jalan Pejanggik Nomor 14 Telp.( 0370 ) 627689, 625345 Fax: 627677
A7: SURAT PERINTAH KERJA
A8: (SPK)
A9: ="Nomor : "&Input!$D$91 -> Nomor : 027.1/1/SPK/BPKAD/2025
A10: ="Tanggal : "&TEXT(Input!$F$91,"[$-421]d mmmm yyyy") -> Tanggal : 3 Agustus 2023
A18: Paket Pekerjaan:
A19: =UPPER(paket) -> BELANJA PEMELIHARAAN BANGUNAN GEDUNG-BANGUNAN GEDUNG TEMPAT KERJA-BANGUNAN GEDUNG KANTOR-PEMELIHARAAN GEDUNG BERTINGKAT
D21: Nilai SPK | G21: : | H21: =bu_hn -> 69862000
D22: Waktu Pelaksanaan | G22: : | H22: =masa&" ("&Input!$E$16&") hari kalender" -> 30 (tiga puluh) hari kalender
D23: Mulai | G23: : | H23: =Input!$H$98 -> 3 Agustus 2023
D24: Selesai | G24: : | H24: =Input!$H$99 -> 2 September 2023
A29: ="Tahun Anggaran "&tahun -> Tahun Anggaran 2025
A32: PENYEDIA:
A33: =UPPER(bu_nama) -> PT. DARUSSALAM MEDIA GROUP
A34: =bu_almt -> JL Meninting 13 No.. 22C BTN Kekalik, Kel. Pagesangan Barat, Kota Mataram, Provinsi Nusa Tenggara Barat
A35: ="NPWP : "&bu_npwp -> NPWP : 03.990.125.5.8-911.000

Sheet Uang
A1: =I2&K2&I3&K3&I4&K4&I5&K5&I6&K6&I7&K7&I8&K8&I9&K9&I10&K10&I11&K11&I12&K12&I13&K13&I14&K14&I15&K15 -> Enam Puluh Sembilan Juta Delapan Ratus Enam Puluh Dua Ribu Rupiah | V1: =IF(hps>0,TEXT(1000000000,"#.##0"),0) -> 1000000000.0 | W1: =LEN(V1) -> 12 | X1: =IF(W1>W2,"#.##0","#,##0") -> #,##0 | Y1: rupiah
A2: =hps -> 69862000 | B2: =ROUNDDOWN(A2,-11) -> 0 | C2: =LEFT(B2) -> 0 | D2: =VALUE(C2) -> 0 | G2: =IF(D2=0,"",(VLOOKUP(D2,$P$2:$Q$11,2))) | H2: =IF(D2=1,"Se",G2) | I2: =IF(F2=0,H2,F2) | J2: =IF(D2=1,"ratus ",IF(D2=0,"","Ratus ")) | K2: =IF(E2=0,J2,"") | P2: 0 | R2: =P11+1 -> 10 | S2: Sepuluh | V2: =IF(hps>0,TEXT(1000000000,"#,##0"),0) -> 1,000,000,000 | W2: =LEN(V2) -> 13 | X2: =IF(W1>W2,"0,00","0.00") -> 0.00 | Y2: skor
A3: Total HPS | B3: =ROUNDDOWN(A2-B2,-10) -> 0 | C3: =LEFT(B3) -> 0 | D3: =VALUE(C3) -> 0 | E3: =IF(D3=1,D3*10+D4,0) -> 0 | F3: =IF(E3=0,0,VLOOKUP(E3,$R$2:$S$11,2)) -> 0 | G3: =IF(D3=0,"",(VLOOKUP(D3,$P$2:$Q$11,2))) | H3: =IF(D3=1,"Se",G3) | I3: =IF(F3=0,H3,F3) | J3: =IF(D3=0,"","Puluh ") | K3: =IF(E3=0,J3,"") | L3: =IF(F3=0,"","Milyar ") | P3: 1 | Q3: Satu | R3: =R2+1 -> 11 | S3: Sebelas | V3: =TEXT(hps,tiko1) -> 69,862,000
B4: =ROUNDDOWN(A2-B3-B2,-9) -> 0 | C4: =LEFT(B4) -> 0 | D4: =VALUE(C4) -> 0 | G4: =IF(D4=0,"",(VLOOKUP(D4,$P$2:$Q$11,2))) | H4: =IF(D4=1,"Satu ",G4) | I4: =IF(E3=0,IF(F4=0,H4,F4),"") | J4: =IF(D2+D3+D4=0,"","Milyar ") | K4: =IF(E4=0,J4,"") | P4: =P3+1 -> 2 | Q4: Dua | R4: =R3+1 -> 12 | S4: Dua Belas
B5: =ROUNDDOWN(A2-B4-B3-B2,-8) -> 0 | C5: =LEFT(B5) -> 0 | D5: =VALUE(C5) -> 0 | G5: =IF(D5=0,"",(VLOOKUP(D5,$P$2:$Q$11,2))) | H5: =IF(D5=1,"Se",G5) | I5: =IF(F5=0,H5,F5) | J5: =IF(D5=1,"ratus ",IF(D5=0,"","Ratus ")) | K5: =IF(E5=0,J5,"") | P5: =P4+1 -> 3 | Q5: Tiga | R5: =R4+1 -> 13 | S5: Tiga Belas
B6: =ROUNDDOWN(A2-B5-B4-B3-B2,-7) -> 60000000 | C6: =LEFT(B6) -> 6 | D6: =VALUE(C6) -> 6 | E6: =IF(D6=1,D6*10+D7,0) -> 0 | F6: =IF(E6=0,0,VLOOKUP(E6,$R$2:$S$11,2)) -> 0 | G6: =IF(D6=0,"",(VLOOKUP(D6,$P$2:$Q$11,2))) -> Enam | H6: =IF(D6=1,"Se",G6) -> Enam | I6: =IF(F6=0,H6,F6) -> Enam | J6: =IF(D6=0,"","Puluh ") -> Puluh | K6: =IF(E6=0,J6,"") -> Puluh | P6: =P5+1 -> 4 | Q6: Empat | R6: =R5+1 -> 14 | S6: Empat Belas
B7: =ROUNDDOWN(A2-B6-B5-B4-B3-B2,-6) -> 9000000 | C7: =LEFT(B7) -> 9 | D7: =VALUE(C7) -> 9 | G7: =IF(D7=0,"",(VLOOKUP(D7,$P$2:$Q$11,2))) -> Sembilan | H7: =IF(D7=1,"Satu ",G7) -> Sembilan | I7: =IF(E6=0,IF(F7=0,H7,F7),"") -> Sembilan | J7: =IF(D7+D6+D5=0,"","Juta ") -> Juta | K7: =IF(E7=0,J7,"") -> Juta | P7: =P6+1 -> 5 | Q7: Lima | R7: =R6+1 -> 15 | S7: Lima Belas
B8: =ROUNDDOWN(A2-B7-B6-B5-B4-B3-B2,-5) -> 800000 | C8: =LEFT(B8) -> 8 | D8: =VALUE(C8) -> 8 | G8: =IF(D8=0,"",(VLOOKUP(D8,$P$2:$Q$11,2))) -> Delapan | H8: =IF(D8=1,"Se",G8) -> Delapan | I8: =IF(F8=0,H8,F8) -> Delapan | J8: =IF(D8=1,"ratus ",IF(D8=0,"","Ratus ")) -> Ratus | K8: =IF(E8=0,J8,"") -> Ratus | P8: =P7+1 -> 6 | Q8: Enam | R8: =R7+1 -> 16 | S8: Enam Belas
B9: =ROUNDDOWN(A2-B8-B7-B6-B5-B4-B3-B2,-4) -> 60000 | C9: =LEFT(B9) -> 6 | D9: =VALUE(C9) -> 6 | E9: =IF(D9=1,D9*10+D10,0) -> 0 | F9: =IF(E9=0,0,VLOOKUP(E9,$R$2:$S$11,2)) -> 0 | G9: =IF(D9=0,"",(VLOOKUP(D9,$P$2:$Q$11,2))) -> Enam | H9: =IF(D9=1,"Se",G9) -> Enam | I9: =IF(F9=0,H9,F9) -> Enam | J9: =IF(D9=0,"","Puluh ") -> Puluh | K9: =IF(E9=0,J9,"") -> Puluh | P9: =P8+1 -> 7 | Q9: Tujuh | R9: =R8+1 -> 17 | S9: Tujuh Belas
B10: =ROUNDDOWN(A2-B9-B8-B7-B6-B5-B4-B3-B2,-3) -> 2000 | C10: =LEFT(B10) -> 2 | D10: =VALUE(C10) -> 2 | G10: =IF(D10=0,"",(VLOOKUP(D10,$P$2:$Q$11,2))) -> Dua | H10: =IF(AND(D10=1,D9+D8=0),"Se",IF(D10=1,"Satu ",G10)) -> Dua | I10: =IF(E9=0,IF(F10=0,H10,F10),"") -> Dua | J10: =IF(AND(D10=1,D9+D8=0),"ribu ",IF(D10+D9+D8=0,"","Ribu ")) -> Ribu | K10: =IF(E10=0,J10,"") -> Ribu | P10: =P9+1 -> 8 | Q10: Delapan | R10: =R9+1 -> 18 | S10: Delapan Belas
B11: =ROUNDDOWN(A2-B10-B9-B8-B7-B6-B5-B4-B3-B2,-2) -> 0 | C11: =LEFT(B11) -> 0 | D11: =VALUE(C11) -> 0 | G11: =IF(D11=0,"",(VLOOKUP(D11,$P$2:$Q$11,2))) | H11: =IF(D11=1,"Se",G11) | I11: =IF(F11=0,H11,F11) | J11: =IF(D11=1,"ratus ",IF(D11=0,"","Ratus ")) | K11: =IF(E11=0,J11,"") | P11: =P10+1 -> 9 | Q11: Sembilan | R11: =R10+1 -> 19 | S11: Sembilan Belas
B12: =ROUNDDOWN(A2-B11-B10-B9-B8-B7-B6-B5-B4-B3-B2,-1) -> 0 | C12: =LEFT(B12) -> 0 | D12: =VALUE(C12) -> 0 | E12: =IF(D12=1,D12*10+D13,0) -> 0 | F12: =IF(E12=0,0,VLOOKUP(E12,$R$2:$S$11,2)) -> 0 | G12: =IF(D12=0,"",(VLOOKUP(D12,$P$2:$Q$11,2))) | H12: =IF(D12=1,"Se",G12) | I12: =IF(F12=0,H12,F12) | J12: =IF(D12=0,"","Puluh ") | K12: =IF(E12=0,J12,"")
B13: =ROUNDDOWN(A2-B12-B11-B10-B9-B8-B7-B6-B5-B4-B3-B2,0) -> 0 | C13: =LEFT(B13) -> 0 | D13: =VALUE(C13) -> 0 | G13: =IF(D13=0,"",(VLOOKUP(D13,$P$2:$Q$11,2))) | H13: =IF(D13=1,"Satu ",G13) | I13: =IF(E12=0,IF(F13=0,H13,F13),"") | J13: =IF(D14+D15=0,"","Koma ") | K13: =IF(E13=0,J13,"")
B14: =ROUNDDOWN(A2-B13-B12-B11-B10-B9-B8-B7-B6-B5-B4-B3-B2,1)*10 -> 0 | C14: =LEFT(B14) -> 0 | D14: =VALUE(C14) -> 0 | E14: =IF(D14=1,D14*10+D15,0) -> 0 | F14: =IF(E14=0,0,VLOOKUP(E14,$R$2:$S$11,2)) -> 0 | G14: =IF(D14=0,"",(VLOOKUP(D14,$P$2:$Q$11,2))) | H14: =IF(D14=1,"se",G14) | I14: =IF(F14=0,H14,F14) | J14: =IF(D14=0,"","Puluh ") | K14: =IF(E14=0,J14,"")
B15: =ROUND(A2-B14/10-B13-B12-B11-B10-B9-B8-B7-B6-B5-B4-B3-B2,2) -> 0 | C15: =RIGHT(B15) -> 0 | D15: =VALUE(C15) -> 0 | G15: =IF(D15=0,"",(VLOOKUP(D15,$P$2:$Q$11,2))) | H15: =IF(D15=1,"Satu ",G15) | I15: =IF(E14+E15=0,IF(F15=0,H15,F15),"") | J15: =IF(D14+D15=0,"Rupiah","Perseratus Rupiah") -> Rupiah | K15: =IF(E15=0,J15,"") -> Rupiah
A21: =I22&K22&I23&K23&I24&K24&I25&K25&I26&K26&I27&K27&I28&K28&I29&K29&I30&K30&I31&K31&I32&K32&I33&K33&I34&K34&I35&K35 -> Enam Puluh Sembilan Juta Delapan Ratus Enam Puluh Dua Ribu Rupiah
A22: =Nego!J37 -> 69862000 | B22: =ROUNDDOWN(A22,-11) -> 0 | C22: =LEFT(B22) -> 0 | D22: =VALUE(C22) -> 0 | G22: =IF(D22=0,"",(VLOOKUP(D22,$P$2:$Q$11,2))) | H22: =IF(D22=1,"Se",G22) | I22: =IF(F22=0,H22,F22) | J22: =IF(D22=1,"ratus ",IF(D22=0,"","Ratus ")) | K22: =IF(E22=0,J22,"") | P22: 0 | R22: =P31+1 -> 10 | S22: Sepuluh
A23: Harga Nego | B23: =ROUNDDOWN(A22-B22,-10) -> 0 | C23: =LEFT(B23) -> 0 | D23: =VALUE(C23) -> 0 | E23: =IF(D23=1,D23*10+D24,0) -> 0 | F23: =IF(E23=0,0,VLOOKUP(E23,$R$2:$S$11,2)) -> 0 | G23: =IF(D23=0,"",(VLOOKUP(D23,$P$2:$Q$11,2))) | H23: =IF(D23=1,"Se",G23) | I23: =IF(F23=0,H23,F23) | J23: =IF(D23=0,"","Puluh ") | K23: =IF(E23=0,J23,"") | L23: =IF(F23=0,"","Milyar ") | P23: 1 | Q23: Satu | R23: =R22+1 -> 11 | S23: Sebelas
B24: =ROUNDDOWN(A22-B23-B22,-9) -> 0 | C24: =LEFT(B24) -> 0 | D24: =VALUE(C24) -> 0 | G24: =IF(D24=0,"",(VLOOKUP(D24,$P$2:$Q$11,2))) | H24: =IF(D24=1,"Satu ",G24) | I24: =IF(E23=0,IF(F24=0,H24,F24),"") | J24: =IF(D22+D23+D24=0,"","Milyar ") | K24: =IF(E24=0,J24,"") | P24: =P23+1 -> 2 | Q24: Dua | R24: =R23+1 -> 12 | S24: Dua Belas
B25: =ROUNDDOWN(A22-B24-B23-B22,-8) -> 0 | C25: =LEFT(B25) -> 0 | D25: =VALUE(C25) -> 0 | G25: =IF(D25=0,"",(VLOOKUP(D25,$P$2:$Q$11,2))) | H25: =IF(D25=1,"Se",G25) | I25: =IF(F25=0,H25,F25) | J25: =IF(D25=1,"ratus ",IF(D25=0,"","Ratus ")) | K25: =IF(E25=0,J25,"") | P25: =P24+1 -> 3 | Q25: Tiga | R25: =R24+1 -> 13 | S25: Tiga Belas
B26: =ROUNDDOWN(A22-B25-B24-B23-B22,-7) -> 60000000 | C26: =LEFT(B26) -> 6 | D26: =VALUE(C26) -> 6 | E26: =IF(D26=1,D26*10+D27,0) -> 0 | F26: =IF(E26=0,0,VLOOKUP(E26,$R$2:$S$11,2)) -> 0 | G26: =IF(D26=0,"",(VLOOKUP(D26,$P$2:$Q$11,2))) -> Enam | H26: =IF(D26=1,"Se",G26) -> Enam | I26: =IF(F26=0,H26,F26) -> Enam | J26: =IF(D26=0,"","Puluh ") -> Puluh | K26: =IF(E26=0,J26,"") -> Puluh | P26: =P25+1 -> 4 | Q26: Empat | R26: =R25+1 -> 14 | S26: Empat Belas
B27: =ROUNDDOWN(A22-B26-B25-B24-B23-B22,-6) -> 9000000 | C27: =LEFT(B27) -> 9 | D27: =VALUE(C27) -> 9 | G27: =IF(D27=0,"",(VLOOKUP(D27,$P$2:$Q$11,2))) -> Sembilan | H27: =IF(D27=1,"Satu ",G27) -> Sembilan | I27: =IF(E26=0,IF(F27=0,H27,F27),"") -> Sembilan | J27: =IF(D27+D26+D25=0,"","Juta ") -> Juta | K27: =IF(E27=0,J27,"") -> Juta | P27: =P26+1 -> 5 | Q27: Lima | R27: =R26+1 -> 15 | S27: Lima Belas
B28: =ROUNDDOWN(A22-B27-B26-B25-B24-B23-B22,-5) -> 800000 | C28: =LEFT(B28) -> 8 | D28: =VALUE(C28) -> 8 | G28: =IF(D28=0,"",(VLOOKUP(D28,$P$2:$Q$11,2))) -> Delapan | H28: =IF(D28=1,"Se",G28) -> Delapan | I28: =IF(F28=0,H28,F28) -> Delapan | J28: =IF(D28=1,"ratus ",IF(D28=0,"","Ratus ")) -> Ratus | K28: =IF(E28=0,J28,"") -> Ratus | P28: =P27+1 -> 6 | Q28: Enam | R28: =R27+1 -> 16 | S28: Enam Belas
B29: =ROUNDDOWN(A22-B28-B27-B26-B25-B24-B23-B22,-4) -> 60000 | C29: =LEFT(B29) -> 6 | D29: =VALUE(C29) -> 6 | E29: =IF(D29=1,D29*10+D30,0) -> 0 | F29: =IF(E29=0,0,VLOOKUP(E29,$R$2:$S$11,2)) -> 0 | G29: =IF(D29=0,"",(VLOOKUP(D29,$P$2:$Q$11,2))) -> Enam | H29: =IF(D29=1,"Se",G29) -> Enam | I29: =IF(F29=0,H29,F29) -> Enam | J29: =IF(D29=0,"","Puluh ") -> Puluh | K29: =IF(E29=0,J29,"") -> Puluh | P29: =P28+1 -> 7 | Q29: Tujuh | R29: =R28+1 -> 17 | S29: Tujuh Belas
B30: =ROUNDDOWN(A22-B29-B28-B27-B26-B25-B24-B23-B22,-3) -> 2000 | C30: =LEFT(B30) -> 2 | D30: =VALUE(C30) -> 2 | G30: =IF(D30=0,"",(VLOOKUP(D30,$P$2:$Q$11,2))) -> Dua | H30: =IF(AND(D30=1,D29+D28=0),"Se",IF(D30=1,"Satu ",G30)) -> Dua | I30: =IF(E29=0,IF(F30=0,H30,F30),"") -> Dua | J30: =IF(AND(D30=1,D29+D28=0),"ribu ",IF(D30+D29+D28=0,"","Ribu ")) -> Ribu | K30: =IF(E30=0,J30,"") -> Ribu | P30: =P29+1 -> 8 | Q30: Delapan | R30: =R29+1 -> 18 | S30: Delapan Belas
B31: =ROUNDDOWN(A22-B30-B29-B28-B27-B26-B25-B24-B23-B22,-2) -> 0 | C31: =LEFT(B31) -> 0 | D31: =VALUE(C31) -> 0 | G31: =IF(D31=0,"",(VLOOKUP(D31,$P$2:$Q$11,2))) | H31: =IF(D31=1,"Se",G31) | I31: =IF(F31=0,H31,F31) | J31: =IF(D31=1,"ratus ",IF(D31=0,"","Ratus ")) | K31: =IF(E31=0,J31,"") | P31: =P30+1 -> 9 | Q31: Sembilan | R31: =R30+1 -> 19 | S31: Sembilan Belas
B32: =ROUNDDOWN(A22-B31-B30-B29-B28-B27-B26-B25-B24-B23-B22,-1) -> 0 | C32: =LEFT(B32) -> 0 | D32: =VALUE(C32) -> 0 | E32: =IF(D32=1,D32*10+D33,0) -> 0 | F32: =IF(E32=0,0,VLOOKUP(E32,$R$2:$S$11,2)) -> 0 | G32: =IF(D32=0,"",(VLOOKUP(D32,$P$2:$Q$11,2))) | H32: =IF(D32=1,"Se",G32) | I32: =IF(F32=0,H32,F32) | J32: =IF(D32=0,"","Puluh ") | K32: =IF(E32=0,J32,"")
B33: =ROUNDDOWN(A22-B32-B31-B30-B29-B28-B27-B26-B25-B24-B23-B22,0) -> 0 | C33: =LEFT(B33) -> 0 | D33: =VALUE(C33) -> 0 | G33: =IF(D33=0,"",(VLOOKUP(D33,$P$2:$Q$11,2))) | H33: =IF(D33=1,"Satu ",G33) | I33: =IF(E32=0,IF(F33=0,H33,F33),"") | J33: =IF(D34+D35=0,"","Koma ") | K33: =IF(E33=0,J33,"")
B34: =ROUNDDOWN(A22-B33-B32-B31-B30-B29-B28-B27-B26-B25-B24-B23-B22,1)*10 -> 0 | C34: =LEFT(B34) -> 0 | D34: =VALUE(C34) -> 0 | E34: =IF(D34=1,D34*10+D35,0) -> 0 | F34: =IF(E34=0,0,VLOOKUP(E34,$R$2:$S$11,2)) -> 0 | G34: =IF(D34=0,"",(VLOOKUP(D34,$P$2:$Q$11,2))) | H34: =IF(D34=1,"se",G34) | I34: =IF(F34=0,H34,F34) | J34: =IF(D34=0,"","Puluh ") | K34: =IF(E34=0,J34,"")
B35: =ROUND(A22-B34/10-B33-B32-B31-B30-B29-B28-B27-B26-B25-B24-B23-B22,2) -> 0 | C35: =RIGHT(B35) -> 0 | D35: =VALUE(C35) -> 0 | G35: =IF(D35=0,"",(VLOOKUP(D35,$P$2:$Q$11,2))) | H35: =IF(D35=1,"Satu ",G35) | I35: =IF(E34+E35=0,IF(F35=0,H35,F35),"") | J35: =IF(D34+D35=0,"Rupiah","Perseratus Rupiah") -> Rupiah | K35: =IF(E35=0,J35,"") -> Rupiah
A41: =I42&K42&I43&K43&I44&K44&I45&K45&I46&K46&I47&K47&I48&K48&I49&K49&I50&K50&I51&K51&I52&K52&I53&K53&I54&K54&I55&K55 -> Enam Puluh Sembilan Juta Delapan Ratus Enam Puluh Dua Ribu Rupiah
A42: =Input!$D$135 -> 69862000 | B42: =ROUNDDOWN(A42,-11) -> 0 | C42: =LEFT(B42) -> 0 | D42: =VALUE(C42) -> 0 | G42: =IF(D42=0,"",(VLOOKUP(D42,$P$2:$Q$11,2))) | H42: =IF(D42=1,"Se",G42) | I42: =IF(F42=0,H42,F42) | J42: =IF(D42=1,"ratus ",IF(D42=0,"","Ratus ")) | K42: =IF(E42=0,J42,"") | P42: 0 | R42: =P51+1 -> 10 | S42: Sepuluh
A43: Harga Kontrak | B43: =ROUNDDOWN(A42-B42,-10) -> 0 | C43: =LEFT(B43) -> 0 | D43: =VALUE(C43) -> 0 | E43: =IF(D43=1,D43*10+D44,0) -> 0 | F43: =IF(E43=0,0,VLOOKUP(E43,$R$2:$S$11,2)) -> 0 | G43: =IF(D43=0,"",(VLOOKUP(D43,$P$2:$Q$11,2))) | H43: =IF(D43=1,"Se",G43) | I43: =IF(F43=0,H43,F43) | J43: =IF(D43=0,"","Puluh ") | K43: =IF(E43=0,J43,"") | L43: =IF(F43=0,"","Milyar ") | P43: 1 | Q43: Satu | R43: =R42+1 -> 11 | S43: Sebelas
B44: =ROUNDDOWN(A42-B43-B42,-9) -> 0 | C44: =LEFT(B44) -> 0 | D44: =VALUE(C44) -> 0 | G44: =IF(D44=0,"",(VLOOKUP(D44,$P$2:$Q$11,2))) | H44: =IF(D44=1,"Satu ",G44) | I44: =IF(E43=0,IF(F44=0,H44,F44),"") | J44: =IF(D42+D43+D44=0,"","Milyar ") | K44: =IF(E44=0,J44,"") | P44: =P43+1 -> 2 | Q44: Dua | R44: =R43+1 -> 12 | S44: Dua Belas
B45: =ROUNDDOWN(A42-B44-B43-B42,-8) -> 0 | C45: =LEFT(B45) -> 0 | D45: =VALUE(C45) -> 0 | G45: =IF(D45=0,"",(VLOOKUP(D45,$P$2:$Q$11,2))) | H45: =IF(D45=1,"Se",G45) | I45: =IF(F45=0,H45,F45) | J45: =IF(D45=1,"ratus ",IF(D45=0,"","Ratus ")) | K45: =IF(E45=0,J45,"") | P45: =P44+1 -> 3 | Q45: Tiga | R45: =R44+1 -> 13 | S45: Tiga Belas
B46: =ROUNDDOWN(A42-B45-B44-B43-B42,-7) -> 60000000 | C46: =LEFT(B46) -> 6 | D46: =VALUE(C46) -> 6 | E46: =IF(D46=1,D46*10+D47,0) -> 0 | F46: =IF(E46=0,0,VLOOKUP(E46,$R$2:$S$11,2)) -> 0 | G46: =IF(D46=0,"",(VLOOKUP(D46,$P$2:$Q$11,2))) -> Enam | H46: =IF(D46=1,"Se",G46) -> Enam | I46: =IF(F46=0,H46,F46) -> Enam | J46: =IF(D46=0,"","Puluh ") -> Puluh | K46: =IF(E46=0,J46,"") -> Puluh | P46: =P45+1 -> 4 | Q46: Empat | R46: =R45+1 -> 14 | S46: Empat Belas
B47: =ROUNDDOWN(A42-B46-B45-B44-B43-B42,-6) -> 9000000 | C47: =LEFT(B47) -> 9 | D47: =VALUE(C47) -> 9 | G47: =IF(D47=0,"",(VLOOKUP(D47,$P$2:$Q$11,2))) -> Sembilan | H47: =IF(D47=1,"Satu ",G47) -> Sembilan | I47: =IF(E46=0,IF(F47=0,H47,F47),"") -> Sembilan | J47: =IF(D47+D46+D45=0,"","Juta ") -> Juta | K47: =IF(E47=0,J47,"") -> Juta | P47: =P46+1 -> 5 | Q47: Lima | R47: =R46+1 -> 15 | S47: Lima Belas
B48: =ROUNDDOWN(A42-B47-B46-B45-B44-B43-B42,-5) -> 800000 | C48: =LEFT(B48) -> 8 | D48: =VALUE(C48) -> 8 | G48: =IF(D48=0,"",(VLOOKUP(D48,$P$2:$Q$11,2))) -> Delapan | H48: =IF(D48=1,"Se",G48) -> Delapan | I48: =IF(F48=0,H48,F48) -> Delapan | J48: =IF(D48=1,"ratus ",IF(D48=0,"","Ratus ")) -> Ratus | K48: =IF(E48=0,J48,"") -> Ratus | P48: =P47+1 -> 6 | Q48: Enam | R48: =R47+1 -> 16 | S48: Enam Belas
B49: =ROUNDDOWN(A42-B48-B47-B46-B45-B44-B43-B42,-4) -> 60000 | C49: =LEFT(B49) -> 6 | D49: =VALUE(C49) -> 6 | E49: =IF(D49=1,D49*10+D50,0) -> 0 | F49: =IF(E49=0,0,VLOOKUP(E49,$R$2:$S$11,2)) -> 0 | G49: =IF(D49=0,"",(VLOOKUP(D49,$P$2:$Q$11,2))) -> Enam | H49: =IF(D49=1,"Se",G49) -> Enam | I49: =IF(F49=0,H49,F49) -> Enam | J49: =IF(D49=0,"","Puluh ") -> Puluh | K49: =IF(E49=0,J49,"") -> Puluh | P49: =P48+1 -> 7 | Q49: Tujuh | R49: =R48+1 -> 17 | S49: Tujuh Belas
B50: =ROUNDDOWN(A42-B49-B48-B47-B46-B45-B44-B43-B42,-3) -> 2000 | C50: =LEFT(B50) -> 2 | D50: =VALUE(C50) -> 2 | G50: =IF(D50=0,"",(VLOOKUP(D50,$P$2:$Q$11,2))) -> Dua | H50: =IF(AND(D50=1,D49+D48=0),"Se",IF(D50=1,"Satu ",G50)) -> Dua | I50: =IF(E49=0,IF(F50=0,H50,F50),"") -> Dua | J50: =IF(AND(D50=1,D49+D48=0),"ribu ",IF(D50+D49+D48=0,"","Ribu ")) -> Ribu | K50: =IF(E50=0,J50,"") -> Ribu | P50: =P49+1 -> 8 | Q50: Delapan | R50: =R49+1 -> 18 | S50: Delapan Belas
B51: =ROUNDDOWN(A42-B50-B49-B48-B47-B46-B45-B44-B43-B42,-2) -> 0 | C51: =LEFT(B51) -> 0 | D51: =VALUE(C51) -> 0 | G51: =IF(D51=0,"",(VLOOKUP(D51,$P$2:$Q$11,2))) | H51: =IF(D51=1,"Se",G51) | I51: =IF(F51=0,H51,F51) | J51: =IF(D51=1,"ratus ",IF(D51=0,"","Ratus ")) | K51: =IF(E51=0,J51,"") | P51: =P50+1 -> 9 | Q51: Sembilan | R51: =R50+1 -> 19 | S51: Sembilan Belas
B52: =ROUNDDOWN(A42-B51-B50-B49-B48-B47-B46-B45-B44-B43-B42,-1) -> 0 | C52: =LEFT(B52) -> 0 | D52: =VALUE(C52) -> 0 | E52: =IF(D52=1,D52*10+D53,0) -> 0 | F52: =IF(E52=0,0,VLOOKUP(E52,$R$2:$S$11,2)) -> 0 | G52: =IF(D52=0,"",(VLOOKUP(D52,$P$2:$Q$11,2))) | H52: =IF(D52=1,"Se",G52) | I52: =IF(F52=0,H52,F52) | J52: =IF(D52=0,"","Puluh ") | K52: =IF(E52=0,J52,"")
B53: =ROUNDDOWN(A42-B52-B51-B50-B49-B48-B47-B46-B45-B44-B43-B42,0) -> 0 | C53: =LEFT(B53) -> 0 | D53: =VALUE(C53) -> 0 | G53: =IF(D53=0,"",(VLOOKUP(D53,$P$2:$Q$11,2))) | H53: =IF(D53=1,"Satu ",G53) | I53: =IF(E52=0,IF(F53=0,H53,F53),"") | J53: =IF(D54+D55=0,"","Koma ") | K53: =IF(E53=0,J53,"")
B54: =ROUNDDOWN(A42-B53-B52-B51-B50-B49-B48-B47-B46-B45-B44-B43-B42,1)*10 -> 0 | C54: =LEFT(B54) -> 0 | D54: =VALUE(C54) -> 0 | E54: =IF(D54=1,D54*10+D55,0) -> 0 | F54: =IF(E54=0,0,VLOOKUP(E54,$R$2:$S$11,2)) -> 0 | G54: =IF(D54=0,"",(VLOOKUP(D54,$P$2:$Q$11,2))) | H54: =IF(D54=1,"se",G54) | I54: =IF(F54=0,H54,F54) | J54: =IF(D54=0,"","Puluh ") | K54: =IF(E54=0,J54,"")
B55: =ROUND(A42-B54/10-B53-B52-B51-B50-B49-B48-B47-B46-B45-B44-B43-B42,2) -> 0 | C55: =RIGHT(B55) -> 0 | D55: =VALUE(C55) -> 0 | G55: =IF(D55=0,"",(VLOOKUP(D55,$P$2:$Q$11,2))) | H55: =IF(D55=1,"Satu ",G55) | I55: =IF(E54+E55=0,IF(F55=0,H55,F55),"") | J55: =IF(D54+D55=0,"Rupiah","Perseratus Rupiah") -> Rupiah | K55: =IF(E55=0,J55,"") -> Rupiah
A61: =I62&K62&I63&K63&I64&K64&I65&K65&I66&K66&I67&K67&I68&K68&I69&K69&I70&K70&I71&K71&I72&K72&I73&K73&I74&K74&I75&K75 -> Seratus Sembilan Puluh Sembilan Juta Sembilan Ratus Sembilan Puluh Sembilan Ribu Delapan Ratus Rupiah
A62: =bu_hp -> 199999800 | B62: =ROUNDDOWN(A62,-11) -> 0 | C62: =LEFT(B62) -> 0 | D62: =VALUE(C62) -> 0 | G62: =IF(D62=0,"",(VLOOKUP(D62,$P$2:$Q$11,2))) | H62: =IF(D62=1,"Se",G62) | I62: =IF(F62=0,H62,F62) | J62: =IF(D62=1,"ratus ",IF(D62=0,"","Ratus ")) | K62: =IF(E62=0,J62,"") | P62: 0 | R62: =P71+1 -> 10 | S62: Sepuluh
A63: Harga Penawaran | B63: =ROUNDDOWN(A62-B62,-10) -> 0 | C63: =LEFT(B63) -> 0 | D63: =VALUE(C63) -> 0 | E63: =IF(D63=1,D63*10+D64,0) -> 0 | F63: =IF(E63=0,0,VLOOKUP(E63,$R$2:$S$11,2)) -> 0 | G63: =IF(D63=0,"",(VLOOKUP(D63,$P$2:$Q$11,2))) | H63: =IF(D63=1,"Se",G63) | I63: =IF(F63=0,H63,F63) | J63: =IF(D63=0,"","Puluh ") | K63: =IF(E63=0,J63,"") | L63: =IF(F63=0,"","Milyar ") | P63: 1 | Q63: Satu | R63: =R62+1 -> 11 | S63: Sebelas
B64: =ROUNDDOWN(A62-B63-B62,-9) -> 0 | C64: =LEFT(B64) -> 0 | D64: =VALUE(C64) -> 0 | G64: =IF(D64=0,"",(VLOOKUP(D64,$P$2:$Q$11,2))) | H64: =IF(D64=1,"Satu ",G64) | I64: =IF(E63=0,IF(F64=0,H64,F64),"") | J64: =IF(D62+D63+D64=0,"","Milyar ") | K64: =IF(E64=0,J64,"") | P64: =P63+1 -> 2 | Q64: Dua | R64: =R63+1 -> 12 | S64: Dua Belas
B65: =ROUNDDOWN(A62-B64-B63-B62,-8) -> 100000000 | C65: =LEFT(B65) -> 1 | D65: =VALUE(C65) -> 1 | G65: =IF(D65=0,"",(VLOOKUP(D65,$P$2:$Q$11,2))) -> Satu | H65: =IF(D65=1,"Se",G65) -> Se | I65: =IF(F65=0,H65,F65) -> Se | J65: =IF(D65=1,"ratus ",IF(D65=0,"","Ratus ")) -> ratus | K65: =IF(E65=0,J65,"") -> ratus | P65: =P64+1 -> 3 | Q65: Tiga | R65: =R64+1 -> 13 | S65: Tiga Belas
B66: =ROUNDDOWN(A62-B65-B64-B63-B62,-7) -> 90000000 | C66: =LEFT(B66) -> 9 | D66: =VALUE(C66) -> 9 | E66: =IF(D66=1,D66*10+D67,0) -> 0 | F66: =IF(E66=0,0,VLOOKUP(E66,$R$2:$S$11,2)) -> 0 | G66: =IF(D66=0,"",(VLOOKUP(D66,$P$2:$Q$11,2))) -> Sembilan | H66: =IF(D66=1,"Se",G66) -> Sembilan | I66: =IF(F66=0,H66,F66) -> Sembilan | J66: =IF(D66=0,"","Puluh ") -> Puluh | K66: =IF(E66=0,J66,"") -> Puluh | P66: =P65+1 -> 4 | Q66: Empat | R66: =R65+1 -> 14 | S66: Empat Belas
B67: =ROUNDDOWN(A62-B66-B65-B64-B63-B62,-6) -> 9000000 | C67: =LEFT(B67) -> 9 | D67: =VALUE(C67) -> 9 | G67: =IF(D67=0,"",(VLOOKUP(D67,$P$2:$Q$11,2))) -> Sembilan | H67: =IF(D67=1,"Satu ",G67) -> Sembilan | I67: =IF(E66=0,IF(F67=0,H67,F67),"") -> Sembilan | J67: =IF(D67+D66+D65=0,"","Juta ") -> Juta | K67: =IF(E67=0,J67,"") -> Juta | P67: =P66+1 -> 5 | Q67: Lima | R67: =R66+1 -> 15 | S67: Lima Belas
B68: =ROUNDDOWN(A62-B67-B66-B65-B64-B63-B62,-5) -> 900000 | C68: =LEFT(B68) -> 9 | D68: =VALUE(C68) -> 9 | G68: =IF(D68=0,"",(VLOOKUP(D68,$P$2:$Q$11,2))) -> Sembilan | H68: =IF(D68=1,"Se",G68) -> Sembilan | I68: =IF(F68=0,H68,F68) -> Sembilan | J68: =IF(D68=1,"ratus ",IF(D68=0,"","Ratus ")) -> Ratus | K68: =IF(E68=0,J68,"") -> Ratus | P68: =P67+1 -> 6 | Q68: Enam | R68: =R67+1 -> 16 | S68: Enam Belas
B69: =ROUNDDOWN(A62-B68-B67-B66-B65-B64-B63-B62,-4) -> 90000 | C69: =LEFT(B69) -> 9 | D69: =VALUE(C69) -> 9 | E69: =IF(D69=1,D69*10+D70,0) -> 0 | F69: =IF(E69=0,0,VLOOKUP(E69,$R$2:$S$11,2)) -> 0 | G69: =IF(D69=0,"",(VLOOKUP(D69,$P$2:$Q$11,2))) -> Sembilan | H69: =IF(D69=1,"Se",G69) -> Sembilan | I69: =IF(F69=0,H69,F69) -> Sembilan | J69: =IF(D69=0,"","Puluh ") -> Puluh | K69: =IF(E69=0,J69,"") -> Puluh | P69: =P68+1 -> 7 | Q69: Tujuh | R69: =R68+1 -> 17 | S69: Tujuh Belas
B70: =ROUNDDOWN(A62-B69-B68-B67-B66-B65-B64-B63-B62,-3) -> 9000 | C70: =LEFT(B70) -> 9 | D70: =VALUE(C70) -> 9 | G70: =IF(D70=0,"",(VLOOKUP(D70,$P$2:$Q$11,2))) -> Sembilan | H70: =IF(AND(D70=1,D69+D68=0),"Se",IF(D70=1,"Satu ",G70)) -> Sembilan | I70: =IF(E69=0,IF(F70=0,H70,F70),"") -> Sembilan | J70: =IF(AND(D70=1,D69+D68=0),"ribu ",IF(D70+D69+D68=0,"","Ribu ")) -> Ribu | K70: =IF(E70=0,J70,"") -> Ribu | P70: =P69+1 -> 8 | Q70: Delapan | R70: =R69+1 -> 18 | S70: Delapan Belas
B71: =ROUNDDOWN(A62-B70-B69-B68-B67-B66-B65-B64-B63-B62,-2) -> 800 | C71: =LEFT(B71) -> 8 | D71: =VALUE(C71) -> 8 | G71: =IF(D71=0,"",(VLOOKUP(D71,$P$2:$Q$11,2))) -> Delapan | H71: =IF(D71=1,"Se",G71) -> Delapan | I71: =IF(F71=0,H71,F71) -> Delapan | J71: =IF(D71=1,"ratus ",IF(D71=0,"","Ratus ")) -> Ratus | K71: =IF(E71=0,J71,"") -> Ratus | P71: =P70+1 -> 9 | Q71: Sembilan | R71: =R70+1 -> 19 | S71: Sembilan Belas
B72: =ROUNDDOWN(A62-B71-B70-B69-B68-B67-B66-B65-B64-B63-B62,-1) -> 0 | C72: =LEFT(B72) -> 0 | D72: =VALUE(C72) -> 0 | E72: =IF(D72=1,D72*10+D73,0) -> 0 | F72: =IF(E72=0,0,VLOOKUP(E72,$R$2:$S$11,2)) -> 0 | G72: =IF(D72=0,"",(VLOOKUP(D72,$P$2:$Q$11,2))) | H72: =IF(D72=1,"Se",G72) | I72: =IF(F72=0,H72,F72) | J72: =IF(D72=0,"","Puluh ") | K72: =IF(E72=0,J72,"")
B73: =ROUNDDOWN(A62-B72-B71-B70-B69-B68-B67-B66-B65-B64-B63-B62,0) -> 0 | C73: =LEFT(B73) -> 0 | D73: =VALUE(C73) -> 0 | G73: =IF(D73=0,"",(VLOOKUP(D73,$P$2:$Q$11,2))) | H73: =IF(D73=1,"Satu ",G73) | I73: =IF(E72=0,IF(F73=0,H73,F73),"") | J73: =IF(D74+D75=0,"","Koma ") | K73: =IF(E73=0,J73,"")
B74: =ROUNDDOWN(A62-B73-B72-B71-B70-B69-B68-B67-B66-B65-B64-B63-B62,1)*10 -> 0 | C74: =LEFT(B74) -> 0 | D74: =VALUE(C74) -> 0 | E74: =IF(D74=1,D74*10+D75,0) -> 0 | F74: =IF(E74=0,0,VLOOKUP(E74,$R$2:$S$11,2)) -> 0 | G74: =IF(D74=0,"",(VLOOKUP(D74,$P$2:$Q$11,2))) | H74: =IF(D74=1,"se",G74) | I74: =IF(F74=0,H74,F74) | J74: =IF(D74=0,"","Puluh ") | K74: =IF(E74=0,J74,"")
B75: =ROUND(A62-B74/10-B73-B72-B71-B70-B69-B68-B67-B66-B65-B64-B63-B62,2) -> 0 | C75: =RIGHT(B75) -> 0 | D75: =VALUE(C75) -> 0 | G75: =IF(D75=0,"",(VLOOKUP(D75,$P$2:$Q$11,2))) | H75: =IF(D75=1,"Satu ",G75) | I75: =IF(E74+E75=0,IF(F75=0,H75,F75),"") | J75: =IF(D74+D75=0,"Rupiah","Perseratus Rupiah") -> Rupiah | K75: =IF(E75=0,J75,"") -> Rupiah
A81: =L82&M82&L83&M83&L84&M84&L85&M85&L86&M86&L87&M87&L88&M88&L89&M89&L90&M90&L91&M91&L92&M92&L93&M93&L94&M94&L95 -> tiga puluh
A82: =masa -> 30 | B82: =ROUNDDOWN(A82,-11) -> 0 | C82: =LEFT(B82) -> 0 | D82: =VALUE(C82) -> 0 | G82: =IF(D82=0,"",(VLOOKUP(D82,$P$82:$Q$91,2))) | H82: =IF(D82=1,"se",G82) | I82: =IF(F82=0,H82,F82) | J82: =IF(D82=1,"ratus",IF(D82=0,""," ratus")) | K82: =IF(E82=0,J82,"") | L82: =I82&K82 | M82: =IF(OR(L82="",L83=""),""," ") | P82: 0 | R82: =P91+1 -> 10 | S82: sepuluh
A83: masa pelaksanaan | B83: =ROUNDDOWN(A82-B82,-10) -> 0 | C83: =LEFT(B83) -> 0 | D83: =VALUE(C83) -> 0 | E83: =IF(D83=1,D83*10+D84,0) -> 0 | F83: =IF(E83=0,0,VLOOKUP(E83,$R$82:$S$91,2)) -> 0 | G83: =IF(D83=0,"",(VLOOKUP(D83,$P$82:$Q$91,2))) | H83: =IF(D83=1,"se",G83) | I83: =IF(F83=0,H83,F83) | J83: =IF(D83=0,""," puluh") | K83: =IF(E83=0,J83,"") | L83: =I83&K83 | M83: =IF(OR(L83="",L84=""),""," ") | P83: 1 | Q83: satu | R83: =R82+1 -> 11 | S83: sebelas
B84: =ROUNDDOWN(A82-B83-B82,-9) -> 0 | C84: =LEFT(B84) -> 0 | D84: =VALUE(C84) -> 0 | G84: =IF(D84=0,"",(VLOOKUP(D84,$P$82:$Q$91,2))) | H84: =IF(D84=1,"satu",G84) | I84: =IF(E83=0,IF(F84=0,H84,F84),"") | J84: =IF(D82+D83+D84=0,"",IF(D83=1,"milyar"," milyar")) | K84: =IF(E84=0,J84,"") | L84: =I84&K84 | M84: =IF(OR(L84="",L85=""),""," ") | P84: =P83+1 -> 2 | Q84: dua | R84: =R83+1 -> 12 | S84: dua belas
B85: =ROUNDDOWN(A82-B84-B83-B82,-8) -> 0 | C85: =LEFT(B85) -> 0 | D85: =VALUE(C85) -> 0 | G85: =IF(D85=0,"",(VLOOKUP(D85,$P$82:$Q$91,2))) | H85: =IF(D85=1,"se",G85) | I85: =IF(F85=0,H85,F85) | J85: =IF(D85=1,"ratus",IF(D85=0,""," ratus")) | K85: =IF(E85=0,J85,"") | L85: =I85&K85 | M85: =IF(OR(L85="",L86=""),""," ") | P85: =P84+1 -> 3 | Q85: tiga | R85: =R84+1 -> 13 | S85: tiga belas
B86: =ROUNDDOWN(A82-B85-B84-B83-B82,-7) -> 0 | C86: =LEFT(B86) -> 0 | D86: =VALUE(C86) -> 0 | E86: =IF(D86=1,D86*10+D87,0) -> 0 | F86: =IF(E86=0,0,VLOOKUP(E86,$R$82:$S$91,2)) -> 0 | G86: =IF(D86=0,"",(VLOOKUP(D86,$P$82:$Q$91,2))) | H86: =IF(D86=1,"se",G86) | I86: =IF(F86=0,H86,F86) | J86: =IF(D86=0,""," puluh") | K86: =IF(E86=0,J86,"") | L86: =I86&K86 | M86: =IF(OR(L86="",L87=""),""," ") | P86: =P85+1 -> 4 | Q86: empat | R86: =R85+1 -> 14 | S86: empat belas
B87: =ROUNDDOWN(A82-B86-B85-B84-B83-B82,-6) -> 0 | C87: =LEFT(B87) -> 0 | D87: =VALUE(C87) -> 0 | G87: =IF(D87=0,"",(VLOOKUP(D87,$P$82:$Q$91,2))) | H87: =IF(D87=1,"satu",G87) | I87: =IF(E86=0,IF(F87=0,H87,F87),"") | J87: =IF(D87+D86+D85=0,"",IF(D86=1,"juta"," juta")) | K87: =IF(E87=0,J87,"") | L87: =I87&K87 | M87: =IF(OR(L87="",L88=""),""," ") | P87: =P86+1 -> 5 | Q87: lima | R87: =R86+1 -> 15 | S87: lima belas
B88: =ROUNDDOWN(A82-B87-B86-B85-B84-B83-B82,-5) -> 0 | C88: =LEFT(B88) -> 0 | D88: =VALUE(C88) -> 0 | G88: =IF(D88=0,"",(VLOOKUP(D88,$P$82:$Q$91,2))) | H88: =IF(D88=1,"se",G88) | I88: =IF(F88=0,H88,F88) | J88: =IF(D88=1,"ratus",IF(D88=0,""," ratus")) | K88: =IF(E88=0,J88,"") | L88: =I88&K88 | M88: =IF(OR(L88="",L89=""),""," ") | P88: =P87+1 -> 6 | Q88: enam | R88: =R87+1 -> 16 | S88: enam belas
B89: =ROUNDDOWN(A82-B88-B87-B86-B85-B84-B83-B82,-4) -> 0 | C89: =LEFT(B89) -> 0 | D89: =VALUE(C89) -> 0 | E89: =IF(D89=1,D89*10+D90,0) -> 0 | F89: =IF(E89=0,0,VLOOKUP(E89,$R$82:$S$91,2)) -> 0 | G89: =IF(D89=0,"",(VLOOKUP(D89,$P$82:$Q$91,2))) | H89: =IF(D89=1,"se",G89) | I89: =IF(F89=0,H89,F89) | J89: =IF(D89=0,""," puluh") | K89: =IF(E89=0,J89,"") | L89: =I89&K89 | M89: =IF(OR(L89="",L90=""),""," ") | P89: =P88+1 -> 7 | Q89: tujuh | R89: =R88+1 -> 17 | S89: tujuh belas
B90: =ROUNDDOWN(A82-B89-B88-B87-B86-B85-B84-B83-B82,-3) -> 0 | C90: =LEFT(B90) -> 0 | D90: =VALUE(C90) -> 0 | G90: =IF(D90=0,"",(VLOOKUP(D90,$P$82:$Q$91,2))) | H90: =IF(AND(D90=1,D89+D88=0),"se",IF(D90=1,"satu",G90)) | I90: =IF(E89=0,IF(F90=0,H90,F90),"") | J90: =IF(AND(D90=1,D89+D88=0),"ribu",IF(D89=1,"ribu",IF(D90+D89+D88=0,""," ribu"))) | K90: =IF(E90=0,J90,"") | L90: =I90&K90 | M90: =IF(OR(L90="",L91=""),""," ") | P90: =P89+1 -> 8 | Q90: delapan | R90: =R89+1 -> 18 | S90: delapan belas
B91: =ROUNDDOWN(A82-B90-B89-B88-B87-B86-B85-B84-B83-B82,-2) -> 0 | C91: =LEFT(B91) -> 0 | D91: =VALUE(C91) -> 0 | G91: =IF(D91=0,"",(VLOOKUP(D91,$P$82:$Q$91,2))) | H91: =IF(D91=1,"se",G91) | I91: =IF(F91=0,H91,F91) | J91: =IF(D91=1,"ratus",IF(D91=0,""," ratus")) | K91: =IF(E91=0,J91,"") | L91: =I91&K91 | M91: =IF(OR(L91="",L92=""),""," ") | P91: =P90+1 -> 9 | Q91: sembilan | R91: =R90+1 -> 19 | S91: sembilan belas
B92: =ROUNDDOWN(A82-B91-B90-B89-B88-B87-B86-B85-B84-B83-B82,-1) -> 30 | C92: =LEFT(B92) -> 3 | D92: =VALUE(C92) -> 3 | E92: =IF(D92=1,D92*10+D93,0) -> 0 | F92: =IF(E92=0,0,VLOOKUP(E92,$R$82:$S$91,2)) -> 0 | G92: =IF(D92=0,"",(VLOOKUP(D92,$P$82:$Q$91,2))) -> tiga | H92: =IF(D92=1,"se",G92) -> tiga | I92: =IF(F92=0,H92,F92) -> tiga | J92: =IF(D92=0,""," puluh") -> puluh | K92: =IF(E92=0,J92,"") -> puluh | L92: =I92&K92 -> tiga puluh | M92: =IF(OR(L92="",L93=""),""," ")
B93: =ROUNDDOWN(A82-B92-B91-B90-B89-B88-B87-B86-B85-B84-B83-B82,0) -> 0 | C93: =LEFT(B93) -> 0 | D93: =VALUE(C93) -> 0 | G93: =IF(D93=0,"",(VLOOKUP(D93,$P$82:$Q$91,2))) | H93: =IF(D93=1,"satu",G93) | I93: =IF(E92=0,IF(F93=0,H93,F93),"") | J93: =IF(D94+D95=0,"","koma") | K93: =IF(E93=0,J93,"") | L93: =I93&K93 | M93: =IF(OR(L93="",L94=""),""," ")
B94: =ROUNDDOWN(A82-B93-B92-B91-B90-B89-B88-B87-B86-B85-B84-B83-B82,1)*10 -> 0 | C94: =LEFT(B94) -> 0 | D94: =VALUE(C94) -> 0 | G94: =IF(D94=0,"",(VLOOKUP(D94,$P$82:$Q$91,2))) | H94: =IF(D94=1,"satu",G94) | I94: =IF(F94=0,H94,F94) | L94: =I94&K94 | M94: =IF(OR(L94="",L95=""),""," ")
B95: =ROUND(A82-B94/10-B93-B92-B91-B90-B89-B88-B87-B86-B85-B84-B83-B82,2) -> 0 | C95: =RIGHT(B95) -> 0 | D95: =VALUE(C95) -> 0 | G95: =IF(D95=0,"",(VLOOKUP(D95,$P$82:$Q$91,2))) | H95: =IF(D95=1,"satu",G95) | I95: =IF(E94+E95=0,IF(F95=0,H95,F95),"") | L95: =I95&K95
A101: =L102&M102&L103&M103&L104&M104&L105&M105&L106&M106&L107&M107&L108&M108&L109&M109&L110&M110&L111&M111&L112&M112&L113&M113&L114&M114&L115 -> sembilan puluh
A102: =Input!$D$132 -> 90 | B102: =ROUNDDOWN(A102,-11) -> 0 | C102: =LEFT(B102) -> 0 | D102: =VALUE(C102) -> 0 | G102: =IF(D102=0,"",(VLOOKUP(D102,$P$82:$Q$91,2))) | H102: =IF(D102=1,"se",G102) | I102: =IF(F102=0,H102,F102) | J102: =IF(D102=1,"ratus",IF(D102=0,""," ratus")) | K102: =IF(E102=0,J102,"") | L102: =I102&K102 | M102: =IF(OR(L102="",L103=""),""," ") | P102: 0 | R102: =P111+1 -> 10 | S102: sepuluh
A103: masa pemeliharaan | B103: =ROUNDDOWN(A102-B102,-10) -> 0 | C103: =LEFT(B103) -> 0 | D103: =VALUE(C103) -> 0 | E103: =IF(D103=1,D103*10+D104,0) -> 0 | F103: =IF(E103=0,0,VLOOKUP(E103,$R$82:$S$91,2)) -> 0 | G103: =IF(D103=0,"",(VLOOKUP(D103,$P$82:$Q$91,2))) | H103: =IF(D103=1,"se",G103) | I103: =IF(F103=0,H103,F103) | J103: =IF(D103=0,""," puluh") | K103: =IF(E103=0,J103,"") | L103: =I103&K103 | M103: =IF(OR(L103="",L104=""),""," ") | P103: 1 | Q103: satu | R103: =R102+1 -> 11 | S103: sebelas
B104: =ROUNDDOWN(A102-B103-B102,-9) -> 0 | C104: =LEFT(B104) -> 0 | D104: =VALUE(C104) -> 0 | G104: =IF(D104=0,"",(VLOOKUP(D104,$P$82:$Q$91,2))) | H104: =IF(D104=1,"satu",G104) | I104: =IF(E103=0,IF(F104=0,H104,F104),"") | J104: =IF(D102+D103+D104=0,"",IF(D103=1,"milyar"," milyar")) | K104: =IF(E104=0,J104,"") | L104: =I104&K104 | M104: =IF(OR(L104="",L105=""),""," ") | P104: =P103+1 -> 2 | Q104: dua | R104: =R103+1 -> 12 | S104: dua belas
B105: =ROUNDDOWN(A102-B104-B103-B102,-8) -> 0 | C105: =LEFT(B105) -> 0 | D105: =VALUE(C105) -> 0 | G105: =IF(D105=0,"",(VLOOKUP(D105,$P$82:$Q$91,2))) | H105: =IF(D105=1,"se",G105) | I105: =IF(F105=0,H105,F105) | J105: =IF(D105=1,"ratus",IF(D105=0,""," ratus")) | K105: =IF(E105=0,J105,"") | L105: =I105&K105 | M105: =IF(OR(L105="",L106=""),""," ") | P105: =P104+1 -> 3 | Q105: tiga | R105: =R104+1 -> 13 | S105: tiga belas
B106: =ROUNDDOWN(A102-B105-B104-B103-B102,-7) -> 0 | C106: =LEFT(B106) -> 0 | D106: =VALUE(C106) -> 0 | E106: =IF(D106=1,D106*10+D107,0) -> 0 | F106: =IF(E106=0,0,VLOOKUP(E106,$R$82:$S$91,2)) -> 0 | G106: =IF(D106=0,"",(VLOOKUP(D106,$P$82:$Q$91,2))) | H106: =IF(D106=1,"se",G106) | I106: =IF(F106=0,H106,F106) | J106: =IF(D106=0,""," puluh") | K106: =IF(E106=0,J106,"") | L106: =I106&K106 | M106: =IF(OR(L106="",L107=""),""," ") | P106: =P105+1 -> 4 | Q106: empat | R106: =R105+1 -> 14 | S106: empat belas
B107: =ROUNDDOWN(A102-B106-B105-B104-B103-B102,-6) -> 0 | C107: =LEFT(B107) -> 0 | D107: =VALUE(C107) -> 0 | G107: =IF(D107=0,"",(VLOOKUP(D107,$P$82:$Q$91,2))) | H107: =IF(D107=1,"satu",G107) | I107: =IF(E106=0,IF(F107=0,H107,F107),"") | J107: =IF(D107+D106+D105=0,"",IF(D106=1,"juta"," juta")) | K107: =IF(E107=0,J107,"") | L107: =I107&K107 | M107: =IF(OR(L107="",L108=""),""," ") | P107: =P106+1 -> 5 | Q107: lima | R107: =R106+1 -> 15 | S107: lima belas
B108: =ROUNDDOWN(A102-B107-B106-B105-B104-B103-B102,-5) -> 0 | C108: =LEFT(B108) -> 0 | D108: =VALUE(C108) -> 0 | G108: =IF(D108=0,"",(VLOOKUP(D108,$P$82:$Q$91,2))) | H108: =IF(D108=1,"se",G108) | I108: =IF(F108=0,H108,F108) | J108: =IF(D108=1,"ratus",IF(D108=0,""," ratus")) | K108: =IF(E108=0,J108,"") | L108: =I108&K108 | M108: =IF(OR(L108="",L109=""),""," ") | P108: =P107+1 -> 6 | Q108: enam | R108: =R107+1 -> 16 | S108: enam belas
B109: =ROUNDDOWN(A102-B108-B107-B106-B105-B104-B103-B102,-4) -> 0 | C109: =LEFT(B109) -> 0 | D109: =VALUE(C109) -> 0 | E109: =IF(D109=1,D109*10+D110,0) -> 0 | F109: =IF(E109=0,0,VLOOKUP(E109,$R$82:$S$91,2)) -> 0 | G109: =IF(D109=0,"",(VLOOKUP(D109,$P$82:$Q$91,2))) | H109: =IF(D109=1,"se",G109) | I109: =IF(F109=0,H109,F109) | J109: =IF(D109=0,""," puluh") | K109: =IF(E109=0,J109,"") | L109: =I109&K109 | M109: =IF(OR(L109="",L110=""),""," ") | P109: =P108+1 -> 7 | Q109: tujuh | R109: =R108+1 -> 17 | S109: tujuh belas
B110: =ROUNDDOWN(A102-B109-B108-B107-B106-B105-B104-B103-B102,-3) -> 0 | C110: =LEFT(B110) -> 0 | D110: =VALUE(C110) -> 0 | G110: =IF(D110=0,"",(VLOOKUP(D110,$P$82:$Q$91,2))) | H110: =IF(AND(D110=1,D109+D108=0),"se",IF(D110=1,"satu",G110)) | I110: =IF(E109=0,IF(F110=0,H110,F110),"") | J110: =IF(AND(D110=1,D109+D108=0),"ribu",IF(D109=1,"ribu",IF(D110+D109+D108=0,""," ribu"))) | K110: =IF(E110=0,J110,"") | L110: =I110&K110 | M110: =IF(OR(L110="",L111=""),""," ") | P110: =P109+1 -> 8 | Q110: delapan | R110: =R109+1 -> 18 | S110: delapan belas
B111: =ROUNDDOWN(A102-B110-B109-B108-B107-B106-B105-B104-B103-B102,-2) -> 0 | C111: =LEFT(B111) -> 0 | D111: =VALUE(C111) -> 0 | G111: =IF(D111=0,"",(VLOOKUP(D111,$P$82:$Q$91,2))) | H111: =IF(D111=1,"se",G111) | I111: =IF(F111=0,H111,F111) | J111: =IF(D111=1,"ratus",IF(D111=0,""," ratus")) | K111: =IF(E111=0,J111,"") | L111: =I111&K111 | M111: =IF(OR(L111="",L112=""),""," ") | P111: =P110+1 -> 9 | Q111: sembilan | R111: =R110+1 -> 19 | S111: sembilan belas
B112: =ROUNDDOWN(A102-B111-B110-B109-B108-B107-B106-B105-B104-B103-B102,-1) -> 90 | C112: =LEFT(B112) -> 9 | D112: =VALUE(C112) -> 9 | E112: =IF(D112=1,D112*10+D113,0) -> 0 | F112: =IF(E112=0,0,VLOOKUP(E112,$R$82:$S$91,2)) -> 0 | G112: =IF(D112=0,"",(VLOOKUP(D112,$P$82:$Q$91,2))) -> sembilan | H112: =IF(D112=1,"se",G112) -> sembilan | I112: =IF(F112=0,H112,F112) -> sembilan | J112: =IF(D112=0,""," puluh") -> puluh | K112: =IF(E112=0,J112,"") -> puluh | L112: =I112&K112 -> sembilan puluh | M112: =IF(OR(L112="",L113=""),""," ")
B113: =ROUNDDOWN(A102-B112-B111-B110-B109-B108-B107-B106-B105-B104-B103-B102,0) -> 0 | C113: =LEFT(B113) -> 0 | D113: =VALUE(C113) -> 0 | G113: =IF(D113=0,"",(VLOOKUP(D113,$P$82:$Q$91,2))) | H113: =IF(D113=1,"satu",G113) | I113: =IF(E112=0,IF(F113=0,H113,F113),"") | J113: =IF(D114+D115=0,"","koma") | K113: =IF(E113=0,J113,"") | L113: =I113&K113 | M113: =IF(OR(L113="",L114=""),""," ")
B114: =ROUNDDOWN(A102-B113-B112-B111-B110-B109-B108-B107-B106-B105-B104-B103-B102,1)*10 -> 0 | C114: =LEFT(B114) -> 0 | D114: =VALUE(C114) -> 0 | G114: =IF(D114=0,"",(VLOOKUP(D114,$P$82:$Q$91,2))) | H114: =IF(D114=1,"satu",G114) | I114: =IF(F114=0,H114,F114) | L114: =I114&K114 | M114: =IF(OR(L114="",L115=""),""," ")
B115: =ROUND(A102-B114/10-B113-B112-B111-B110-B109-B108-B107-B106-B105-B104-B103-B102,2) -> 0 | C115: =RIGHT(B115) -> 0 | D115: =VALUE(C115) -> 0 | G115: =IF(D115=0,"",(VLOOKUP(D115,$P$82:$Q$91,2))) | H115: =IF(D115=1,"satu",G115) | I115: =IF(E114+E115=0,IF(F115=0,H115,F115),"") | L115: =I115&K115
A121: =L122&M122&L123&M123&L124&M124&L125&M125&L126&M126&L127&M127&L128&M128&L129&M129&L130&M130&L131&M131&L132&M132&L133&M133&L134&M134&L135 -> tiga puluh
A122: =Input!$E$138 -> 30 | B122: =ROUNDDOWN(A122,-11) -> 0 | C122: =LEFT(B122) -> 0 | D122: =VALUE(C122) -> 0 | G122: =IF(D122=0,"",(VLOOKUP(D122,$P$82:$Q$91,2))) | H122: =IF(D122=1,"se",G122) | I122: =IF(F122=0,H122,F122) | J122: =IF(D122=1,"ratus",IF(D122=0,""," ratus")) | K122: =IF(E122=0,J122,"") | L122: =I122&K122 | M122: =IF(OR(L122="",L123=""),""," ") | P122: 0 | R122: =P131+1 -> 10 | S122: sepuluh
A123: uang muka | B123: =ROUNDDOWN(A122-B122,-10) -> 0 | C123: =LEFT(B123) -> 0 | D123: =VALUE(C123) -> 0 | E123: =IF(D123=1,D123*10+D124,0) -> 0 | F123: =IF(E123=0,0,VLOOKUP(E123,$R$82:$S$91,2)) -> 0 | G123: =IF(D123=0,"",(VLOOKUP(D123,$P$82:$Q$91,2))) | H123: =IF(D123=1,"se",G123) | I123: =IF(F123=0,H123,F123) | J123: =IF(D123=0,""," puluh") | K123: =IF(E123=0,J123,"") | L123: =I123&K123 | M123: =IF(OR(L123="",L124=""),""," ") | P123: 1 | Q123: satu | R123: =R122+1 -> 11 | S123: sebelas
B124: =ROUNDDOWN(A122-B123-B122,-9) -> 0 | C124: =LEFT(B124) -> 0 | D124: =VALUE(C124) -> 0 | G124: =IF(D124=0,"",(VLOOKUP(D124,$P$82:$Q$91,2))) | H124: =IF(D124=1,"satu",G124) | I124: =IF(E123=0,IF(F124=0,H124,F124),"") | J124: =IF(D122+D123+D124=0,"",IF(D123=1,"milyar"," milyar")) | K124: =IF(E124=0,J124,"") | L124: =I124&K124 | M124: =IF(OR(L124="",L125=""),""," ") | P124: =P123+1 -> 2 | Q124: dua | R124: =R123+1 -> 12 | S124: dua belas
B125: =ROUNDDOWN(A122-B124-B123-B122,-8) -> 0 | C125: =LEFT(B125) -> 0 | D125: =VALUE(C125) -> 0 | G125: =IF(D125=0,"",(VLOOKUP(D125,$P$82:$Q$91,2))) | H125: =IF(D125=1,"se",G125) | I125: =IF(F125=0,H125,F125) | J125: =IF(D125=1,"ratus",IF(D125=0,""," ratus")) | K125: =IF(E125=0,J125,"") | L125: =I125&K125 | M125: =IF(OR(L125="",L126=""),""," ") | P125: =P124+1 -> 3 | Q125: tiga | R125: =R124+1 -> 13 | S125: tiga belas
B126: =ROUNDDOWN(A122-B125-B124-B123-B122,-7) -> 0 | C126: =LEFT(B126) -> 0 | D126: =VALUE(C126) -> 0 | E126: =IF(D126=1,D126*10+D127,0) -> 0 | F126: =IF(E126=0,0,VLOOKUP(E126,$R$82:$S$91,2)) -> 0 | G126: =IF(D126=0,"",(VLOOKUP(D126,$P$82:$Q$91,2))) | H126: =IF(D126=1,"se",G126) | I126: =IF(F126=0,H126,F126) | J126: =IF(D126=0,""," puluh") | K126: =IF(E126=0,J126,"") | L126: =I126&K126 | M126: =IF(OR(L126="",L127=""),""," ") | P126: =P125+1 -> 4 | Q126: empat | R126: =R125+1 -> 14 | S126: empat belas
B127: =ROUNDDOWN(A122-B126-B125-B124-B123-B122,-6) -> 0 | C127: =LEFT(B127) -> 0 | D127: =VALUE(C127) -> 0 | G127: =IF(D127=0,"",(VLOOKUP(D127,$P$82:$Q$91,2))) | H127: =IF(D127=1,"satu",G127) | I127: =IF(E126=0,IF(F127=0,H127,F127),"") | J127: =IF(D127+D126+D125=0,"",IF(D126=1,"juta"," juta")) | K127: =IF(E127=0,J127,"") | L127: =I127&K127 | M127: =IF(OR(L127="",L128=""),""," ") | P127: =P126+1 -> 5 | Q127: lima | R127: =R126+1 -> 15 | S127: lima belas
B128: =ROUNDDOWN(A122-B127-B126-B125-B124-B123-B122,-5) -> 0 | C128: =LEFT(B128) -> 0 | D128: =VALUE(C128) -> 0 | G128: =IF(D128=0,"",(VLOOKUP(D128,$P$82:$Q$91,2))) | H128: =IF(D128=1,"se",G128) | I128: =IF(F128=0,H128,F128) | J128: =IF(D128=1,"ratus",IF(D128=0,""," ratus")) | K128: =IF(E128=0,J128,"") | L128: =I128&K128 | M128: =IF(OR(L128="",L129=""),""," ") | P128: =P127+1 -> 6 | Q128: enam | R128: =R127+1 -> 16 | S128: enam belas
B129: =ROUNDDOWN(A122-B128-B127-B126-B125-B124-B123-B122,-4) -> 0 | C129: =LEFT(B129) -> 0 | D129: =VALUE(C129) -> 0 | E129: =IF(D129=1,D129*10+D130,0) -> 0 | F129: =IF(E129=0,0,VLOOKUP(E129,$R$82:$S$91,2)) -> 0 | G129: =IF(D129=0,"",(VLOOKUP(D129,$P$82:$Q$91,2))) | H129: =IF(D129=1,"se",G129) | I129: =IF(F129=0,H129,F129) | J129: =IF(D129=0,""," puluh") | K129: =IF(E129=0,J129,"") | L129: =I129&K129 | M129: =IF(OR(L129="",L130=""),""," ") | P129: =P128+1 -> 7 | Q129: tujuh | R129: =R128+1 -> 17 | S129: tujuh belas
