Workbook
Name _pan1: Input!$D$58
Name _pan2: Input!$D$60
Name _pan3: Input!$D$61
Name _pan4: Input!$D$62
Name _pan5: Input!$D$63
Name apip: Input!$D$39
Name apip_lok: Input!$D$40
Name aturan: Input!$D$20
Name bu_almt: Input!$D$117
Name bu_hn: Input!$D$127
Name bu_hn2: Input!$E$127
Name bu_hp: Input!$D$126
Name bu_hp2: Input!$E$126
Name bu_lok: Input!$D$116
Name bu_nama: Input!$D$114
Name bu_npwp: Input!$D$115
Name bu_pim: Input!$D$120
Name bu_pimn: Input!$D$121
Name bu_rek: Input!$D$164
Name dana: Input!$D$10
Name hps: Input!$D$13
Name hps_ter: Input!$E$13
Name hsls: Input!$D$14
Name jenis: Input!$D$3
Name kontrak_bentuk: Input!$D$15
Name lingkup: Input!$D$4
Name lokasi: Input!$D$5
Name masa: Input!$D$16
Name met_pil: Input!$D$67
Name mulai.spk: spk.B!#REF!
Name mulai.spk: spk.PK!$I$30
Name no.SPK: spk.B!$I$10
Name no.SPK: spk.PK!$I$10
Name OLE_LINK5: ResKon!$A$62
Name opd_almt: Input!$D$9
Name opd_lok: Input!$D$8
Name opd_nama: Input!$D$6
Name opd_pem: Input!$D$7
Name pa_gol: Input!$D$26
Name pa_gol2: Input!$D$27
Name pa_jab: Input!$D$23
Name pa_lok: Input!$D$30
Name pa_nam: Input!$D$24
Name pa_nip: Input!$D$25
Name pa_sku: Input!$D$29
Name pagu: Input!$D$12
Name paket: Input!$D$2
Name php_jab: Input!$D$41
Name php_lok: Input!$D$42
Name php_na1: Input!$D$43
Name php_na2: Input!$D$45
Name php_na3: Input!$D$47
Name php_nip1: Input!$D$44
Name php_nip2: Input!$D$46
Name php_nip3: Input!$D$48
Name pokja: Input!$D$50
Name pp_lok: Input!$D$53
Name pp_nip: Input!$D$59
Name ppk_gol: Input!$D$34
Name ppk_gol2: Input!$E$34

Sheet Input
A1: Data Paket | G1: Form PL-2025.11.26
A2: Nama Pekerjaan | C2: : | D2: Belanja Pemeliharaan Bangunan Gedung-Bangunan Gedung Tempat Kerja-Bangunan Gedung Kantor-Pemeliharaan Gedung Bertingkat
A3: Jenis Pengadaan | C3: : | D3: Pekerjaan Konstruksi
A4: Lingkup | C4: : | D4: Pengecatan tembok eksterior dan panel ACP Gedung Kantor BPKAD
A5: Lokasi Pekerjaan | C5: : | D5: Mataram
A6: Satuan Kerja/KLPD | C6: : | D6: Badan Pengelolaan Keuangan dan Aset Daerah
B7: Pem-da/kab/kot | C7: : | D7: Pemerintah Provinsi Nusa Tenggara Barat
B8: Lokasi | C8: : | D8: Provinsi Nusa Tenggara Barat
B9: Alamat KLPD | C9: : | D9: Jalan Pejanggik Nomor 14 Telp.( 0370 ) 627689, 625345 Fax: 627677
A10: Sumber Dana | C10: : | D10: DPA | G10: [isi DPA atau DIPA]
A11: Tahun Anggaran | C11: : | D11: 2025
A12: Pagu | C12: : | D12: 91430000
A13: HPS | C13: : | D13: =PPK.HPS!I45 -> 69862000 | E13: =Uang!A1 -> Enam Puluh Sembilan Juta Delapan Ratus Enam Puluh Dua Ribu Rupiah
A14: Jenis Kontrak | C14: : | D14: Lumsum | E14: =IF(hsls="Lumsum","Daftar Keluaran dan Harga",IF(hsls="Gabungan","Daftar Kuantitas/Keluaran dan Harga","Daftar Kuantitas dan Harga")) -> Daftar Keluaran dan Harga
A15: Bentuk Kontrak | C15: : | D15: Surat Perjanjian Kerja | E15: =IF(D15="Surat Perjanjian Kerja","SPK",IF(D17="Surat Pesanan","SP","Kontrak")) -> SPK
A16: Masa Pelaksanaan | C16: : | D16: 30 | E16: =Uang!$A$81 -> tiga puluh
A18: Tempat Serah Terima | C18: : | D18: ="Kantor "&opd_nama&" "&opd_almt -> Kantor Badan Pengelolaan Keuangan dan Aset Daerah Jalan Pejanggik Nomor 14 Telp.( 0370 ) 627689, 625345 Fax: 627677
A20: Peraturan | C20: : | D20: Peraturan Presiden Republik Indonesia Nomor 46 Tahun 2025 beserta perubahan dan petunjuk teknisnya.
A21: PPN | C21: : | D21: =12%*11/12 -> 0.11
A22: Pelaku Pengadaan
A23: PA/KPA | C23: : | D23: =D28&" "&opd_nama -> Kepala Badan Pengelolaan Keuangan dan Aset Daerah | F23: III/c | G23: Penata
B24: Nama | C24: : | D24: Dr. H. Nursalim., S.Sos., M.M | F24: III/d | G24: Penata Tingkat I
B25: NIP | C25: : | D25: 19721231 199402 1 009 | F25: IV/a | G25: Pembina
B26: Pangkat/Golongan | C26: : | D26: IV/c | F26: IV/b | G26: Pembina Tingkat I
C27: : | D27: =VLOOKUP(pa_gol,F23:G28,2,FALSE) -> Pembina Utama Muda | F27: IV/c | G27: Pembina Utama Muda
B28: Jabatan | C28: : | D28: Kepala | F28: IV/d | G28: Pembina Utama Madya
B29: selaku | C29: : | D29: Pengguna Anggaran
B30: di | C30: : | D30: Mataram
A31: PPK | B31: Jabatan | C31: : | D31: Pejabat Pembuat Komitmen
B32: Nama | C32: : | D32: Ika Kurnia Mustika, ST, MT
B33: NIP | C33: : | D33: 19791117 200901 1 006
B34: Pangkat/Golongan | C34: : | D34: IV/c | E34: =VLOOKUP(ppk_gol,F23:G28,2,FALSE) -> Pembina Utama Muda
B35: di | C35: : | D35: =pa_lok -> Mataram
B36: no SK PPK | C36: : | D36: 910/17/BPKAD/2025
B37: tgl SK PPK | C37: : | D37: 18 Juni 2025
B38: tentang | C38: : | D38: Penunjukan Pejabat Pembuat Komitmen (PPK) Pada Badan Pengelolaan Keuangan Dan Aset Daerah
A39: APIP | C39: : | D39: Inspektur Provinsi NTB
B40: di | C40: : | D40: =pa_lok -> Mataram
A41: =IF(G50="PP","PjPHP","PPHP") -> PjPHP | C41: : | D41: Pejabat Pemeriksa Hasil Pekerjaan | F41: diisi kalau ada penugasan khusus tim pendukung, PPTK, PjPHP, PPHP
B42: di | C42: : | D42: =pa_lok -> Mataram
...

Sheet PA.Srt1
D1: =opd_lok -> Provinsi Nusa Tenggara Barat
D2: =opd_nama -> Badan Pengelolaan Keuangan dan Aset Daerah
D3: =opd_almt -> Jalan Pejanggik Nomor 14 Telp.( 0370 ) 627689, 625345 Fax: 627677
A5: SURAT TUGAS
A6: ="Nomor: "&Input!D74 -> Nomor: 900/ /BPKAD/2024 | N6: balik ke input
A8: Nama | E8: : | F8: =pa_nam -> Dr. H. Nursalim., S.Sos., M.M
A9: NIP | E9: : | F9: =pa_nip -> 19721231 199402 1 009
A10: Pangkat/Golongan | E10: : | F10: =pa_gol2&" ("&pa_gol&")" -> Pembina Utama Muda (IV/c)
A11: Jabatan | E11: : | F11: =pa_jab&" selaku "&pa_sku -> Kepala Badan Pengelolaan Keuangan dan Aset Daerah selaku Pengguna Anggaran
A12: Dengan ini memberikan tugas kepada:
A14: Nama | E14: : | F14: =ppk_nama -> Ika Kurnia Mustika, ST, MT
A15: NIP | E15: : | F15: =ppk_nip -> 19791117 200901 1 006
A16: Pangkat/Golongan | E16: : | F16: =ppk_gol2&" ("&ppk_gol&")" -> Pembina Utama Muda (IV/c)
A17: Jabatan | E17: : | F17: =ppk_jab -> Pejabat Pembuat Komitmen
A18: Untuk melaksanakan | E18: : | F18: Melakukan tindakan yang dapat mengakibatkan pengeluaran anggaran belanja dan mengadakan perjanjian dengan pihak lain dalam batas anggaran belanja yang telah ditetapkan untuk paket pekerjaan sebagai berikut:
A19: tugas
F21: No | G21: Nama Paket | K21: Pagu Anggaran (Rp.)
F22: 1 | G22: Belanja Modal Instalasi Jaringan Internet | K22: 200.000.000
F23: =IF(AND(F22<>"",G23<>""),F22+1,"")
F24: =IF(AND(F23<>"",G24<>""),F23+1,"")
F25: =IF(AND(F24<>"",G25<>""),F24+1,"")
F26: =IF(AND(F25<>"",G26<>""),F25+1,"")
F27: =IF(AND(F26<>"",G27<>""),F26+1,"")
F28: =IF(AND(F27<>"",G28<>""),F27+1,"")
F29: =IF(AND(F28<>"",G29<>""),F28+1,"")
F30: =IF(AND(F29<>"",G30<>""),F29+1,"")
F31: =IF(AND(F30<>"",G31<>""),F30+1,"")
F32: =IF(AND(F31<>"",G32<>""),F31+1,"")
F33: =IF(AND(F32<>"",G33<>""),F32+1,"")
F34: =IF(AND(F33<>"",G34<>""),F33+1,"")
... F41: =IF(AND(F40<>"",G41<>""),F40+1,"")
A43: Selama | E43: : | F43: ="Januari s.d Desember "&tahun -> Januari s.d Desember 2025
A44: Sumber Dana | E44: : | F44: =dana&" "&opd_nama&" Tahun Anggaran "&tahun -> DPA Badan Pengelolaan Keuangan dan Aset Daerah Tahun Anggaran 2025
A46: Demikian untuk dilaksanakan sebagaimana mestinya.
J48: =pa_lok&", "&Input!H74 -> Mataram, 3 Oktober 2025
J49: =pa_jab -> Kepala Badan Pengelolaan Keuangan dan Aset Daerah
J50: ="selaku "&pa_sku -> selaku Pengguna Anggaran
J54: =pa_nam -> Dr. H. Nursalim., S.Sos., M.M
J55: =pa_gol2&" ("&pa_gol&")" -> Pembina Utama Muda (IV/c)
J56: ="NIP. "&pa_nip -> NIP. 19721231 199402 1 009
...

Sheet PPK.Pers
D1: =opd_lok -> Provinsi Nusa Tenggara Barat
D2: =opd_nama -> Badan Pengelolaan Keuangan dan Aset Daerah
D3: =opd_almt -> Jalan Pejanggik Nomor 14 Telp.( 0370 ) 627689, 625345 Fax: 627677
A5: Nomor | C5: : | D5: =Input!D75 -> 027/SRT/A/VII/20/2023 | J5: balik ke input
A6: Lampiran | C6: : | D6: 1 (satu) gabung
A7: Perihal | C7: : | D7: ="Penetapan Dokumen Persiapan Pengadaan "&paket&" Tahun Anggaran "&tahun -> Penetapan Dokumen Persiapan Pengadaan Belanja Pemeliharaan Bangunan Gedung-Bangunan Gedung Tempat Kerja-Bangunan Gedung Kantor-Pemeliharaan Gedung Bertingkat Tahun Anggaran 2025
A9: ="Pada hari ini, "&TEXT(Input!H75,"[$-421]dddd, d mmmm yyyy")&", dengan memperhatikan "&Input!D20&" ditetapkan Dokumen Persiapan Pengadaan sebagai berikut:" -> Pada hari ini, Senin, 6 Oktober 2025, dengan memperhatikan Peraturan Presiden Republik Indonesia Nomor 46 Tahun 2025 beserta perubahan dan petunjuk teknisnya. ditetapkan Dokumen Persiapan Pengadaan sebagai berikut:
A13: A | B13: Kelengkapan Dokumen Persiapan Pengadaan
B14: No | C14: Uraian | H14: Catatan / Penjelasan
B15: 1 | C15: Jenis Pengadaan | H15: =jenis -> Pekerjaan Konstruksi
B16: 2 | C16: Jenis Kontrak | H16: =hsls -> Lumsum
B17: 3 | C17: Pagu Anggaran | H17: =pagu -> 91430000
C18: ="Apakah tersedia dalam "&dana&" dan jumlahnya cukup?" -> Apakah tersedia dalam DPA dan jumlahnya cukup? | H18: ="Tercantum dalam "&dana&" "&opd_nama&" Tahun Anggaran "&tahun -> Tercantum dalam DPA Badan Pengelolaan Keuangan dan Aset Daerah Tahun Anggaran 2025
B20: 4 | C20: Lokasi | H20: =Input!D8 -> Provinsi Nusa Tenggara Barat | I20: cek
B23: 5 | C23: Spesifikasi Teknis/KAK/Gambar/DED
B24: 6 | C24: HPS | H24: =hps -> 69862000
B25: 7 | C25: Rancangan Kontrak
C26: Uang Muka | H26: Tidak Diberikan
C27: Jaminan Uang Muka | H27: -
C28: Jaminan Pelaksanaan | H28: Tidak diperlukan
C29: Jaminan Pemeliharaan/Sertifikat Garansi | H29: Tidak diperlukan | I29: cek
C30: Penyesuaian Harga | H30: Tidak Diberikan
A32: B | B32: Identifikasi Metode Pemilihan Penyedia
B33: Berdasarkan jenis, nilai, dan sifat pengadaan serta ketersediaan penyedia, maka ditentukan metode pemilihan:
B35: - | C35: =met_pil -> Pengadaan Langsung
A37: C | B37: Reviu Kewajiban UMK dan PDN
B38: Perencanaan pengadaan Kementerian/Lembaga/Pemerintah Daerah telah memperhatikan kewajiban untuk menggunakan produk usaha kecil serta koperasi dari hasil produk dalam negeri paling sedikit 40% (empat puluh persen) dari nilai anggaran belanja barang/jasa. | I38: hide/hapus kalau tidak yakin,
I39: tanggung jawab PPK sebatas reviu
A42: Demikian ditetapkan untuk dipergunakan sebagaimana mestinya.
H44: =ppk_lok&", "&Input!H75 -> Mataram, 6 Oktober 2025
H45: =ppk_jab -> Pejabat Pembuat Komitmen
H49: =ppk_nama -> Ika Kurnia Mustika, ST, MT
H50: ="NIP. "&ppk_nip -> NIP. 19791117 200901 1 006

Sheet PPK.Spek
D1: =opd_lok -> Provinsi Nusa Tenggara Barat
D2: =opd_nama -> Badan Pengelolaan Keuangan dan Aset Daerah
D3: =opd_almt -> Jalan Pejanggik Nomor 14 Telp.( 0370 ) 627689, 625345 Fax: 627677
A5: =IF(Input!D3="Jasa Konsultansi","KERANGKA ACUAN KERJA","SPESIFIKASI TEKNIS") -> SPESIFIKASI TEKNIS | K5: balik ke input
A7: OPD | C7: : | D7: =opd_nama -> Badan Pengelolaan Keuangan dan Aset Daerah
A8: PPK | C8: : | D8: =ppk_jab -> Pejabat Pembuat Komitmen
A9: Pekerjaan | C9: : | D9: =paket -> Belanja Pemeliharaan Bangunan Gedung-Bangunan Gedung Tempat Kerja-Bangunan Gedung Kantor-Pemeliharaan Gedung Bertingkat
A10: Lokasi | C10: : | D10: =lokasi -> Mataram
A11: Tahun | C11: : | D11: =tahun -> 2025
A12: Anggaran
A14: No | B14: Deskripsi Item/Pekerjaan | F14: Uraian
A15: 1 | B15: Router | F15: - RAM : 4GB.; Storage : 1GB; Port : 8 port; IPSec : Yes, Sfp : 2 port | K15: Surver berdasarkan Mikrotik CCR 1036
A16: 2 | B16: Optical Line Terminal | F16: -1+1 Power redundancy. - 4 Fixed EPON Port. | K16: OLT HSGQ
A17: =IF(AND(A16<>0,B17<>0),A16+1,"") -> 3 | B17: Optical Termination Box | F17: - ODF/OTB Rackmount 19inch 48 Core (lengkap dgn Adapter FC/SC/LC dan pigtail 48bh | K17: OTB/ODF Rackmoun 48core PAZ
A18: =IF(AND(A17<>0,B18<>0),A17+1,"") -> 4 | B18: Optical Distribution Point | F18: - ODP 8 Core Solid Merk Fiber Tekno - Lengkap Splitter Box 1:8 SC UPC - Komplit Klemring 2pcs dan Aksesoris | K18: ODP BOX Indor 1:8
A19: =IF(AND(A18<>0,B19<>0),A18+1,"") -> 5 | B19: Kabel backbone KU Mini 12 core pig 8 2000M | F19: - 12 Core, 2000M, pig 8 | K19: Kabel KU Mini 12 core pig 8 2000M
A20: =IF(AND(A19<>0,B20<>0),A19+1,"") -> 6 | B20: Kabel Fiber 4 core pig 8 2000M | F20: - 4 Core, 2000M, pig 8 | K20: Kabel Fiber 4 core pig 8 2000M
A21: =IF(AND(A20<>0,B21<>0),A20+1,"") -> 7 | B21: Kabel UTP CAT 6 | F21: - Cat 6 - 24 AWG solid bare annealed copper conductors, non-plenum, Thermoplastic Polyolefin insulation, | K21: Kabel UTP CAT 6 Belden
A22: =IF(AND(A21<>0,B22<>0),A21+1,"") -> 8 | B22: Akses Poin Outdor NS | F22: -Airmax : Yes, Band : 2,4Ghz
A23: =IF(AND(A22<>0,B23<>0),A22+1,"") -> 9 | B23: Switch Hub 24 port | F23: -Support SFP - 10/100/1000Mbps - Managed Layer 2 Web Smart Switch
A24: =IF(AND(A23<>0,B24<>0),A23+1,"") -> 10 | B24: Modem Optical Network Unit | F24: - Jaringan FTTH FTTB FTTX - GPON : 1x SC/UPC, 2.448 Gbit/s hilir 1,244 Gbit/s upstream - 4ETH + 1TEL + USB + WIFI2.4G | K24: ZTE F609
A25: =IF(AND(A24<>0,B25<>0),A24+1,"") -> 11 | B25: UPS 2KVA | F25: - 1800 Watt + Stabilizer - Batteries : 6x12V 7AH | K25: UPS Gpower
A26: =IF(AND(A25<>0,B26<>0),A25+1,"")
A27: =IF(AND(A26<>0,B27<>0),A26+1,"")
A28: =IF(AND(A27<>0,B28<>0),A27+1,"")
A29: =IF(AND(A28<>0,B29<>0),A28+1,"")
A30: =IF(AND(A29<>0,B30<>0),A29+1,"")
A31: =IF(AND(A30<>0,B31<>0),A30+1,"")
A32: =IF(AND(A31<>0,B32<>0),A31+1,"")
A33: =IF(AND(A32<>0,B33<>0),A32+1,"")
A34: =IF(AND(A33<>0,B34<>0),A33+1,"")
G36: =ppk_lok&", "&Input!H76 -> Mataram, 6 Oktober 2025
G37: =ppk_jab -> Pejabat Pembuat Komitmen
G42: =ppk_nama -> Ika Kurnia Mustika, ST, MT
G43: ="NIP. "&ppk_nip -> NIP. 19791117 200901 1 006

Sheet Pembanding
D1: =UPPER(opd_lok) -> PROVINSI NUSA TENGGARA BARAT
D2: =UPPER(opd_nama) -> BADAN PENGELOLAAN KEUANGAN DAN ASET DAERAH
D3: =opd_almt -> Jalan Pejanggik Nomor 14 Telp.( 0370 ) 627689, 625345 Fax: 627677
A5: DOKUMENTASI HARGA | O5: balik ke input
A7: OPD | C7: : | D7: =opd_nama -> Badan Pengelolaan Keuangan dan Aset Daerah
A8: PPK | C8: : | D8: =ppk_jab -> Pejabat Pembuat Komitmen
A9: Pekerjaan | C9: : | D9: =paket -> Belanja Pemeliharaan Bangunan Gedung-Bangunan Gedung Tempat Kerja-Bangunan Gedung Kantor-Pemeliharaan Gedung Bertingkat
A10: Lokasi | C10: : | D10: =lokasi -> Mataram
A11: Tahun | C11: : | D11: =tahun -> 2025
A12: Anggaran
A14: No | B14: Deskripsi Item/Pekerjaan | F14: Sat | G14: Vol | H14: Harga Satuan (Rp) | M14: Total (Rp)
H15: Kontrak AP | I15: MAPPI | J15: Inkindo | K15: SSH NTB | L15: HPS
A17: I | B17: BIAYA LANGSUNG PERSONIL | M17: =SUM(M19:M26) -> 72356636
A18: A | B18: Tenaga Ahli
B19: Team Leader/Penilai Berizin | F19: OH | G19: 6 | H19: 1375000 | I19: =0.89*10100000 -> 8989000 | J19: =63550000/22*0.949 -> 2741315.9 | K19: =49000000/22 -> 2227272.7 | L19: 2227272.7 | M19: =L19*G19 -> 13363636
B20: Penilai Madya | F20: OH | G20: 7 | H20: 1375000 | I20: =0.89*2100000 -> 1869000 | J20: =37000000/22*0.949 -> 1596045.5 | K20: =24000000/25 -> 960000 | L20: 1869000 | M20: =L20*G20 -> 13083000
B21: Penilai Pertama | F21: OH | G21: 10 | H21: 909750 | I21: =0.89*1100000 -> 979000 | J21: =33750000/22*0.949 -> 1455852.3 | K21: =21500000/25 -> 860000 | L21: 979000 | M21: =L21*G21 -> 9790000
A22: B | B22: Tenaga Pendukung
B23: Surveyor | F23: OH | G23: 40 | H23: 770000 | I23: =0.89*830000 -> 738700 | J23: =13000000/22*0.949 -> 560772.73 | K23: 560000 | L23: 560000 | M23: =L23*G23 -> 22400000
B24: Tenaga Administrasi | F24: OH | G24: 7 | H24: 770000 | I24: =0.89*940000 -> 836600 | J24: =12600000/22*0.949 -> 543518.18 | K24: 680000 | L24: 680000 | M24: =L24*G24 -> 4760000
B25: Operator Konputer | F25: OH | G25: 7 | I25: =0.89*760000 -> 676400 | J25: =7900000/22*0.949 -> 340777.27 | K25: 680000 | L25: 680000 | M25: =L25*G25 -> 4760000
B26: Drafter | F26: OH | G26: 6 | I26: =0.89*760000 -> 676400 | J26: =13700000/22*0.949 -> 590968.18 | K26: 700000 | L26: 700000 | M26: =L26*G26 -> 4200000
A28: II | B28: BIAYA LANGSUNG NON PERSONIL | M28: =SUM(M30:M43) -> 15730000
A29: A | B29: Biaya Akomodasi
B30: Biaya Tiket Pesawat | F30: Ls | H30: 1100000 | M30: =L30*G30 -> 0
B31: Biaya Penginapan | F31: Ls | H31: 550000 | M31: =L31*G31 -> 0
B32: Sewa Kendaraan Roda 4 | F32: Unit.Hari | G32: 10 | H32: 550000 | K32: 1000000 | L32: 550000 | M32: =L32*G32 -> 5500000
B33: Biaya Komunikasi | F33: Ls | G33: 1 | H33: 440000 | K33: 500000 | L33: 1760000 | M33: =L33*G33 -> 1760000
A34: B | B34: Biaya Kantor
B35: Biaya Presentasi/Rapat/Paparan | F35: kali | G35: 3 | H35: 825000 | K35: 750000 | L35: 825000 | M35: =L35*G35 -> 2475000
B36: Biaya Sewa Printer | F36: unit | G36: 4 | H36: 330000 | K36: 300000 | L36: 330000 | M36: =L36*G36 -> 1320000
B37: Biaya ATK dan Barang Pakai Habis | F37: Ls | G37: 1 | H37: 1100000 | K37: 2000000 | L37: 1100000 | M37: =L37*G37 -> 1100000
A38: C | B38: Biaya Pelaporan
B39: Laporan Pendahuluan | F39: Buku | G39: 3 | H39: 55000 | K39: 67000 | L39: 55000 | M39: =L39*G39 -> 165000
B40: Laporan Antara | F40: Buku | H40: 82500 | L40: =K40 -> 0 | M40: =L40*G40 -> 0
B41: Laporan Akhir | F41: Buku | G41: 10 | H41: 220000 | K41: 265000 | L41: 220000 | M41: =L41*G41 -> 2200000
B42: Dokumentasi | F42: Paket | G42: 1 | H42: 660000 | K42: 600000 | L42: 660000 | M42: =L42*G42 -> 660000
B43: Hardisk Eksternal | F43: Buah | G43: 1 | H43: 550000 | K43: 1000000 | L43: 550000 | M43: =L43*G43 -> 550000
A44: =IF(AND(A43<>0,B44<>0),A43+1,"") | M44: =G44*L44 -> 0
L46: Total | M46: =M17+M28 -> 88086636 | O46: =IF(M46=hps,"sesuai","cek hps") -> cek hps
...

Sheet PPK.HPS
C1: =UPPER(opd_pem) -> PEMERINTAH PROVINSI NUSA TENGGARA BARAT
C2: =UPPER(opd_nama) -> BADAN PENGELOLAAN KEUANGAN DAN ASET DAERAH
C3: =opd_almt -> Jalan Pejanggik Nomor 14 Telp.( 0370 ) 627689, 625345 Fax: 627677
A5: HARGA PERKIRAAN SENDIRI | K5: balik ke input
A7: OPD | C7: : | D7: =opd_nama -> Badan Pengelolaan Keuangan dan Aset Daerah
A8: PPK | C8: : | D8: =ppk_jab -> Pejabat Pembuat Komitmen
A9: Pekerjaan | C9: : | D9: =paket -> Belanja Pemeliharaan Bangunan Gedung-Bangunan Gedung Tempat Kerja-Bangunan Gedung Kantor-Pemeliharaan Gedung Bertingkat
A10: Lokasi | C10: : | D10: =lokasi -> Mataram
A11: Tahun | C11: : | D11: =tahun -> 2025
A12: Anggaran
A14: No | B14: Deskripsi Item/Pekerjaan | F14: Satuan | G14: Kuantitas | H14: Harga Satuan (Rp) | I14: Total (Rp)
A16: I | B16: PEKERJAAN PERSIAPAN
A17: 1 | B17: Pengukuran | F17: keg | G17: 1 | H17: 200000 | I17: =H17*G17 -> 200000
A18: 2 | B18: Pembersihan Lokasi | F18: keg | G18: 1 | H18: 300000 | I18: =H18*G18 -> 300000
A20: II | B20: SMK3 KONSTRUKSI
A21: 1 | B21: Alat Pelindung Kerja dan Alat Pelindung Diri | F21: set | G21: 5 | H21: 75000 | I21: =H21*G21 -> 375000
A23: III | B23: PEKERJAAN PENGECATAN
A24: 1 | B24: Sewa stager | F24: keg | G24: 1 | H24: 4500000 | I24: =H24*G24 -> 4500000
A25: 2 | B25: Pengerokan cat yang terkelupas | F25: m2 | G25: 168.58 | H25: 19719.975 | I25: =H25*G25 -> 3324393.4
A26: 3 | B26: Pengecatan ulang dinding luar | F26: m2 | G26: 842.91 | H26: 40683.291 | I26: =H26*G26 -> 34292353
A27: 4 | B27: Pengecatan ACP dengan cat besi | F27: m2 | G27: 419 | H27: 47607.593 | I27: =H27*G27 -> 19947581
I29: =H29*G29 -> 0
I30: =H30*G30 -> 0
I32: =H32*G32 -> 0
I33: =H33*G33 -> 0
I34: =H34*G34 -> 0
I36: =H36*G36 -> 0
I37: =H37*G37 -> 0
I38: =H38*G38 -> 0
A40: =IF(AND(A39<>0,B40<>0),A39+1,"")
A43: =IF(AND(A42<>0,B43<>0),A42+1,"") | H43: Total | I43: =SUM(I16:I39) -> 62939328
A44: =IF(AND(A43<>0,B44<>0),A43+1,"") | G44: PPN 12% x 11 / 12 = | H44: 0.11 | I44: =I43*H44 -> 6923326
A45: =IF(AND(A44<>0,B45<>0),A44+1,"") | H45: Total + PPN | I45: =ROUNDDOWN(I43+I44,-3) -> 69862000 | K45: =IF(I45=hps,"sesuai","cek hps") -> sesuai | L45: =hps -> 69862000
A46: Terbilang | C46: : | D46: =Uang!A141 -> Enam Puluh Sembilan Juta Delapan Ratus Enam Puluh Dua Ribu Rupiah
A48: Harga tersebut di atas sudah termasuk pajak-pajak dan biaya pungutan resmi lainnya.
G50: =Input!D35&", "&Input!H76 -> Mataram, 6 Oktober 2025
G51: =ppk_jab -> Pejabat Pembuat Komitmen
G56: =ppk_nama -> Ika Kurnia Mustika, ST, MT
G57: ="NIP. "&ppk_nip -> NIP. 19791117 200901 1 006

Sheet spk.B
A1: Data Hasil PL/Penyedia: | G1: Kosong | H1: Pilih Isi supaya data kontraknya terisi
E3: =UPPER(opd_pem) -> PEMERINTAH PROVINSI NUSA TENGGARA BARAT
E4: =UPPER(opd_nama) -> BADAN PENGELOLAAN KEUANGAN DAN ASET DAERAH
E5: =opd_almt -> Jalan Pejanggik Nomor 14 Telp.( 0370 ) 627689, 625345 Fax: 627677
O6: SPK Pengadaan Barang
A7: SURAT PERINTAH KERJA (SPK) | G7: SATUAN KERJA | I7: : | J7: =opd_nama -> Badan Pengelolaan Keuangan dan Aset Daerah | O7: balik ke input
G9: NOMOR DAN TANGGAL SPK :
G10: NOMOR | I10: : | J10: =IF($G$1="Kosong","________",Input!D91) -> ________
G11: TANGGAL | I11: : | J11: =IF($G$1="Kosong","________",Input!H91) -> ________
A12: NAMA PPK | G12: =ppk_nama -> Ika Kurnia Mustika, ST, MT
A15: NAMA PENYEDIA | G15: =IF($G$1="Kosong","________",bu_nama) -> ________
A18: PAKET PENGADAAN: | G18: ="NOMOR DAN TANGGAL SURAT UNDANGAN "&UPPER(met_pil)&":" -> NOMOR DAN TANGGAL SURAT UNDANGAN PENGADAAN LANGSUNG:
G19: Nomor | I19: : | J19: =IF($G$1="Kosong","________",Input!D79) -> ________
A20: =paket -> Belanja Pemeliharaan Bangunan Gedung-Bangunan Gedung Tempat Kerja-Bangunan Gedung Kantor-Pemeliharaan Gedung Bertingkat | G20: Tanggal | I20: : | J20: =IF($G$1="Kosong","________",Input!H79) -> ________
G21: ="NOMOR DAN TANGGAL BERITA ACARA HASIL "&UPPER(met_pil)&":" -> NOMOR DAN TANGGAL BERITA ACARA HASIL PENGADAAN LANGSUNG:
G22: Nomor | I22: : | J22: =IF($G$1="Kosong","________",Input!D86) -> ________
G23: Tanggal | I23: : | J23: =IF($G$1="Kosong","________",Input!H86) -> ________
A24: SUMBER DANA:
A25: ="dibebankan atas "&dana&" "&opd_nama&" Tahun Anggaran "&tahun&" untuk mata anggaran kegiatan "&Input!D131 -> dibebankan atas DPA Badan Pengelolaan Keuangan dan Aset Daerah Tahun Anggaran 2025 untuk mata anggaran kegiatan 5.1.02.02.09.0014
A28: NILAI KONTRAK
A29: ="Nilai Kontrak termasuk Pajak Pertambahan Nilai (PPN) adalah sebesar Rp. "&IF($G$1="Kosong",O29,O30)&")." -> Nilai Kontrak termasuk Pajak Pertambahan Nilai (PPN) adalah sebesar Rp. ........................ (....................................). | O29: ........................ (....................................
O30: =TEXT(bu_hn,tiko1)&" ("&bu_hn2 -> 69,862,000 (Enam Puluh Sembilan Juta Delapan Ratus Enam Puluh Dua Ribu Rupiah
A32: WAKTU PELAKSANAAN PEKERJAAN:
A33: =masa&" ("&Input!$E$16&") hari kalender" -> 30 (tiga puluh) hari kalender
A35: Untuk dan atas nama | I35: Untuk dan atas nama Penyedia
A36: =opd_nama -> Badan Pengelolaan Keuangan dan Aset Daerah | I36: =IF($G$1="Kosong","________",bu_nama) -> ________
A37: Pengguna Jasa
A39: =IF($G$1="Kosong","[tanda tangan dan cap (jika salinan asli ini untuk Penyedia maka rekatkan materai Rp 6.000,- )]","") -> [tanda tangan dan cap (jika salinan asli ini untuk Penyedia maka rekatkan materai Rp 6.000,- )] | I39: =IF($G$1="Kosong","[tanda tangan dan cap (jika salinan asli ini untuk proyek/satuan kerja Pengguna Jasa maka rekatkan materai Rp 6.000,- )]","") -> [tanda tangan dan cap (jika salinan asli ini untuk proyek/satuan kerja Pengguna Jasa maka rekatkan materai Rp 6.000,- )]
A41: =ppk_nama -> Ika Kurnia Mustika, ST, MT | I41: =IF($G$1="Kosong","________",bu_pimn) -> ________
A42: =ppk_jab -> Pejabat Pembuat Komitmen | I42: =IF($G$1="Kosong","Jabatan",bu_pimn) -> Jabatan
A45: SYARAT UMUM
A46: SURAT PERINTAH KERJA (SPK)
A49: 1. | B49: LINGKUP PEKERJAAN
B50: Penyedia yang ditunjuk berkewajiban untuk menyelesaikan pekerjaan dalam jangka waktu yang ditentukan sesuai dengan keluaran, gambar, spesifikasi teknis dan harga yang tercantum dalam SPK.
A53: 2. | B53: HUKUM YANG BERLAKU
B54: Keabsahan, interpretasi, dan pelaksanaan SPK ini didasarkan kepada hukum Republik Indonesia.
A56: 3. | B56: HARGA SPK
B57: a. | C57: ="Jenis Kontrak yang digunakan adalah Kontrak "&hsls&"." -> Jenis Kontrak yang digunakan adalah Kontrak Lumsum. | N57: hsls
B58: b. | C58: PPK membayar kepada penyedia sebesar harga SPK.
B59: c. | C59: Harga SPK telah memperhitungkan keuntungan, beban pajak dan biaya overhead serta biaya asuransi (apabila dipersyaratkan).
...

Sheet spk.PK
A1: Data Hasil PL/Penyedia: | G1: Kosong | H1: Pilih Isi supaya data kontraknya terisi
E3: =UPPER(opd_pem) -> PEMERINTAH PROVINSI NUSA TENGGARA BARAT
E4: =UPPER(opd_nama) -> BADAN PENGELOLAAN KEUANGAN DAN ASET DAERAH
E5: =opd_almt -> Jalan Pejanggik Nomor 14 Telp.( 0370 ) 627689, 625345 Fax: 627677
A7: SURAT PERINTAH KERJA (SPK) | G7: SATUAN KERJA | I7: : | J7: =opd_nama -> Badan Pengelolaan Keuangan dan Aset Daerah | O7: SPK Pekerjaan Konstruksi
O8: balik ke input
G9: NOMOR DAN TANGGAL SPK :
G10: NOMOR | I10: : | J10: =IF($G$1="Kosong","________",Input!D91) -> ________
G11: TANGGAL | I11: : | J11: =IF($G$1="Kosong","________",Input!H91) -> ________
A12: NAMA PENGGUNA JASA | G12: Nama | I12: : | J12: =ppk_nama -> Ika Kurnia Mustika, ST, MT
G13: NIP | I13: : | J13: =ppk_nip -> 19791117 200901 1 006
G14: Jabatan | I14: : | J14: =ppk_jab -> Pejabat Pembuat Komitmen
G15: Berkedudukan di | I15: : | J15: =opd_almt -> Jalan Pejanggik Nomor 14 Telp.( 0370 ) 627689, 625345 Fax: 627677
G18: ="yang bertindak untuk dan atas nama "&opd_nama&" berdasarkan Surat Keputusan "&pa_jab&" Nomor "&Input!D36&" tanggal "&" tentang "&Input!$D$38&" selanjutnya disebut “Pengguna Jasa”, dengan:" -> yang bertindak untuk dan atas nama Badan Pengelolaan Keuangan dan Aset Daerah berdasarkan Surat Keputusan Kepala Badan Pengelolaan Keuangan dan Aset Daerah Nomor 910/17/BPKAD/2025 tanggal tentang Penunjukan Pejabat Pembuat Komitmen (PPK) Pada Badan Pengelolaan Keuangan Dan Aset Daerah selanjutnya disebut “Pengguna Jasa”, dengan:
A24: NAMA PENYEDIA | G24: Nama | I24: : | J24: =IF($G$1="Kosong","________",bu_pimn) -> ________
G25: Jabatan | I25: : | J25: =IF($G$1="Kosong","________",bu_pim) -> ________
G26: Berkedudukan di | I26: : | J26: =IF($G$1="Kosong","________",bu_almt) -> ________
G27: Akta Notaris Nomor | I27: : | J27: =IF($G$1="Kosong","________",Input!D123) -> ________
G28: Tanggal | I28: : | J28: =IF($G$1="Kosong","________",Input!D124) -> ________
G29: Notaris | I29: : | J29: =IF($G$1="Kosong","________",Input!D125) -> ________
G31: ="yang bertindak untuk dan atas nama "&IF($G$1="Kosong","________",bu_nama)&" selanjutnya disebut “Penyedia”." -> yang bertindak untuk dan atas nama ________ selanjutnya disebut “Penyedia”.
O33: ="Wakil Sah row: "&ROW(A34)&" - "&ROW(A38) -> Wakil Sah row: 34 - 38
A34: WAKIL SAH PENGGUNA JASA | G34: Nama | I34: : | O34: ="diHide ("&ROW(A34)&" - "&ROW(A38)&") kalau nggak perlu" -> diHide (34 - 38) kalau nggak perlu
G36: Berdasarkan Surat Keputusan Pengguna Jasa …… nomor .…. tanggal ……. [diisi nomor dan tanggal SK pengangkatan Wakil Sah Pengguna Jasa]
A39: PAKET PENGADAAN: | G39: ="NOMOR DAN TANGGAL SURAT UNDANGAN "&UPPER(met_pil)&":" -> NOMOR DAN TANGGAL SURAT UNDANGAN PENGADAAN LANGSUNG:
G40: Nomor | I40: : | J40: =IF($G$1="Kosong","________",Input!D79) -> ________
A41: =paket -> Belanja Pemeliharaan Bangunan Gedung-Bangunan Gedung Tempat Kerja-Bangunan Gedung Kantor-Pemeliharaan Gedung Bertingkat | G41: Tanggal | I41: : | J41: =IF($G$1="Kosong","________",Input!H79) -> ________
G42: ="NOMOR DAN TANGGAL BERITA ACARA HASIL "&UPPER(met_pil)&":" -> NOMOR DAN TANGGAL BERITA ACARA HASIL PENGADAAN LANGSUNG:
G43: Nomor | I43: : | J43: =IF($G$1="Kosong","________",Input!D86) -> ________
G44: Tanggal | I44: : | J44: =IF($G$1="Kosong","________",Input!H86) -> ________
A45: SUMBER DANA:
A46: ="dibebankan atas "&dana&" "&opd_nama&" Tahun Anggaran "&tahun&" untuk mata anggaran kegiatan "&Input!D131 -> dibebankan atas DPA Badan Pengelolaan Keuangan dan Aset Daerah Tahun Anggaran 2025 untuk mata anggaran kegiatan 5.1.02.02.09.0014
A48: MASA PELAKSANAAN PEKERJAAN:
A49: =masa&" ("&Input!$E$16&") hari kalender dihitung sejak Tanggal Mulai Kerja yang tercantum dalam SPMK sampai dengan Tanggal Penyerahan Pertama Pekerjaan" -> 30 (tiga puluh) hari kalender dihitung sejak Tanggal Mulai Kerja yang tercantum dalam SPMK sampai dengan Tanggal Penyerahan Pertama Pekerjaan
A51: MASA PEMELIHARAAN PEKERJAAN:
A52: =IF(Input!$D$132=0,"-",Input!$D$132&" ("&Input!$E$132&") hari kalender dihitung sejak Tanggal Penyerahan Pertama Pekerjaan sampai dengan Tanggal Penyerahan Akhir Pekerjaan") -> 90 (sembilan puluh) hari kalender dihitung sejak Tanggal Penyerahan Pertama Pekerjaan sampai dengan Tanggal Penyerahan Akhir Pekerjaan
A54: JENIS KONTRAK: | E54: =hsls -> Lumsum
A55: DOKUMEN KONTRAK
A56: Dokumen-dokumen berikut merupakan satu kesatuan dan jika terjadi pertentangan antara ketentuan dalam suatu dokumen dengan ketentuan dalam dokumen yang lain maka yang berlaku adalah ketentuan dalam dokumen yang lebih tinggi berdasarkan urutan hierarki sebagai berikut:
A59: a. | B59: Adendum Surat Perintah Kerja/SPK (apabila ada);
...

Sheet PPK.Srt1
D1: Yang ini pengajuannya per paket | Q1: Yang ini pengajuannya beberapa paket sekaligus
D2: =UPPER(opd_pem) -> PEMERINTAH PROVINSI NUSA TENGGARA BARAT | Q2: =opd_lok -> Provinsi Nusa Tenggara Barat
D3: =UPPER(opd_nama) -> BADAN PENGELOLAAN KEUANGAN DAN ASET DAERAH | Q3: =opd_nama -> Badan Pengelolaan Keuangan dan Aset Daerah
D4: =opd_almt -> Jalan Pejanggik Nomor 14 Telp.( 0370 ) 627689, 625345 Fax: 627677 | Q4: =opd_almt -> Jalan Pejanggik Nomor 14 Telp.( 0370 ) 627689, 625345 Fax: 627677
K6: =ppk_lok&", "&TEXT(Input!$F$76,"[$-421]d mmmm yyyy") -> Mataram, 6 Oktober 2025 | U6: =ppk_lok&", "&TEXT(Input!$F$76,"[$-421]d mmmm yyyy") -> Mataram, 6 Oktober 2025
A7: Nomor | C7: : | D7: =Input!$D$76 -> 027.1/01.PPK/BPKAD/2025 | L7: balik ke input | N7: Nomor | P7: : | Q7: =Input!$D$76 -> 027.1/01.PPK/BPKAD/2025
A8: Lampiran | C8: : | D8: 1 (satu) Gabung | N8: Lampiran | P8: : | Q8: 1 (satu) Gabung
A9: Kepada Yth. | N9: Kepada Yth.
A10: =pokja&" Pada "&ukpbj -> Pejabat Pengadaan Pada Badan Pengelolaan Keuangan dan Aset Daerah | N10: =pokja&" Pada "&ukpbj -> Pejabat Pengadaan Pada Badan Pengelolaan Keuangan dan Aset Daerah
A11: di - | N11: di -
B12: =pp_lok -> Mataram | O12: =pp_lok -> Mataram
A14: Perihal | C14: : | D14: =met_pil&" Paket "&paket -> Pengadaan Langsung Paket Belanja Pemeliharaan Bangunan Gedung-Bangunan Gedung Tempat Kerja-Bangunan Gedung Kantor-Pemeliharaan Gedung Bertingkat | N14: Perihal | P14: : | Q14: =met_pil&" Paket "&paket -> Pengadaan Langsung Paket Belanja Pemeliharaan Bangunan Gedung-Bangunan Gedung Tempat Kerja-Bangunan Gedung Kantor-Pemeliharaan Gedung Bertingkat
D16: ="Sehubungan dengan rencana pelaksanaan "&$D$14&", untuk itu diminta kepada Saudara agar melaksanakan proses "&met_pil&" berdasarkan "&aturan&" terhadap calon Penyedia Barang/Jasa sesuai dengan kualifikasi yang diatur dalam peraturan perundang-undangan yang berlaku." -> Sehubungan dengan rencana pelaksanaan Pengadaan Langsung Paket Belanja Pemeliharaan Bangunan Gedung-Bangunan Gedung Tempat Kerja-Bangunan Gedung Kantor-Pemeliharaan Gedung Bertingkat, untuk itu diminta kepada Saudara agar melaksanakan proses Pengadaan Langsung berdasarkan Peraturan Presiden Republik Indonesia Nomor 46 Tahun 2025 beserta perubahan dan petunjuk teknisnya. terhadap calon Penyedia Barang/Jasa sesuai dengan kualifikasi yang diatur dalam peraturan perundang-undangan yang berlaku. | Q16: ="Menindaklanjuti "&dana&" "&opd_nama&" Tahun Anggaran "&tahun&", mohon agar "&pokja&" dapat segera melaksanakan proses "&met_pil&" sesuai peraturan perundang-undangan yang berlaku untuk paket-paket pekerjaan sebagai berikut:" -> Menindaklanjuti DPA Badan Pengelolaan Keuangan dan Aset Daerah Tahun Anggaran 2025, mohon agar Pejabat Pengadaan dapat segera melaksanakan proses Pengadaan Langsung sesuai peraturan perundang-undangan yang berlaku untuk paket-paket pekerjaan sebagai berikut:
Q19: No | R19: Paket Pekerjaan | S19: Nilai HPS (Rp.) | T19: Identitas Perusahaan
Q21: 1 | R21: =PA.Srt1!G22 -> Belanja Modal Instalasi Jaringan Internet | S21: =hps -> 69862000
D22: Adapun mengenai Dokumen Persiapan Pengadaan (DPP) yang terdiri dari HPS, Spesifikasi Teknis/KAK, dan rancangan kontrak terlampir. | Q22: =IF(AND(Q21<>"",R22<>0),Q21+1,"") | R22: =PA.Srt1!G23 -> 0
Q23: =IF(AND(Q22<>"",R23<>0),Q22+1,"") | R23: =PA.Srt1!G24 -> 0
Q24: =IF(AND(Q23<>"",R24<>0),Q23+1,"") | R24: =PA.Srt1!G25 -> 0
D25: Demikian disampaikan, atas perhatiannya diucapkan terima kasih. | Q25: =IF(AND(Q24<>"",R25<>0),Q24+1,"") | R25: =PA.Srt1!G26 -> 0
Q26: =IF(AND(Q25<>"",R26<>0),Q25+1,"") | R26: =PA.Srt1!G27 -> 0
I27: =ppk_jab -> Pejabat Pembuat Komitmen | Q27: =IF(AND(Q26<>"",R27<>0),Q26+1,"") | R27: =PA.Srt1!G28 -> 0
Q28: =IF(AND(Q27<>"",R28<>0),Q27+1,"") | R28: =PA.Srt1!G29 -> 0
Q29: =IF(AND(Q28<>"",R29<>0),Q28+1,"") | R29: =PA.Srt1!G30 -> 0
Q30: =IF(AND(Q29<>"",R30<>0),Q29+1,"") | R30: =PA.Srt1!G31 -> 0
I31: =ppk_nama -> Ika Kurnia Mustika, ST, MT | Q31: =IF(AND(Q30<>"",R31<>0),Q30+1,"") | R31: =PA.Srt1!G32 -> 0
I32: ="NIP. "&ppk_nip -> NIP. 19791117 200901 1 006 | Q32: =IF(AND(Q31<>"",R32<>0),Q31+1,"") | R32: =PA.Srt1!G33 -> 0
Q33: =IF(AND(Q32<>"",R33<>0),Q32+1,"") | R33: =PA.Srt1!G34 -> 0
A34: Tembusan disampaikan kepada Yth: | Q34: =IF(AND(Q33<>"",R34<>0),Q33+1,"") | R34: =PA.Srt1!G35 -> 0
A35: ="1. "&pa_jab&" di "&pa_lok&";" -> 1. Kepala Badan Pengelolaan Keuangan dan Aset Daerah di Mataram; | Q35: =IF(AND(Q34<>"",R35<>0),Q34+1,"") | R35: =PA.Srt1!G36 -> 0
A36: 2. Pertinggal. | Q36: =IF(AND(Q35<>"",R36<>0),Q35+1,"") | R36: =PA.Srt1!G37 -> 0
Q37: =IF(AND(Q36<>"",R37<>0),Q36+1,"") | R37: =PA.Srt1!G38 -> 0
Q38: =IF(AND(Q37<>"",R38<>0),Q37+1,"") | R38: =PA.Srt1!G39 -> 0
Q39: =IF(AND(Q38<>"",R39<>0),Q38+1,"") | R39: =PA.Srt1!G40 -> 0
Q40: =IF(AND(Q39<>"",R40<>0),Q39+1,"") | R40: =PA.Srt1!G41 -> 0
Q42: Adapun mengenai Dokumen Persiapan Pengadaan (DPP) yang terdiri dari HPS, Spesifikasi Teknis/KAK, dan rancangan kontrak terlampir.
Q45: Demikian disampaikan, atas perhatiannya diucapkan terima kasih.
S47: =ppk_jab -> Pejabat Pembuat Komitmen
S51: =ppk_nama -> Ika Kurnia Mustika, ST, MT
S52: ="NIP. "&ppk_nip -> NIP. 19791117 200901 1 006
N54: Tembusan disampaikan kepada Yth:
...

Sheet PP.Rev
D1: =UPPER(opd_pem) -> PEMERINTAH PROVINSI NUSA TENGGARA BARAT
D2: =UPPER(ukpbj) -> BADAN PENGELOLAAN KEUANGAN DAN ASET DAERAH
D3: =opd_almt -> Jalan Pejanggik Nomor 14 Telp.( 0370 ) 627689, 625345 Fax: 627677
A5: BERITA ACARA REVIU DOKUMEN PERSIAPAN PENGADAAN
A7: Nomor | E7: : | F7: =Input!D77 -> 03.1/PP/Pkt.I/2023 | T7: balik ke input
A8: Tanggal | E8: : | F8: =Input!F77 -> 45931
A9: Berdasarkan permintaan dari | E9: : | F9: =ppk_jab -> Pejabat Pembuat Komitmen
A10: Nomor dan Tanggal Pengajuan | E10: : | F10: =Input!D76&" tanggal "&TEXT(Input!F76,"dd mmmm yyyy") -> 027.1/01.PPK/BPKAD/2025 tanggal 06 Oktober 2025
A11: =pokja -> Pejabat Pengadaan | E11: : | F11: =pokja&" pada "&opd_nama -> Pejabat Pengadaan pada Badan Pengelolaan Keuangan dan Aset Daerah
A12: ="Nomor dan tanggal SK "&pokja -> Nomor dan tanggal SK Pejabat Pengadaan | E12: : | F12: =Input!D54 -> xxxxxx tanggal 27 Juni 2025
A13: Nama Pengadaan | E13: : | F13: =paket -> Belanja Pemeliharaan Bangunan Gedung-Bangunan Gedung Tempat Kerja-Bangunan Gedung Kantor-Pemeliharaan Gedung Bertingkat
A15: Tahun Anggaran | E15: : | F15: =tahun -> 2025
A16: No | C16: URAIAN
A17: A | C17: PEMAKETAN
A18: 1 | C18: Nomor/Kode RUP | E18: : | F18: -
A19: 2 | C19: Jenis Pengadaan | E19: : | F19: Jasa lainnya
A20: 3 | C20: Pagu Anggaran | E20: : | F20: 271950000
A21: 4 | C21: Kode Akun (MAK) | E21: : | F21: -
A22: 5 | C22: Lokasi Pekerjaan | E22: : | F22: =Input!D5 -> Mataram
A23: B | C23: LINGKUP PEKERJAAN / SPESIFIKASI / GAMBAR
A24: 1 | C24: Spesifikasi Teknis/KAK dan Gambar | F24: ü | G24: Memadai | J24: Kurang | O24: Belum ada
A25: 2 | C25: Ketersediaan barang/jasa di pasar | F25: ü | G25: Tersedia | J25: Tidak Tersedia
A26: 3 | C26: Tidak mengarah pada merek/produk tertentu | G26: Tidak | I26: ü | J26: Dikecualikan, mis: untuk Tender Cepat
A27: 4
A28: C | C28: HARGA PERKIRAAN SENDIRI (HPS)
A29: 1 | C29: Nilai HPS | E29: : | F29: =hps -> 69862000
A30: 2 | C30: Ditetapkan oleh | E30: : | F30: PPK
A31: 3 | C31: Sumber HPS | E31: : | F31: survey harga
A32: 4 | C32: Memperhitungkan Kewajiban perpajakan / cukai / asuransi / SMK3 | E32: : | F32: ü | G32: Ya | J32: Belum
A34: 5 | C34: HPS telah ditetapkan oleh PPK | E34: : | F34: Ya | J34: Tanggal: | M34: 45712
A35: D | C35: RANCANGAN KONTRAK
A36: 1 | C36: Acuan Surat Perjanjian | E36: : | F36: MDP LKPP
A37: 2 | C37: Isian SSUK dan SSKK | E37: : | F37: ü | G37: Sesuai | J37: Belum sesuai | P37: Belum diisi
A38: 3 | C38: Lampiran A dan B untuk konstruksi | E38: : | G38: Sesuai | J38: Belum sesuai | P38: Belum diisi
A39: 4 | C39: Jenis Kontrak | E39: : | F39: Lumsum
A40: 5 | C40: Masa Pelaksanaan | E40: : | F40: 90 | H40: hari kalender
A41: 6 | C41: Uang Muka | E41: : | F41: ü | G41: Diberikan | J41: Tidak diberikan | P41: Belum diisi
A42: 7 | C42: Pembayaran | E42: : | G42: Bulanan | J42: Termin | N42: ü | O42: Sekaligus
A43: 8 | C43: Peralatan/Fasilitas | E43: : | F43: - | G43: Sesuai | J43: Belum sesuai | O43: Belum diisi
A44: 9 | C44: Personil | E44: : | F44: - | G44: Sesuai | J44: Belum sesuai | O44: Belum diisi
...

Sheet PP.Srt1
D1: =UPPER(opd_pem) -> PEMERINTAH PROVINSI NUSA TENGGARA BARAT
D2: =UPPER(ukpbj) -> BADAN PENGELOLAAN KEUANGAN DAN ASET DAERAH
D3: =ukpbj_almt -> Jalan Pejanggik Nomor 14 Telp.( 0370 ) 627689, 625345 Fax: 627677
I5: =pp_lok&", "&Input!H79 -> Mataram, 2 Oktober 2025 | K5: sudah ada di SPSE, tidak perlu lagi
A6: Nomor | C6: : | D6: =Input!D79 -> 3/PP/Pkt.I/2023 | K6: balik ke input
A7: Lampiran | C7: : | D7: 1 (satu) berkas
A8: Kepada Yth.
A9: =bu_pim&" "&bu_nama -> Direktur PT. DARUSSALAM MEDIA GROUP | J9: =#REF! -> #REF!
A10: di -
B11: =bu_lok -> Mataram
A13: Perihal | C13: : | D13: =met_pil&" Paket Pekerjaan "&paket&" Pada "&opd_nama&" Tahun Anggaran "&tahun -> Pengadaan Langsung Paket Pekerjaan Belanja Pemeliharaan Bangunan Gedung-Bangunan Gedung Tempat Kerja-Bangunan Gedung Kantor-Pemeliharaan Gedung Bertingkat Pada Badan Pengelolaan Keuangan dan Aset Daerah Tahun Anggaran 2025
A16: ="Dengan ini Saudara kami undang untuk mengikuti proses "&met_pil&" paket Pengadaan "&jenis&" sebagai berikut:" -> Dengan ini Saudara kami undang untuk mengikuti proses Pengadaan Langsung paket Pengadaan Pekerjaan Konstruksi sebagai berikut:
A18: 1. | B18: Paket Pekerjaan
B19: Nama Paket | E19: : | F19: =paket -> Belanja Pemeliharaan Bangunan Gedung-Bangunan Gedung Tempat Kerja-Bangunan Gedung Kantor-Pemeliharaan Gedung Bertingkat
B20: Lingkup Pekerjaan | E20: : | F20: =lingkup -> Pengecatan tembok eksterior dan panel ACP Gedung Kantor BPKAD
B21: Nilai Total HPS | E21: : | F21: =hps -> 69862000
F22: ="("&hps_ter&")" -> (Enam Puluh Sembilan Juta Delapan Ratus Enam Puluh Dua Ribu Rupiah)
B23: Sumber Pendanaan | E23: : | F23: =dana&" "&opd_nama -> DPA Badan Pengelolaan Keuangan dan Aset Daerah
A25: 2. | B25: Pelaksanaan Pengadaan
B26: Tempat | E26: : | F26: =tempat -> Badan Pengelolaan Keuangan dan Aset Daerah
B28: Telepon | E28: : | F28: =Input!$D$56 -> (0370) 622373
B29: email | E29: : | F29: =Input!$D$57 -> bpkad@ntbprov.go.id
A31: Saudara diminta untuk memasukan penawaran, secara langsung sesuai dengan jadwal pelaksanaan sebagai berikut:
A33: No | B33: Kegiatan | G33: Hari | H33: Tanggal | I33: Waktu
A34: 1 | B34: Pemasukan dan pembukaan Dokumen Penawaran | H34: =TEXT(Input!$F$81,"[$-421]d mmmm yyyy")&" s.d "&Input!$G$81 -> 25 Juli 2023 s.d 1 Agustus 2023 | I34: ="s.d "&Input!G83 -> s.d 10.00 WITA
A35: 2 | B35: Pembukaan Dokumen Penawaran, Evaluasi, Klarifikasi Teknis dan Negosiasi Harga | G35: =Input!E83 -> Selasa | H35: =Input!H83 -> 1 Agustus 2023 | I35: =Input!G83&" s.d selesai" -> 10.00 WITA s.d selesai
A36: 3 | B36: Penandatanganan SPK/SPP | G36: =Input!E90 -> Kamis | H36: =Input!H90 -> 3 Agustus 2023
A38: Apabila Saudara memerlukan keterangan ataupun penjelasan lebih lanjut, dapat menghubungi kami sesuai alamat tersebut di atas sampai dengan batas akhir pemasukan Dokumen Penawaran.
A41: Demikian disampaikan untuk diketahui.
H43: =pokja&" pada" -> Pejabat Pengadaan pada
H44: =ukpbj -> Badan Pengelolaan Keuangan dan Aset Daerah
H48: =_pan1 -> Surmayanti Isnaini, S.IP
H49: ="NIP. "&Input!$D$59 -> NIP. 199201122 01406 2 001
A51: BERITA ACARA PENJELASAN PEKERJAAN | K51: untuk penunjukan langsung
A52: =paket -> Belanja Pemeliharaan Bangunan Gedung-Bangunan Gedung Tempat Kerja-Bangunan Gedung Kantor-Pemeliharaan Gedung Bertingkat
A53: =opd_nama -> Badan Pengelolaan Keuangan dan Aset Daerah
A54: ="Tahun Anggaran "&tahun -> Tahun Anggaran 2025
A55: ="Nomor: "&Input!D80 -> Nomor: 02/1/XII/Pj. P BPKAD/2025
A57: ="Pada hari ini, "&Input!E80&" tanggal "&Input!H80&", dengan mengambil tempat di "&tempat&", telah diadakan Penjelasan Pekerjaan untuk paket tersebut di atas yang dihadiri oleh Pokja dan Pelaku Usaha peserta "&met_pil&" dengan acara sebagai berikut :" -> Pada hari ini, Selasa tanggal 25 Juli 2023, dengan mengambil tempat di Badan Pengelolaan Keuangan dan Aset Daerah, telah diadakan Penjelasan Pekerjaan untuk paket tersebut di atas yang dihadiri oleh Pokja dan Pelaku Usaha peserta Pengadaan Langsung dengan acara sebagai berikut :
J59: =#REF! -> #REF!
...

Sheet PP.Eval.B
A1: ="LEMBAR KERJA EVALUASI "&met_pil -> LEMBAR KERJA EVALUASI Pengadaan Langsung
A2: PAKET | C2: : | D2: =paket -> Belanja Pemeliharaan Bangunan Gedung-Bangunan Gedung Tempat Kerja-Bangunan Gedung Kantor-Pemeliharaan Gedung Bertingkat
A3: HPS | C3: : | D3: Rp. | E3: =+hps -> 69862000 | H3: =bu_nama -> PT. DARUSSALAM MEDIA GROUP
A4: UNSUR EVALUASI | G4: ISI DOKUMEN | H4: MEMENUHI
G5: PENAWARAN | H5: YA/TIDAK | I5: balik ke input
A7: ADMINISTRASI
A8: 1 | B8: Surat Penawaran
B9: a) | C9: Jabatan Penandatangan | G9: =bu_pim -> Direktur | H9: YA
C10: Nama Penandatangan | G10: =bu_pimn -> Saripudin
B11: b) | C11: Harga Penawaran termasuk PPN | G11: =bu_hp -> 199999800 | H11: YA | I11: =IF(G11>hps,"TIDAK","YA") -> TIDAK
B12: c) | C12: Tanggal penawaran | G12: =Input!H82 -> 1 Agustus 2023 | H12: YA
C13: Masa berlaku penawaran | G13: =Input!D71 -> 15 | H13: YA
B14: d) | C14: Jangka waktu pelaksanaan pekerjaan | G14: =masa -> 30 | H14: YA
A16: 2 | B16: Daftar Kuantitas dan Harga | G16: Menyampaikan | H16: YA
A18: 3 | B18: Dokumen Penawaran Teknis
B19: a) | C19: Spesifikasi Teknis | G19: Menyampaikan | H19: YA
B20: b) | C20: Identitas (jenis, tipe, merek | G20: Menyampaikan | H20: YA
B21: c) | C21: Brosur | G21: Menyampaikan | H21: YA
B22: d) | C22: Metode pelaksanaan pekerjaan; | G22: Menyampaikan | H22: YA
B23: e) | C23: Deskripsi Varietas dari Kementerian Pertanian | G23: Menyampaikan | H23: YA
B24: f) | C24: Surat Rekomendasi Penyalur/Pedagang Benih dari BPSB yang berwenang | G24: Menyampaikan | H24: YA
B25: g) | C25: Jadwal Pelaksanaan (Time schedule) | G25: Menyampaikan | H25: YA
B26: h) | C26: Surat dukungan Jaminan Supply | G26: Menyampaikan | H26: YA
B27: i) | C27: surat penunjukannya sebagai agen/distributor resmi | G27: Menyampaikan | H27: YA
B28: j) | C28: Tenaga Teknis | G28: Menyampaikan | H28: YA
B29: k) | C29: Peralatan Minimal | G29: Menyampaikan | H29: YA
B30: k) | C30: Layanan purnajual | G30: Menyampaikan | H30: YA
A32: 4 | B32: Formulir Isian Kualifikasi | G32: Menyampaikan | H32: YA
G33: Menyampaikan | H33: YA
A35: TEKNIS
A36: 1 | B36: Spesifikasi Teknis | G36: Memenuhi | H36: YA
A38: 2 | B38: Brosur
B39: brosur barang yang dilampirkan sesuai dengan spesifikasi teknis barang dalam dokumen pengadaan | G39: Memenuhi | H39: YA
B40: Dalam Kemasan diberikan tanda tulisan BENIH JAGUNG BANTUAN PEMERINTAH TAHUN 2018 TIDAK DIPERJUAL BELIKAN | G40: Memenuhi | H40: YA
A42: 3 | B42: Metode pelaksanaan pekerjaan; | G42: Memenuhi | H42: YA
A44: 4 | B44: =+C23 -> Deskripsi Varietas dari Kementerian Pertanian | G44: Memenuhi | H44: YA
A46: 5 | B46: =+C24 -> Surat Rekomendasi Penyalur/Pedagang Benih dari BPSB yang berwenang | G46: Memenuhi | H46: YA
A48: 6 | B48: Jadwal Waktu Pelaksanaan
B49: tidak melebihi jangka waktu sebagaimana tercantum dalam LDP (75 hari kalender) | G49: Memenuhi | H49: YA
A51: 7 | B51: Surat dukungan Jaminan Supply dari Produsen Pemegang Pendaftaran dan Izin Tetap Benih Jagung yang ditetapkan oleh Menteri Pertanian RI, dengan melampirkan scan Surat Keputusan tentang Pemegang Pendaftaran dan Izin Tetap Benih Jagung yang ditetapkan oleh Menteri Pertanian RI | G51: Memenuhi | H51: YA
...

Sheet Nego
A2: Lampiran | C2: : | D2: BERITA ACARA KLARIFIKASI DAN NEGOSIASI TEKNIS DAN HARGA
A3: Nomor | C3: : | D3: =Input!$D$85 -> 05/1/XII/Pj.P BPKAD/2025
A4: Hari, Tanggal | C4: : | D4: =Input!$E$85&", "&TEXT(Input!$F$85,"[$-421]d mmmm yyyy") -> Selasa, 1 Agustus 2023
A6: No | B6: Deskripsi Item/Pekerjaan | E6: Sat | F6: Vol | G6: Harga Satuan (Rp) | J6: Harga Negosiasi (Rp)
G7: HPS | H7: Penawaran | I7: Negosiasi | L7: balik ke input
A9: =IF(B9<>0,MAX(A5:A8)+1,0) -> 1 | B9: =PPK.HPS!B16 -> PEKERJAAN PERSIAPAN | E9: =PPK.HPS!F16 -> 0 | F9: =PPK.HPS!G16 -> 0 | G9: =PPK.HPS!H16 -> 0 | I9: =IF(B9<>"",MIN(G9:H9),0) -> 0 | J9: =F9*I9 -> 0
A10: =IF(B10<>0,MAX(A6:A9)+1,0) -> 2 | B10: =PPK.HPS!B17 -> Pengukuran | E10: =PPK.HPS!F17 -> keg | F10: =PPK.HPS!G17 -> 1 | G10: =PPK.HPS!H17 -> 200000 | I10: =IF(B10<>"",MIN(G10:H10),0) -> 200000 | J10: =F10*I10 -> 200000
A11: =IF(B11<>0,MAX(A7:A10)+1,0) -> 3 | B11: =PPK.HPS!B18 -> Pembersihan Lokasi | E11: =PPK.HPS!F18 -> keg | F11: =PPK.HPS!G18 -> 1 | G11: =PPK.HPS!H18 -> 300000 | I11: =IF(B11<>"",MIN(G11:H11),0) -> 300000 | J11: =F11*I11 -> 300000
A12: =IF(B12<>0,MAX(A8:A11)+1,0) -> 0 | B12: =PPK.HPS!B19 -> 0 | E12: =PPK.HPS!F19 -> 0 | F12: =PPK.HPS!G19 -> 0 | G12: =PPK.HPS!H19 -> 0 | I12: =IF(B12<>"",MIN(G12:H12),0) -> 0 | J12: =F12*I12 -> 0
A13: =IF(B13<>0,MAX(A9:A12)+1,0) -> 4 | B13: =PPK.HPS!B20 -> SMK3 KONSTRUKSI | E13: =PPK.HPS!F20 -> 0 | F13: =PPK.HPS!G20 -> 0 | G13: =PPK.HPS!H20 -> 0 | I13: =IF(B13<>"",MIN(G13:H13),0) -> 0 | J13: =F13*I13 -> 0
A14: =IF(B14<>0,MAX(A10:A13)+1,0) -> 5 | B14: =PPK.HPS!B21 -> Alat Pelindung Kerja dan Alat Pelindung Diri | E14: =PPK.HPS!F21 -> set | F14: =PPK.HPS!G21 -> 5 | G14: =PPK.HPS!H21 -> 75000 | I14: =IF(B14<>"",MIN(G14:H14),0) -> 75000 | J14: =F14*I14 -> 375000
A15: =IF(B15<>0,MAX(A11:A14)+1,0) -> 0 | B15: =PPK.HPS!B22 -> 0 | E15: =PPK.HPS!F22 -> 0 | F15: =PPK.HPS!G22 -> 0 | G15: =PPK.HPS!H22 -> 0 | I15: =IF(B15<>"",MIN(G15:H15),0) -> 0 | J15: =F15*I15 -> 0
A16: =IF(B16<>0,MAX(A12:A15)+1,0) -> 6 | B16: =PPK.HPS!B23 -> PEKERJAAN PENGECATAN | E16: =PPK.HPS!F23 -> 0 | F16: =PPK.HPS!G23 -> 0 | G16: =PPK.HPS!H23 -> 0 | I16: =IF(B16<>"",MIN(G16:H16),0) -> 0 | J16: =F16*I16 -> 0
A17: =IF(B17<>0,MAX(A13:A16)+1,0) -> 7 | B17: =PPK.HPS!B24 -> Sewa stager | E17: =PPK.HPS!F24 -> keg | F17: =PPK.HPS!G24 -> 1 | G17: =PPK.HPS!H24 -> 4500000 | I17: =IF(B17<>"",MIN(G17:H17),0) -> 4500000 | J17: =F17*I17 -> 4500000
A18: =IF(B18<>0,MAX(A14:A17)+1,0) -> 8 | B18: =PPK.HPS!B25 -> Pengerokan cat yang terkelupas | E18: =PPK.HPS!F25 -> m2 | F18: =PPK.HPS!G25 -> 168.58 | G18: =PPK.HPS!H25 -> 19719.975 | I18: =IF(B18<>"",MIN(G18:H18),0) -> 19719.975 | J18: =F18*I18 -> 3324393.4
A19: =IF(B19<>0,MAX(A15:A18)+1,0) -> 9 | B19: =PPK.HPS!B26 -> Pengecatan ulang dinding luar | E19: =PPK.HPS!F26 -> m2 | F19: =PPK.HPS!G26 -> 842.91 | G19: =PPK.HPS!H26 -> 40683.291 | I19: =IF(B19<>"",MIN(G19:H19),0) -> 40683.291 | J19: =F19*I19 -> 34292353
A20: =IF(B20<>0,MAX(A16:A19)+1,0) -> 10 | B20: =PPK.HPS!B27 -> Pengecatan ACP dengan cat besi | E20: =PPK.HPS!F27 -> m2 | F20: =PPK.HPS!G27 -> 419 | G20: =PPK.HPS!H27 -> 47607.593 | I20: =IF(B20<>"",MIN(G20:H20),0) -> 47607.593 | J20: =F20*I20 -> 19947581
A21: =IF(B21<>0,MAX(A17:A20)+1,0) -> 0 | B21: =PPK.HPS!B28 -> 0 | E21: =PPK.HPS!F28 -> 0 | F21: =PPK.HPS!G28 -> 0 | G21: =PPK.HPS!H28 -> 0
A22: =IF(B22<>0,MAX(A18:A21)+1,0) -> 0 | B22: =PPK.HPS!B29 -> 0 | E22: =PPK.HPS!F29 -> 0 | F22: =PPK.HPS!G29 -> 0 | G22: =PPK.HPS!H29 -> 0 | I22: =IF(B22<>"",MIN(G22:H22),0) -> 0 | J22: =F22*I22 -> 0
A23: =IF(B23<>0,MAX(A19:A22)+1,0) -> 0 | B23: =PPK.HPS!B30 -> 0 | E23: =PPK.HPS!F30 -> 0 | F23: =PPK.HPS!G30 -> 0 | G23: =PPK.HPS!H30 -> 0 | I23: =IF(B23<>"",MIN(G23:H23),0) -> 0 | J23: =F23*I23 -> 0
A24: =IF(B24<>0,MAX(A20:A23)+1,0) -> 0 | B24: =PPK.HPS!B31 -> 0 | E24: =PPK.HPS!F31 -> 0 | F24: =PPK.HPS!G31 -> 0 | G24: =PPK.HPS!H31 -> 0 | I24: =IF(B24<>"",MIN(G24:H24),0) -> 0 | J24: =F24*I24 -> 0
A25: =IF(B25<>0,MAX(A21:A24)+1,0) -> 0 | B25: =PPK.HPS!B32 -> 0 | E25: =PPK.HPS!F32 -> 0 | F25: =PPK.HPS!G32 -> 0 | G25: =PPK.HPS!H32 -> 0 | I25: =IF(B25<>"",MIN(G25:H25),0) -> 0 | J25: =F25*I25 -> 0
A26: =IF(B26<>0,MAX(A22:A25)+1,0) -> 0 | B26: =PPK.HPS!B33 -> 0 | E26: =PPK.HPS!F33 -> 0 | F26: =PPK.HPS!G33 -> 0 | G26: =PPK.HPS!H33 -> 0 | I26: =IF(B26<>"",MIN(G26:H26),0) -> 0 | J26: =F26*I26 -> 0
A27: =IF(B27<>0,MAX(A23:A26)+1,0) -> 0 | B27: =PPK.HPS!B34 -> 0 | E27: =PPK.HPS!F34 -> 0 | F27: =PPK.HPS!G34 -> 0 | G27: =PPK.HPS!H34 -> 0 | I27: =IF(B27<>"",MIN(G27:H27),0) -> 0 | J27: =F27*I27 -> 0
A28: =IF(B28<>0,MAX(A24:A27)+1,0) -> 0 | B28: =PPK.HPS!B35 -> 0 | E28: =PPK.HPS!F35 -> 0 | F28: =PPK.HPS!G35 -> 0 | G28: =PPK.HPS!H35 -> 0 | I28: =IF(B28<>"",MIN(G28:H28),0) -> 0 | J28: =F28*I28 -> 0
A29: =IF(B29<>0,MAX(A25:A28)+1,0) -> 0 | B29: =PPK.HPS!B36 -> 0 | E29: =PPK.HPS!F36 -> 0 | F29: =PPK.HPS!G36 -> 0 | G29: =PPK.HPS!H36 -> 0 | I29: =IF(B29<>"",MIN(G29:H29),0) -> 0 | J29: =F29*I29 -> 0
A30: =IF(B30<>0,MAX(A26:A29)+1,0) -> 0 | B30: =PPK.HPS!B37 -> 0 | E30: =PPK.HPS!F37 -> 0 | F30: =PPK.HPS!G37 -> 0 | G30: =PPK.HPS!H37 -> 0
A31: =IF(B31<>0,MAX(A27:A30)+1,0) -> 0 | B31: =PPK.HPS!B38 -> 0 | E31: =PPK.HPS!F38 -> 0 | F31: =PPK.HPS!G38 -> 0 | G31: =PPK.HPS!H38 -> 0 | I31: =IF(B31<>"",MIN(G31:H31),0) -> 0 | J31: =F31*I31 -> 0
A32: =IF(B32<>0,MAX(A28:A31)+1,0) -> 0 | B32: =PPK.HPS!B39 -> 0 | E32: =PPK.HPS!F39 -> 0 | F32: =PPK.HPS!G39 -> 0 | G32: =PPK.HPS!H39 -> 0 | I32: =IF(B32<>"",MIN(G32:H32),0) -> 0 | J32: =F32*I32 -> 0
A33: =IF(B33<>0,MAX(A29:A32)+1,0) -> 0 | B33: =PPK.HPS!B40 -> 0 | E33: =PPK.HPS!F40 -> 0 | F33: =PPK.HPS!G40 -> 0 | G33: =PPK.HPS!H40 -> 0 | I33: =IF(B33<>"",MIN(G33:H33),0) -> 0 | J33: =F33*I33 -> 0
A34: =IF(B34<>0,MAX(A30:A33)+1,0) -> 0 | B34: =PPK.HPS!B41 -> 0 | E34: =PPK.HPS!F41 -> 0 | F34: =PPK.HPS!G41 -> 0 | G34: =PPK.HPS!H41 -> 0 | I34: =IF(B34<>"",MIN(G34:H34),0) -> 0 | J34: =F34*I34 -> 0
I35: Total | J35: =SUM(J9:J34) -> 62939328
I36: 0.11 | J36: =J35*I36 -> 6923326
I37: Total + PPN (Pembulatan) | J37: =ROUNDDOWN(J35+J36,-3) -> 69862000
A38: Terbilang | C38: : | D38: =Uang!A21 -> Enam Puluh Sembilan Juta Delapan Ratus Enam Puluh Dua Ribu Rupiah
A40: Harga tersebut di atas sudah termasuk pajak-pajak dan biaya pungutan resmi lainnya.
B42: =opd_nama -> Badan Pengelolaan Keuangan dan Aset Daerah | H42: =bu_nama -> PT. DARUSSALAM MEDIA GROUP
B47: =_pan1 -> Surmayanti Isnaini, S.IP | H47: =bu_pimn -> Saripudin
B48: =pokja -> Pejabat Pengadaan | H48: =bu_pim -> Direktur

Sheet PP.Srt2
D1: =UPPER(opd_pem) -> PEMERINTAH PROVINSI NUSA TENGGARA BARAT
D2: =UPPER(ukpbj) -> BADAN PENGELOLAAN KEUANGAN DAN ASET DAERAH
D3: =ukpbj_almt -> Jalan Pejanggik Nomor 14 Telp.( 0370 ) 627689, 625345 Fax: 627677
A6: BERITA ACARA KLARIFIKASI DAN NEGOSIASI TEKNIS DAN HARGA
A7: =paket -> Belanja Pemeliharaan Bangunan Gedung-Bangunan Gedung Tempat Kerja-Bangunan Gedung Kantor-Pemeliharaan Gedung Bertingkat
A8: =opd_nama -> Badan Pengelolaan Keuangan dan Aset Daerah
A9: ="Tahun Anggaran "&tahun -> Tahun Anggaran 2025
A10: ="Nomor: "&Input!D85 -> Nomor: 05/1/XII/Pj.P BPKAD/2025 | K10: balik ke input
A12: ="Pada hari ini, "&Input!$E$85&" tanggal "&TEXT(Input!$F$85,"[$-421]d mmmm yyyy")&", dengan mengambil tempat di "&tempat&", telah diadakan Klarifikasi Dan Negosiasi Teknis Dan Harga untuk paket tersebut di atas yang dihadiri oleh "&Input!D50&" dan "&bu_nama&" dengan hasil sebagai berikut :" -> Pada hari ini, Selasa tanggal 1 Agustus 2023, dengan mengambil tempat di Badan Pengelolaan Keuangan dan Aset Daerah, telah diadakan Klarifikasi Dan Negosiasi Teknis Dan Harga untuk paket tersebut di atas yang dihadiri oleh Pejabat Pengadaan dan PT. DARUSSALAM MEDIA GROUP dengan hasil sebagai berikut :
A17: 1. | B17: Lingkup kerja yang dibutuhkan oleh Pengguna Jasa telah dipahami dan dapat dipenuhi oleh peserta;
A18: 2. | B18: ="Harga hasil negosiasi sebesar Rp. "&TEXT(bu_hn,tiko1)&";" -> Harga hasil negosiasi sebesar Rp. 69,862,000;
A19: 3. | B19: Harga yang disepakati untuk pelaksanaan pekerjaan ini sudah termasuk pajak-pajak yang harus dibayar sesuai dengan ketentuan dan perundang-undangan yang berlaku;
A21: 4. | B21: Rincian hasil negosiasi harga terlampir.
A23: Demikian Berita Acara ini dibuat dengan penuh tanggung jawab, untuk dapat dipergunakan sebagaimana mestinya.
A25: No | B25: =pokja&" pada "&ukpbj -> Pejabat Pengadaan pada Badan Pengelolaan Keuangan dan Aset Daerah | G25: Tandatangan
A27: 1 | B27: =_pan1 -> Surmayanti Isnaini, S.IP | G27: 1.
A28: 2 | B28: =_pan2 -> 0 | G28: 2.
A29: 3 | B29: =_pan3 -> 0 | G29: 3.
A30: 4 | B30: =_pan4 -> 0 | G30: 4.
A31: 5 | B31: =_pan5 -> 0 | G31: 5.
A33: No | B33: =bu_nama -> PT. DARUSSALAM MEDIA GROUP | G33: Tandatangan
A35: 1 | B35: =bu_pimn&" ("&bu_pim&")" -> Saripudin (Direktur) | G35: 1.
A39: ="BERITA ACARA HASIL "&UPPER(met_pil) -> BERITA ACARA HASIL PENGADAAN LANGSUNG
A40: ="Nomor: "&Input!$D$86 -> Nomor: 06/1/XII/Pj.P BPKAD/2025 | K40: balik ke input
A42: Nama Pekerjaan | E42: : | F42: =paket -> Belanja Pemeliharaan Bangunan Gedung-Bangunan Gedung Tempat Kerja-Bangunan Gedung Kantor-Pemeliharaan Gedung Bertingkat
A44: K/L/PD | E44: : | F44: =opd_nama -> Badan Pengelolaan Keuangan dan Aset Daerah
A45: Sumber Dana | E45: : | F45: =dana -> DPA
A46: Tahun Anggaran | E46: : | F46: =tahun -> 2025
A47: HPS | E47: : | F47: =hps -> 69862000
A48: Jenis Kontrak | E48: : | F48: =hsls -> Lumsum
A49: Masa Pelaksanaan | E49: : | F49: =masa -> 30
A51: ="Pada hari ini, "&Input!E86&", "&Input!H86&", "&pokja&" yang bertanda tangan di bawah ini telah melaksanakan "&met_pil&" untuk Paket Pekerjaan di atas dengan hasil sebagai berikut:" -> Pada hari ini, Selasa, 1 Agustus 2023, Pejabat Pengadaan yang bertanda tangan di bawah ini telah melaksanakan Pengadaan Langsung untuk Paket Pekerjaan di atas dengan hasil sebagai berikut:
A53: 1 | B53: Peserta
B54: Nama | E54: : | F54: =bu_nama -> PT. DARUSSALAM MEDIA GROUP
B55: NPWP | E55: : | F55: =bu_npwp -> 03.990.125.5.8-911.000
B56: Alamat | E56: : | F56: =bu_almt -> JL Meninting 13 No.. 22C BTN Kekalik, Kel. Pagesangan Barat, Kota Mataram, Provinsi Nusa Tenggara Barat
B57: Harga Penawaran | E57: : | F57: =bu_hp -> 199999800
A59: 2 | B59: Unsur-unsur Yang Dievaluasi
B60: Administrasi | E60: : | F60: Memenuhi Syarat
B61: Teknis | E61: : | F61: Memenuhi Syarat
...

Sheet PPK.B
D1: =UPPER(opd_pem) -> PEMERINTAH PROVINSI NUSA TENGGARA BARAT
D2: =UPPER(ukpbj) -> BADAN PENGELOLAAN KEUANGAN DAN ASET DAERAH
D3: =opd_almt -> Jalan Pejanggik Nomor 14 Telp.( 0370 ) 627689, 625345 Fax: 627677
K5: =ppk_lok&", "&TEXT(Input!$F$90,"[$-421]d mmmm yyyy") -> Mataram, 3 Agustus 2023
A6: Nomor | C6: : | D6: =Input!D90 -> 027.1/02.PPK/BPKAD/2025 | L6: balik ke input
A7: Lampiran | C7: : | D7: 1 (satu) Gabung
A9: Kepada Yth.
A10: =bu_pim&" "&bu_nama -> Direktur PT. DARUSSALAM MEDIA GROUP
A11: di -
D12: =bu_lok -> Mataram
A14: Perihal | C14: : | D14: ="Penunjukan Penyedia Untuk Pelaksanaan Paket Pekerjaan "&paket -> Penunjukan Penyedia Untuk Pelaksanaan Paket Pekerjaan Belanja Pemeliharaan Bangunan Gedung-Bangunan Gedung Tempat Kerja-Bangunan Gedung Kantor-Pemeliharaan Gedung Bertingkat
D17: ="Dengan ini kami beritahukan bahwa penawaran Saudara nomor "&Input!$D$82&" tanggal "&TEXT(Input!$F$82,"[$-421]d mmmm yyyy")&" untuk paket pekerjaan "&paket&" dengan hasil negosiasi harga sebesar Rp. "&TEXT(bu_hn,tiko1)&" ("&bu_hn2&") kami nyatakan diterima/disetujui." -> Dengan ini kami beritahukan bahwa penawaran Saudara nomor 02/DMG/VI/2025 tanggal 1 Agustus 2023 untuk paket pekerjaan Belanja Pemeliharaan Bangunan Gedung-Bangunan Gedung Tempat Kerja-Bangunan Gedung Kantor-Pemeliharaan Gedung Bertingkat dengan hasil negosiasi harga sebesar Rp. 69,862,000 (Enam Puluh Sembilan Juta Delapan Ratus Enam Puluh Dua Ribu Rupiah) kami nyatakan diterima/disetujui.
D22: ="Sebagai tindak lanjut dari Surat Penunjukan Penyedia Barang/Jasa (SPPBJ) ini Saudara diharuskan menandatangani SPK paling lambat 14 (empat belas) hari kerja setelah diterbitkannya SPPBJ."&" Kegagalan Saudara untuk menerima penunjukan ini yang disusun berdasarkan evaluasi terhadap penawaran Saudara, akan dikenakan sanksi sesuai ketentuan dalam "&aturan&"." -> Sebagai tindak lanjut dari Surat Penunjukan Penyedia Barang/Jasa (SPPBJ) ini Saudara diharuskan menandatangani SPK paling lambat 14 (empat belas) hari kerja setelah diterbitkannya SPPBJ. Kegagalan Saudara untuk menerima penunjukan ini yang disusun berdasarkan evaluasi terhadap penawaran Saudara, akan dikenakan sanksi sesuai ketentuan dalam Peraturan Presiden Republik Indonesia Nomor 46 Tahun 2025 beserta perubahan dan petunjuk teknisnya..
I29: =ppk_jab -> Pejabat Pembuat Komitmen
I33: =ppk_nama -> Ika Kurnia Mustika, ST, MT
I34: ="NIP. "&ppk_nip -> NIP. 19791117 200901 1 006
A36: Tembusan disampaikan kepada Yth:
A37: ="1. "&pa_jab&" di "&pa_lok&";" -> 1. Kepala Badan Pengelolaan Keuangan dan Aset Daerah di Mataram;
A38: ="2. "&apip&" di "&apip_lok&";" -> 2. Inspektur Provinsi NTB di Mataram;
A39: ="3. "&pokja&" Pada "&ukpbj&" di "&pp_lok&";" -> 3. Pejabat Pengadaan Pada Badan Pengelolaan Keuangan dan Aset Daerah di Mataram;
A40: 4. Pertinggal.
A43: SURAT PERINTAH PENGIRIMAN (SPP) | L43: untuk barang
A44: =paket -> Belanja Pemeliharaan Bangunan Gedung-Bangunan Gedung Tempat Kerja-Bangunan Gedung Kantor-Pemeliharaan Gedung Bertingkat | L44: balik ke input
A45: ="Nomor: "&Input!$D$92 -> Nomor: 027.3/17 /SPP/BPKAD/2024
A47: Yang bertandatangan di bawah ini:
A49: Nama | C49: : | D49: =ppk_nama -> Ika Kurnia Mustika, ST, MT
A50: Jabatan | C50: : | D50: =ppk_jab -> Pejabat Pembuat Komitmen
A51: Alamat | C51: : | D51: =opd_almt -> Jalan Pejanggik Nomor 14 Telp.( 0370 ) 627689, 625345 Fax: 627677
A52: ="selanjutnya disebut sebagai Pejabat Penandatangan Kontrak;" -> selanjutnya disebut sebagai Pejabat Penandatangan Kontrak;
A54: ="berdasarkan "&kontrak_bentuk&" "&paket&" pada "&opd_nama&" nomor "&Input!$D$91&" tanggal "&TEXT(Input!$F$91,"[$-421]d mmmm yyyy")&", bersama ini memerintahkan:" -> berdasarkan Surat Perjanjian Kerja Belanja Pemeliharaan Bangunan Gedung-Bangunan Gedung Tempat Kerja-Bangunan Gedung Kantor-Pemeliharaan Gedung Bertingkat pada Badan Pengelolaan Keuangan dan Aset Daerah nomor 027.1/1/SPK/BPKAD/2025 tanggal 3 Agustus 2023, bersama ini memerintahkan:
A57: Perusahaan | C57: : | D57: =bu_nama -> PT. DARUSSALAM MEDIA GROUP
A58: Alamat | C58: : | D58: =bu_almt -> JL Meninting 13 No.. 22C BTN Kekalik, Kel. Pagesangan Barat, Kota Mataram, Provinsi Nusa Tenggara Barat
A60: ="yang dalam hal ini diwakili oleh "&bu_pimn&" selanjutnya disebut sebagai Penyedia;" -> yang dalam hal ini diwakili oleh Saripudin selanjutnya disebut sebagai Penyedia;
A61: untuk mengirimkan barang dengan memperhatikan ketentuan-ketentuan sebagai berikut:
A63: 1. | B63: ="Rincian "&IF(jenis="Barang","Barang","Pekerjaan")&":" -> Rincian Pekerjaan:
B64: No | C64: Deskripsi Item/Pekerjaan | H64: Satuan | I64: Kuantitas | J64: Harga Satuan (Rp) | K64: Total Harga (Rp)
B65: 1 | C65: =PPK.HPS!B16 -> PEKERJAAN PERSIAPAN | H65: =PPK.HPS!F16 -> 0 | I65: =PPK.HPS!G16 -> 0 | J65: =Nego!I$9 -> 0 | K65: =I65*J65 -> 0
B66: =IF(AND(B65<>0,D66<>0),B65+1,"") | C66: =PPK.HPS!B17 -> Pengukuran | H66: =PPK.HPS!F17 -> keg | I66: =PPK.HPS!G17 -> 1 | J66: =Nego!I10 -> 200000 | K66: =I66*J66 -> 200000
B67: =IF(AND(B66<>0,D67<>0),B66+1,"") | C67: =PPK.HPS!B18 -> Pembersihan Lokasi | H67: =PPK.HPS!F18 -> keg | I67: =PPK.HPS!G18 -> 1 | J67: =Nego!I11 -> 300000 | K67: =I67*J67 -> 300000
B68: =IF(AND(B67<>0,D68<>0),B67+1,"") | C68: =PPK.HPS!B19 -> 0 | H68: =PPK.HPS!F19 -> 0 | I68: =PPK.HPS!G19 -> 0 | J68: =Nego!I12 -> 0 | K68: =I68*J68 -> 0
...

Sheet PPK.PK
D1: =UPPER(opd_pem) -> PEMERINTAH PROVINSI NUSA TENGGARA BARAT
D2: =UPPER(opd_nama) -> BADAN PENGELOLAAN KEUANGAN DAN ASET DAERAH
D3: =opd_almt -> Jalan Pejanggik Nomor 14 Telp.( 0370 ) 627689, 625345 Fax: 627677
K5: =ppk_lok&", "&Input!$H$90 -> Mataram, 3 Agustus 2023
A6: Nomor | C6: : | D6: =Input!D90 -> 027.1/02.PPK/BPKAD/2025 | L6: balik ke input
A7: Lampiran | C7: : | D7: 1 (satu) Gabung
A9: Kepada Yth.
A10: =bu_pim&" "&bu_nama -> Direktur PT. DARUSSALAM MEDIA GROUP
A11: di -
D12: =bu_lok -> Mataram
