Workbook
Name asdep: #REF!
Name kegiatan: #REF!
Name sfsdf: #REF!

Sheet PAK
D1: PEMERINTAH PROVINSI NUSA TENGGARA BARAT
D2: SEKRETARIAT DAERAH
D3: Jalan Pejanggik Nomor 12 Telp. (0370) 625274 - Mataram
A5: KONVERSI PREDIKAT KINERJA KE ANGKA KREDIT
A6: NOMOR : .
A8: Instansi | C8: : | D8: Sekretariat Daerah Provinsi NTB | P8: Periode : Januari s.d Desember 2023
A9: PEJABAT FUNGSIONAL YANG DINILAI | R9: 1. | S9: Predikat | T9: Skor
A10: 1 | B10: Nama | H10: : | I10: Ada Martabat, ST, MT | S10: Sangat Baik | T10: 1.5
A11: 2 | B11: NIP | H11: : | I11: 20001232 201501 1 007 | S11: Baik | T11: 1
A12: 3 | B12: Nomor Seri Karpeg | H12: : | I12: G 123456 | S12: Cukup/butuh perbaikan | T12: 0.75
A13: 4 | B13: Tempat/Tanggal Lahir | H13: : | I13: Hogmeade, 32 Desember 2000 | S13: Kurang | T13: 0.5
A14: 5 | B14: Jenis Kelamin | H14: : | I14: Laki-Laki | S14: Sangat kurang | T14: 0.25
A15: 6 | B15: Pangkat/Golongan Ruang/TMT | H15: : | I15: Penata (III/c) | O15: / | P15: 45200 | S15: - | T15: -
A16: 7 | B16: Jabatan/TMT | H16: : | I16: Pengelola Sesuatu Ahli Muda | O16: / | P16: 43943 | R16: 2. | S16: Pangkat/Golongan | T16: Jenjang Jafung | V16: Rentang Angka Kredit Akumulasi Baru (Integrasi) PerBKN 3/2023 | Y16: AK Naik Pangkat | Z16: 0.25 | AA16: AK Naik Jenjang Jabatan | AB16: Jenjang | AC16: Naik Jenjang ke | AD16: Naik Pangkat ke
A17: 8 | B17: Unit Kerja | H17: : | I17: Kantor Pembuat Formulir | AE17: Kondisi
A18: 9 | B18: Instansi | H18: : | I18: Sekretariat Daerah Provinsi NTB | S18: Pengatur Muda (II/a) | Y18: =IFERROR(IF(OR(V18="",X18=""),"-",X18-V18),"-") -> - | Z18: =IFERROR(Y18/4,"") | AA18: =IF(COUNTA(T19:T21)=0,"-",IF(V19=0,X18,X19)) -> - | AB18: =IFERROR(IF(FIND("Pertama",T18)>0,"Pertama"),"")&IFERROR(IF(FIND("Muda",T18)>0,"Muda"),"")&IFERROR(IF(FIND("Madya",T18)>0,"Madya"),"")&IFERROR(IF(FIND("Utama",T18)>0,"Utama"),"") | AC18: =IF(AB19="",IF(AB20="",AB18,AB20),AB19) | AD18: Pengatur Muda Tingkat I (II/b) | AE18: =IF(AND(AB18="",ISTEXT(AB19)),1,0) -> 1
A19: KONVERSI PREDIKAT KINERJA KE ANGKA KREDIT | S19: Pengatur Muda Tingkat I (II/b) | Y19: =IFERROR(IF(OR(V19="",X19=""),"-",X19-V19),"-") -> - | Z19: =IFERROR(Y19/4,"") | AA19: =IF(COUNTA(T20:T22)=0,"-",IF(V20=0,X19,X20)) -> 0 | AB19: =IFERROR(IF(FIND("Pertama",T19)>0,"Pertama"),"")&IFERROR(IF(FIND("Muda",T19)>0,"Muda"),"")&IFERROR(IF(FIND("Madya",T19)>0,"Madya"),"")&IFERROR(IF(FIND("Utama",T19)>0,"Utama"),"") | AC19: =AB20 | AD19: Pengatur (II/c) | AE19: =IF(AND(AB19="",ISTEXT(AB20)),1,0) -> 1
A20: Hasil Penilaian Kinerja | J20: Koefisien per tahun | M20: Angka Kredit yang didapat | S20: Pengatur (II/c) | Y20: =IFERROR(IF(OR(V20="",X20=""),"-",X20-V20),"-") -> - | Z20: =IFERROR(Y20/4,"") | AA20: =IF(COUNTA(T21:T23)=0,"-",IF(V21=0,X20,X21)) -> 0 | AB20: =IFERROR(IF(FIND("Pertama",T20)>0,"Pertama"),"")&IFERROR(IF(FIND("Muda",T20)>0,"Muda"),"")&IFERROR(IF(FIND("Madya",T20)>0,"Madya"),"")&IFERROR(IF(FIND("Utama",T20)>0,"Utama"),"") | AC20: =AB21 | AD20: Pengatur Tingkat I (II/d) | AE20: =IF(AND(AB20="",ISTEXT(AB21)),1,0) -> 1
A21: PREDIKAT | F21: PERSENTASE | M21: (Kolom 2 x Kolom 3) | S21: Pengatur Tingkat I (II/d) | Y21: =IFERROR(IF(OR(V21="",X21=""),"-",X21-V21),"-") -> - | Z21: =IFERROR(Y21/4,"") | AA21: =IF(COUNTA(T22:T24)=0,"-",IF(V22=0,X21,X22)) -> 0 | AB21: =IFERROR(IF(FIND("Pertama",T21)>0,"Pertama"),"")&IFERROR(IF(FIND("Muda",T21)>0,"Muda"),"")&IFERROR(IF(FIND("Madya",T21)>0,"Madya"),"")&IFERROR(IF(FIND("Utama",T21)>0,"Utama"),"") | AC21: =AB22 -> Pertama | AD21: Penata Muda (III/a) | AE21: =IF(AND(AB21="",ISTEXT(AB22)),1,0) -> 1
A22: 1 | F22: 2 | J22: 3 | M22: 4 | S22: Penata Muda (III/a) | T22: Pengelola Sesuatu Ahli Pertama | V22: 0 | W22: - | X22: 50 | Y22: =IFERROR(IF(OR(V22="",X22=""),"-",X22-V22),"-") -> 50 | Z22: =IFERROR(Y22/4,"") -> 12.5 | AA22: =IF(COUNTA(T23:T25)=0,"-",IF(V23=0,X22,X23)) -> 100 | AB22: =IFERROR(IF(FIND("Pertama",T22)>0,"Pertama"),"")&IFERROR(IF(FIND("Muda",T22)>0,"Muda"),"")&IFERROR(IF(FIND("Madya",T22)>0,"Madya"),"")&IFERROR(IF(FIND("Utama",T22)>0,"Utama"),"") -> Pertama | AC22: =AB23 | AD22: Penata Muda Tingkat I (III/b) | AE22: =IF(AND(AB22="",ISTEXT(AB23)),1,0) -> 0
A23: Baik | F23: =VLOOKUP(A23,$S$10:$T$14,2,FALSE) -> 1 | J23: =VLOOKUP(I16,$T$18:$AD$30,7,FALSE) -> 25 | M23: =F23*J23 -> 25 | S23: Penata Muda Tingkat I (III/b) | V23: 50 | W23: - | X23: 100 | Y23: =IFERROR(IF(OR(V23="",X23=""),"-",X23-V23),"-") -> 50 | Z23: =IFERROR(Y23/4,"") -> 12.5 | AA23: =IF(COUNTA(T24:T26)=0,"-",IF(V24=0,X23,X24)) -> 100 | AB23: =IFERROR(IF(FIND("Pertama",T23)>0,"Pertama"),"")&IFERROR(IF(FIND("Muda",T23)>0,"Muda"),"")&IFERROR(IF(FIND("Madya",T23)>0,"Madya"),"")&IFERROR(IF(FIND("Utama",T23)>0,"Utama"),"") | AC23: =AB24 -> Muda | AD23: Penata (III/c) | AE23: =IF(AND(AB23="",ISTEXT(AB24)),1,0) -> 1
S24: Penata (III/c) | T24: Pengelola Sesuatu Ahli Muda | V24: 0 | W24: - | X24: 100 | Y24: =IFERROR(IF(OR(V24="",X24=""),"-",X24-V24),"-") -> 100 | Z24: =IFERROR(Y24/4,"") -> 25 | AA24: =IF(COUNTA(T25:T27)=0,"-",IF(V25=0,X24,X25)) -> 200 | AB24: =IFERROR(IF(FIND("Pertama",T24)>0,"Pertama"),"")&IFERROR(IF(FIND("Muda",T24)>0,"Muda"),"")&IFERROR(IF(FIND("Madya",T24)>0,"Madya"),"")&IFERROR(IF(FIND("Utama",T24)>0,"Utama"),"") -> Muda | AC24: =AB25 | AD24: Penata Tingkat I (III/d) | AE24: =IF(AND(AB24="",ISTEXT(AB25)),1,0) -> 0
L25: Ditetapkan di | M25: : | N25: Mataram | S25: Penata Tingkat I (III/d) | V25: 100 | W25: - | X25: 200 | Y25: =IFERROR(IF(OR(V25="",X25=""),"-",X25-V25),"-") -> 100 | Z25: =IFERROR(Y25/4,"") -> 25 | AA25: =IF(COUNTA(T26:T28)=0,"-",IF(V26=0,X25,X26)) -> 200 | AB25: =IFERROR(IF(FIND("Pertama",T25)>0,"Pertama"),"")&IFERROR(IF(FIND("Muda",T25)>0,"Muda"),"")&IFERROR(IF(FIND("Madya",T25)>0,"Madya"),"")&IFERROR(IF(FIND("Utama",T25)>0,"Utama"),"") | AC25: =AB26 -> Madya | AD25: Pembina (IV/a) | AE25: =IF(AND(AB25="",ISTEXT(AB26)),1,0) -> 1
L26: Pada tanggal | M26: : | N26: 45295 | S26: Pembina (IV/a) | T26: Pengelola Sesuatu Ahli Madya | V26: 0 | W26: - | X26: 150 | Y26: =IFERROR(IF(OR(V26="",X26=""),"-",X26-V26),"-") -> 150 | Z26: =IFERROR(Y26/4,"") -> 37.5 | AA26: =IF(COUNTA(T27:T29)=0,"-",IF(V27=0,X26,X27)) -> - | AB26: =IFERROR(IF(FIND("Pertama",T26)>0,"Pertama"),"")&IFERROR(IF(FIND("Muda",T26)>0,"Muda"),"")&IFERROR(IF(FIND("Madya",T26)>0,"Madya"),"")&IFERROR(IF(FIND("Utama",T26)>0,"Utama"),"") -> Madya | AC26: =AB27 | AD26: Pembina Tingkat I (IV/b) | AE26: =IF(AND(AB26="",ISTEXT(AB27)),1,0) -> 0
L27: Pejabat Penilai Kinerja | S27: Pembina Tingkat I (IV/b) | V27: 150 | W27: - | X27: 300 | Y27: =IFERROR(IF(OR(V27="",X27=""),"-",X27-V27),"-") -> 150 | Z27: =IFERROR(Y27/4,"") -> 37.5 | AA27: =IF(COUNTA(T28:T30)=0,"-",IF(V28=0,X27,X28)) -> - | AB27: =IFERROR(IF(FIND("Pertama",T27)>0,"Pertama"),"")&IFERROR(IF(FIND("Muda",T27)>0,"Muda"),"")&IFERROR(IF(FIND("Madya",T27)>0,"Madya"),"")&IFERROR(IF(FIND("Utama",T27)>0,"Utama"),"") | AC27: =AB28 | AD27: Pembina Utama Muda (IV/c) | AE27: =IF(AND(AB27="",ISTEXT(AB28)),1,0) -> 1
S28: Pembina Utama Muda (IV/c) | V28: 300 | W28: - | Y28: =IFERROR(IF(OR(V28="",X28=""),"-",X28-V28),"-") -> - | Z28: =IFERROR(Y28/4,"") | AA28: =IF(COUNTA(T29:T31)=0,"-",IF(V29=0,X28,X29)) -> - | AB28: =IFERROR(IF(FIND("Pertama",T28)>0,"Pertama"),"")&IFERROR(IF(FIND("Muda",T28)>0,"Muda"),"")&IFERROR(IF(FIND("Madya",T28)>0,"Madya"),"")&IFERROR(IF(FIND("Utama",T28)>0,"Utama"),"") | AC28: =AB29 -> Utama | AD28: Pembina Utama Madya (IV/d) | AE28: =IF(AND(AB28="",ISTEXT(AB29)),1,0) -> 1
L29: Robby Del Drago, ST, SH, MT, MH, M.Eng | S29: Pembina Utama Madya (IV/d) | Y29: =IFERROR(IF(OR(V29="",X29=""),"-",X29-V29),"-") -> - | Z29: =IFERROR(Y29/4,"") | AA29: =IF(COUNTA(T30:T32)=0,"-",IF(V30=0,X29,X30)) -> - | AB29: Utama | AD29: Pembina Utama (IV/e) | AE29: =IF(AND(AB29="",ISTEXT(AB30)),1,0) -> 0
L30: NIP. 19700101 199001 1 001 | S30: Pembina Utama (IV/e) | Y30: =IFERROR(IF(OR(V30="",X30=""),"-",X30-V30),"-") -> - | Z30: =IFERROR(Y30/4,"") | AA30: - | AB30: =IFERROR(IF(FIND("Pertama",T30)>0,"Pertama"),"")&IFERROR(IF(FIND("Muda",T30)>0,"Muda"),"")&IFERROR(IF(FIND("Madya",T30)>0,"Madya"),"")&IFERROR(IF(FIND("Utama",T30)>0,"Utama"),"") | AC30: =IF(AB31="",AB30,AB31) | AD30: -
A31: Tembusan disampaikan kepada:
A32: 1. | B32: Kepala Lembaga Kebijakan Pengadaan Barang/Jasa Pemerintah Republik Indonesia;
A33: 2. | B33: Kepala Badan Kepegawaian Daerah Provinsi NTB;
A34: 3. | B34: Kepala Kantor Pembuat Formulir NTB;
A35: 4. | B35: =IF(OR(I14="Laki-Laki",I14="Pria"),"Sdr.","Sdri.")&" "&I10&";" -> Sdr. Ada Martabat, ST, MT;
A36: 5. | B36: Pertinggal.
A39: AKUMULASI ANGKA KREDIT
A40: NOMOR : .
A42: Instansi | C42: : | D42: =D8 -> Sekretariat Daerah Provinsi NTB | P42: =PAK!P8 -> Periode : Januari s.d Desember 2023
A43: I | B43: KETERANGAN PERORANGAN
B44: 1 | C44: Nama | H44: : | I44: =PAK!I10 -> Ada Martabat, ST, MT
B45: 2 | C45: NIP | H45: : | I45: =PAK!I11 -> 20001232 201501 1 007
B46: 3 | C46: Nomor Seri Karpeg | H46: : | I46: =PAK!I12 -> G 123456
B47: 4 | C47: Tempat/Tanggal Lahir | H47: : | I47: =PAK!I13 -> Hogmeade, 32 Desember 2000
B48: 5 | C48: Jenis Kelamin | H48: : | I48: =PAK!I14 -> Laki-Laki
B49: 6 | C49: Pangkat/Golongan Ruang/TMT | H49: : | I49: =PAK!I15 -> Penata (III/c) | O49: / | P49: =PAK!P15 -> 45200
B50: 7 | C50: Jabatan/TMT | H50: : | I50: =PAK!I16 -> Pengelola Sesuatu Ahli Muda | O50: / | P50: =PAK!P16 -> 43943
B51: 8 | C51: Unit Kerja | H51: : | I51: =PAK!I17 -> Kantor Pembuat Formulir
B52: 9 | C52: Instansi | H52: : | I52: =PAK!I18 -> Sekretariat Daerah Provinsi NTB
A53: II | B53: HASIL PENILAIAN ANGKA KREDIT
A54: HASIL PENILAIAN KINERJA | L54: KOEFISIEN PERTAHUN | M54: ANGKA KREDIT YANG DIDAPAT
A55: TAHUN | E55: PERIODIK | G55: PREDIKAT | J55: PERSENTASE
E56: (BULAN)
A57: 1 | E57: 2 | G57: 3 | J57: 4 | L57: 5 | M57: 6
A58: 2022 | E58: AK yang diperoleh | G58: - | J58: =IFERROR(IF(A58=0,"",VLOOKUP(G58,$S$10:$T$15,2,FALSE)),"") -> - | L58: =J23 -> 25 | M58: 112.33 | S58: <- AK yg diisi dari konversi PAK sebelumnya atau diisi 0 jika baru naik jenjang
A59: 2023 | E59: Januari-Desember | G59: =PAK!A23 -> Baik | J59: =IFERROR(IF(A59=0,"",VLOOKUP(G59,$S$10:$T$15,2,FALSE)),"") -> 1 | L59: =IF(A59=0,"",L58) -> 25 | M59: =IFERROR(J59*L59,"") -> 25 | S59: <- Predikat diisi sesuai SKP tahunan
J60: =IFERROR(IF(A60=0,"",VLOOKUP(G60,$S$10:$T$15,2,FALSE)),"") | L60: =IF(A60=0,"",L59) | M60: =IFERROR(J60*L60,"") | S60: <- Predikat diisi sesuai SKP tahunan
J61: =IFERROR(IF(A61=0,"",VLOOKUP(G61,$S$10:$T$15,2,FALSE)),"") | L61: =IF(A61=0,"",L60) | M61: =IFERROR(J61*L61,"") | S61: <- Predikat diisi sesuai SKP tahunan
A62: JUMLAH ANGKA KREDIT YANG DIPEROLEH | M62: =SUM(M58:P61) -> 137.33
L65: =PAK!L25 -> Ditetapkan di | M65: : | N65: =PAK!N25 -> Mataram
L66: =PAK!L26 -> Pada tanggal | M66: : | N66: =PAK!N26 -> 45295
L67: Pejabat Penilai Kinerja
L69: =PAK!L29 -> Robby Del Drago, ST, SH, MT, MH, M.Eng
L70: =PAK!L30 -> NIP. 19700101 199001 1 001
A71: Tembusan disampaikan kepada:
A72: 1. | B72: =PAK!B32 -> Kepala Lembaga Kebijakan Pengadaan Barang/Jasa Pemerintah Republik Indonesia;
A73: 2. | B73: =PAK!B33 -> Kepala Badan Kepegawaian Daerah Provinsi NTB;
A74: 3. | B74: =PAK!B34 -> Kepala Kantor Pembuat Formulir NTB;
A75: 4. | B75: =PAK!B35 -> Sdr. Ada Martabat, ST, MT;
A76: 5. | B76: =PAK!B36 -> Pertinggal.
A79: PENETAPAN ANGKA KREDIT
A80: NOMOR : .
A82: Instansi | C82: : | D82: =D8 -> Sekretariat Daerah Provinsi NTB | P82: =PAK!P8 -> Periode : Januari s.d Desember 2023
A83: I | B83: KETERANGAN PERORANGAN
B84: 1 | C84: Nama | H84: : | I84: =PAK!I10 -> Ada Martabat, ST, MT
B85: 2 | C85: NIP | H85: : | I85: =PAK!I11 -> 20001232 201501 1 007
B86: 3 | C86: Nomor Seri KARPEG | H86: : | I86: =PAK!I12 -> G 123456
B87: 4 | C87: Tempat/Tanggal Lahir | H87: : | I87: =PAK!I13 -> Hogmeade, 32 Desember 2000
B88: 5 | C88: Jenis Kelamin | H88: : | I88: =PAK!I14 -> Laki-Laki | S88: Catatan:
B89: 6 | C89: Pangkat/Golongan ruang TMT | H89: : | I89: =PAK!I15 -> Penata (III/c) | O89: / | P89: =PAK!P15 -> 45200 | S89: Kenaikan pangkat tidak menghapus angka kredit lama.
B90: 7 | C90: Jabatan Fungsional/ TMT | H90: : | I90: =PAK!I16 -> Pengelola Sesuatu Ahli Muda | O90: / | P90: =PAK!P16 -> 43943 | S90: Setelah naik pangkat, di kolom lama, isi total sebelum kenaikan pangkatnya. Jangan gunakan AK kelebihannya saja.
B91: 8 | C91: Unit Kerja | H91: : | I91: =PAK!I17 -> Kantor Pembuat Formulir
A92: HASIL PENILAIAN ANGKA KREDIT | R92: 3. | S92: Kelebihan / Kekurangan | T92: =VLOOKUP(I89,S18:AE30,13,FALSE) -> 0
A93: II | B93: PENETAPAN ANGKA KREDIT | K93: LAMA | L93: BARU | M93: JUMLAH | P93: KETERANGAN | S93: Pangkat | T93: =K103-M101 -> -37.33 | U93: =IFERROR(IF(T93<0,"Kelebihan","Kekurangan"),"Kelebihan/Kekurangan") -> Kelebihan
A94: 1 | B94: 2 | K94: 3 | L94: 4 | M94: 5 | P94: 6 | S94: Jenjang | T94: =IFERROR(M103-M101,"-") -> 62.67 | U94: =IFERROR(IF(T94<0,"Kelebihan","Kekurangan"),"Kelebihan/Kekurangan") -> Kekurangan
B95: 1. | C95: AK Dasar yang diberikan | R95: 4. | S95: Dapat | T95: =IF(T92=1,IF(AND(T93<0,T94<0),"Dapat","Tidak Dapat"),IF(T93<0,"Dapat","Tidak Dapat")) -> Dapat
B96: 2. | C96: AK JF lama | S96: Naik Jenjang ke | T96: =VLOOKUP($I$89,S18:AD30,11,FALSE) | U96: =IF(T96="",""," Jenjang "&T96)
B97: 3. | C97: AK Penyesuaian/Penyetaraan | S97: Naik Pangkat ke | T97: =VLOOKUP($I$89,S18:AD30,12,FALSE) -> Penata Tingkat I (III/d)
B98: 4. | C98: AK Konversi | K98: =PAK!M58 -> 112.33 | L98: =PAK!M23 -> 25 | M98: =SUM(K98:L98) -> 137.33
B99: 5. | C99: AK yang diperoleh dari Peningkatan Pendidikan | M99: =SUM(K99:L99) -> 0 | R99: 5. | S99: =C99 -> AK yang diperoleh dari Peningkatan Pendidikan
B100: 6. | C100: ….....*) | S100: 25% x kebutuhan kenaikan pangkat
A101: JUMLAH ANGKA KREDIT KUMULATIF | K101: =SUM(K95:K100) -> 112.33 | L101: =SUM(L95:L100) -> 25 | M101: =SUM(M95:O100) -> 137.33 | S101: Kebutuhan naik Pangkat | T101: = | U101: =K103 -> 100
A102: Keterangan | K102: Pangkat | M102: Jenjang Jabatan | S102: AK Pendidikan | T102: = | U102: =U101*25% -> 25
A103: Angka Kredit Minimal yang harus dipenuhi untuk kenaikan pangkat/jenjang | K103: =VLOOKUP(I89,$S$18:$AD$30,7,FALSE) -> 100 | M103: =VLOOKUP(I89,$S$18:$AD$30,9,FALSE) -> 200
A104: =U93&" Angka Kredit yang harus dicapai untuk kenaikan pangkat." -> Kelebihan Angka Kredit yang harus dicapai untuk kenaikan pangkat. | K104: =ABS(K103-M101) -> 37.33
A105: =U94&" Angka Kredit yang harus dicapai untuk kenaikan jenjang." -> Kekurangan Angka Kredit yang harus dicapai untuk kenaikan jenjang. | M105: =IF(ISNUMBER(M103),IFERROR(ABS(M103-M101),"-"),"-") -> 62.67
A106: III | B106: =T95&" dipertimbangkan untuk kenaikan Pangkat/Jenjang Jabatan setingkat lebih tinggi menjadi"&U96&" Pangkat/Golongan Ruang "&T97 -> Dapat dipertimbangkan untuk kenaikan Pangkat/Jenjang Jabatan setingkat lebih tinggi menjadi Pangkat/Golongan Ruang Penata Tingkat I (III/d)
A108: ASLI penetapan Angka Kredit untuk: | L108: =PAK!L25 -> Ditetapkan di | M108: : | N108: =PAK!N25 -> Mataram
A109: =IF(OR(I14="Laki-Laki",I14="Pria"),"Sdr.","Sdri.")&" "&I10&"." -> Sdr. Ada Martabat, ST, MT. | L109: =PAK!L26 -> Pada tanggal | M109: : | N109: =PAK!N26 -> 45295
L112: =PAK!L29 -> Robby Del Drago, ST, SH, MT, MH, M.Eng
L113: =PAK!L30 -> NIP. 19700101 199001 1 001
A114: Tembusan disampaikan kepada:
...
