Workbook
Name asdep: #REF!
Name kegiatan: #REF!
Name sfsdf: #REF!

Sheet PAK
D1: PEMERINTAH PROVINSI NUSA TENGGARA BARAT
D2: SEKRETARIAT DAERAH
D3: Jalan Pejanggik Nomor 12 Telp. (0370) 625274 - Mataram
A5: KONVERSI PREDIKAT KINERJA KE ANGKA KREDIT
A6: NOMOR : .
A8: Instansi | C8: : | D8: Sekretariat Daerah Provinsi NTB | P8: Periode : Januari s.d Desember 2023
A9: PEJABAT FUNGSIONAL YANG DINILAI | R9: 1. | S9: Predikat | T9: Skor
A10: 1 | B10: Nama | H10: : | I10: Ada Martabat, ST, MT | S10: Sangat Baik | T10: 1.5
A11: 2 | B11: NIP | H11: : | I11: 20001232 201501 1 007 | S11: Baik | T11: 1
A12: 3 | B12: Nomor Seri Karpeg | H12: : | I12: G 123456 | S12: Cukup/butuh perbaikan | T12: 0.75
A13: 4 | B13: Tempat/Tanggal Lahir | H13: : | I13: Hogmeade, 32 Desember 2000 | S13: Kurang | T13: 0.5
A14: 5 | B14: Jenis Kelamin | H14: : | I14: Laki-Laki | S14: Sangat kurang | T14: 0.25
A15: 6 | B15: Pangkat/Golongan Ruang/TMT | H15: : | I15: Penata (III/c) | O15: / | P15: 45200 | S15: - | T15: -
A16: 7 | B16: Jabatan/TMT | H16: : | I16: Pengelola Sesuatu Ahli Muda | O16: / | P16: 43943 | R16: 2. | S16: Pangkat/Golongan | T16: Jenjang Jafung | V16: Rentang Angka Kredit Akumulasi Baru (Integrasi) PerBKN 3/2023 | Y16: AK Naik Pangkat | Z16: 0.25 | AA16: AK Naik Jenjang Jabatan | AB16: Jenjang | AC16: Naik Jenjang ke | AD16: Naik Pangkat ke
A17: 8 | B17: Unit Kerja | H17: : | I17: Kantor Pembuat Formulir | AE17: Kondisi
A18: 9 | B18: Instansi | H18: : | I18: Sekretariat Daerah Provinsi NTB | S18: Pengatur Muda (II/a) | Y18: =IFERROR(IF(OR(V18="",X18=""),"-",X18-V18),"-") -> - | Z18: =IFERROR(Y18/4,"") | AA18: =IF(COUNTA(T19:T21)=0,"-",IF(V19=0,X18,X19)) -> - | AB18: =IFERROR(IF(FIND("Pertama",T18)>0,"Pertama"),"")&IFERROR(IF(FIND("Muda",T18)>0,"Muda"),"")&IFERROR(IF(FIND("Madya",T18)>0,"Madya"),"")&IFERROR(IF(FIND("Utama",T18)>0,"Utama"),"") | AC18: =IF(AB19="",IF(AB20="",AB18,AB20),AB19) | AD18: Pengatur Muda Tingkat I (II/b) | AE18: =IF(AND(AB18="",ISTEXT(AB19)),1,0) -> 1
A19: KONVERSI PREDIKAT KINERJA KE ANGKA KREDIT | S19: Pengatur Muda Tingkat I (II/b) | Y19: =IFERROR(IF(OR(V19="",X19=""),"-",X19-V19),"-") -> - | Z19: =IFERROR(Y19/4,"") | AA19: =IF(COUNTA(T20:T22)=0,"-",IF(V20=0,X19,X20)) -> 0 | AB19: =IFERROR(IF(FIND("Pertama",T19)>0,"Pertama"),"")&IFERROR(IF(FIND("Muda",T19)>0,"Muda"),"")&IFERROR(IF(FIND("Madya",T19)>0,"Madya"),"")&IFERROR(IF(FIND("Utama",T19)>0,"Utama"),"") | AC19: =AB20 | AD19: Pengatur (II/c) | AE19: =IF(AND(AB19="",ISTEXT(AB20)),1,0) -> 1
A20: Hasil Penilaian Kinerja | J20: Koefisien per tahun | M20: Angka Kredit yang didapat | S20: Pengatur (II/c) | Y20: =IFERROR(IF(OR(V20="",X20=""),"-",X20-V20),"-") -> - | Z20: =IFERROR(Y20/4,"") | AA20: =IF(COUNTA(T21:T23)=0,"-",IF(V21=0,X20,X21)) -> 0 | AB20: =IFERROR(IF(FIND("Pertama",T20)>0,"Pertama"),"")&IFERROR(IF(FIND("Muda",T20)>0,"Muda"),"")&IFERROR(IF(FIND("Madya",T20)>0,"Madya"),"")&IFERROR(IF(FIND("Utama",T20)>0,"Utama"),"") | AC20: =AB21 | AD20: Pengatur Tingkat I (II/d) | AE20: =IF(AND(AB20="",ISTEXT(AB21)),1,0) -> 1
A21: PREDIKAT | F21: PERSENTASE | M21: (Kolom 2 x Kolom 3) | S21: Pengatur Tingkat I (II/d) | Y21: =IFERROR(IF(OR(V21="",X21=""),"-",X21-V21),"-") -> - | Z21: =IFERROR(Y21/4,"") | AA21: =IF(COUNTA(T22:T24)=0,"-",IF(V22=0,X21,X22)) -> 0 | AB21: =IFERROR(IF(FIND("Pertama",T21)>0,"Pertama"),"")&IFERROR(IF(FIND("Muda",T21)>0,"Muda"),"")&IFERROR(IF(FIND("Madya",T21)>0,"Madya"),"")&IFERROR(IF(FIND("Utama",T21)>0,"Utama"),"") | AC21: =AB22 -> Pertama | AD21: Penata Muda (III/a) | AE21: =IF(AND(AB21="",ISTEXT(AB22)),1,0) -> 1
A22: 1 | F22: 2 | J22: 3 | M22: 4 | S22: Penata Muda (III/a) | T22: Pengelola Sesuatu Ahli Pertama | V22: 0 | W22: - | X22: 50 | Y22: =IFERROR(IF(OR(V22="",X22=""),"-",X22-V22),"-") -> 50 | Z22: =IFERROR(Y22/4,"") -> 12.5 | AA22: =IF(COUNTA(T23:T25)=0,"-",IF(V23=0,X22,X23)) -> 100 | AB22: =IFERROR(IF(FIND("Pertama",T22)>0,"Pertama"),"")&IFERROR(IF(FIND("Muda",T22)>0,"Muda"),"")&IFERROR(IF(FIND("Madya",T22)>0,"Madya"),"")&IFERROR(IF(FIND("Utama",T22)>0,"Utama"),"") -> Pertama | AC22: =AB23 | AD22: Penata Muda Tingkat I (III/b) | AE22: =IF(AND(AB22="",ISTEXT(AB23)),1,0) -> 0
A23: Baik | F23: =VLOOKUP(A23,$S$10:$T$14,2,FALSE) -> 1 | J23: =VLOOKUP(I16,$T$18:$AD$30,7,FALSE) -> 25 | M23: =F23*J23 -> 25 | S23: Penata Muda Tingkat I (III/b) | V23: 50 | W23: - | X23: 100 | Y23: =IFERROR(IF(OR(V23="",X23=""),"-",X23-V23),"-") -> 50 | Z23: =IFERROR(Y23/4,"") -> 12.5 | AA23: =IF(COUNTA(T24:T26)=0,"-",IF(V24=0,X23,X24)) -> 100 | AB23: =IFERROR(IF(FIND("Pertama",T23)>0,"Pertama"),"")&IFERROR(IF(FIND("Muda",T23)>0,"Muda"),"")&IFERROR(IF(FIND("Madya",T23)>0,"Madya"),"")&IFERROR(IF(FIND("Utama",T23)>0,"Utama"),"") | AC23: =AB24 -> Muda | AD23: Penata (III/c) | AE23: =IF(AND(AB23="",ISTEXT(AB24)),1,0) -> 1
S24: Penata (III/c) | T24: Pengelola Sesuatu Ahli Muda | V24: 0 | W24: - | X24: 100 | Y24: =IFERROR(IF(OR(V24="",X24=""),"-",X24-V24),"-") -> 100 | Z24: =IFERROR(Y24/4,"") -> 25 | AA24: =IF(COUNTA(T25:T27)=0,"-",IF(V25=0,X24,X25)) -> 200 | AB24: =IFERROR(IF(FIND("Pertama",T24)>0,"Pertama"),"")&IFERROR(IF(FIND("Muda",T24)>0,"Muda"),"")&IFERROR(IF(FIND("Madya",T24)>0,"Madya"),"")&IFERROR(IF(FIND("Utama",T24)>0,"Utama"),"") -> Muda | AC24: =AB25 | AD24: Penata Tingkat I (III/d) | AE24: =IF(AND(AB24="",ISTEXT(AB25)),1,0) -> 0
L25: Ditetapkan di | M25: : | N25: Mataram | S25: Penata Tingkat I (III/d) | V25: 100 | W25: - | X25: 200 | Y25: =IFERROR(IF(OR(V25="",X25=""),"-",X25-V25),"-") -> 100 | Z25: =IFERROR(Y25/4,"") -> 25 | AA25: =IF(COUNTA(T26:T28)=0,"-",IF(V26=0,X25,X26)) -> 200 | AB25: =IFERROR(IF(FIND("Pertama",T25)>0,"Pertama"),"")&IFERROR(IF(FIND("Muda",T25)>0,"Muda"),"")&IFERROR(IF(FIND("Madya",T25)>0,"Madya"),"")&IFERROR(IF(FIND("Utama",T25)>0,"Utama"),"") | AC25: =AB26 -> Madya | AD25: Pembina (IV/a) | AE25: =IF(AND(AB25="",ISTEXT(AB26)),1,0) -> 1
L26: Pada tanggal | M26: : | N26: 45295 | S26: Pembina (IV/a) | T26: Pengelola Sesuatu Ahli Madya | V26: 0 | W26: - | X26: 150 | Y26: =IFERROR(IF(OR(V26="",X26=""),"-",X26-V26),"-") -> 150 | Z26: =IFERROR(Y26/4,"") -> 37.5 | AA26: =IF(COUNTA(T27:T29)=0,"-",IF(V27=0,X26,X27)) -> - | AB26: =IFERROR(IF(FIND("Pertama",T26)>0,"Pertama"),"")&IFERROR(IF(FIND("Muda",T26)>0,"Muda"),"")&IFERROR(IF(FIND("Madya",T26)>0,"Madya"),"")&IFERROR(IF(FIND("Utama",T26)>0,"Utama"),"") -> Madya | AC26: =AB27 | AD26: Pembina Tingkat I (IV/b) | AE26: =IF(AND(AB26="",ISTEXT(AB27)),1,0) -> 0
L27: Pejabat Penilai Kinerja | S27: Pembina Tingkat I (IV/b) | V27: 150 | W27: - | X27: 300 | Y27: =IFERROR(IF(OR(V27="",X27=""),"-",X27-V27),"-") -> 150 | Z27: =IFERROR(Y27/4,"") -> 37.5 | AA27: =IF(COUNTA(T28:T30)=0,"-",IF(V28=0,X27,X28)) -> - | AB27: =IFERROR(IF(FIND("Pertama",T27)>0,"Pertama"),"")&IFERROR(IF(FIND("Muda",T27)>0,"Muda"),"")&IFERROR(IF(FIND("Madya",T27)>0,"Madya"),"")&IFERROR(IF(FIND("Utama",T27)>0,"Utama"),"") | AC27: =AB28 | AD27: Pembina Utama Muda (IV/c) | AE27: =IF(AND(AB27="",ISTEXT(AB28)),1,0) -> 1
S28: Pembina Utama Muda (IV/c) | V28: 300 | W28: - | Y28: =IFERROR(IF(OR(V28="",X28=""),"-",X28-V28),"-") -> - | Z28: =IFERROR(Y28/4,"") | AA28: =IF(COUNTA(T29:T31)=0,"-",IF(V29=0,X28,X29)) -> - | AB28: =IFERROR(IF(FIND("Pertama",T28)>0,"Pertama"),"")&IFERROR(IF(FIND("Muda",T28)>0,"Muda"),"")&IFERROR(IF(FIND("Madya",T28)>0,"Madya"),"")&IFERROR(IF(FIND("Utama",T28)>0,"Utama"),"") | AC28: =AB29 -> Utama | AD28: Pembina Utama Madya (IV/d) | AE28: =IF(AND(AB28="",ISTEXT(AB29)),1,0) -> 1
L29: Robby Del Drago, ST, SH, MT, MH, M.Eng | S29: Pembina Utama Madya (IV/d) | Y29: =IFERROR(IF(OR(V29="",X29=""),"-",X29-V29),"-") -> - | Z29: =IFERROR(Y29/4,"") | AA29: =IF(COUNTA(T30:T32)=0,"-",IF(V30=0,X29,X30)) -> - | AB29: Utama | AD29: Pembina Utama (IV/e) | AE29: =IF(AND(AB29="",ISTEXT(AB30)),1,0) -> 0
L30: NIP. 19700101 199001 1 001 | S30: Pembina Utama (IV/e) | Y30: =IFERROR(IF(OR(V30="",X30=""),"-",X30-V30),"-") -> - | Z30: =IFERROR(Y30/4,"") | AA30: - | AB30: =IFERROR(IF(FIND("Pertama",T30)>0,"Pertama"),"")&IFERROR(IF(FIND("Muda",T30)>0,"Muda"),"")&IFERROR(IF(FIND("Madya",T30)>0,"Madya"),"")&IFERROR(IF(FIND("Utama",T30)>0,"Utama"),"") | AC30: =IF(AB31="",AB30,AB31) | AD30: -
A31: Tembusan disampaikan kepada:
A32: 1. | B32: Kepala Lembaga Kebijakan Pengadaan Barang/Jasa Pemerintah Republik Indonesia;
A33: 2. | B33: Kepala Badan Kepegawaian Daerah Provinsi NTB;
A34: 3. | B34: Kepala Kantor Pembuat Formulir NTB;
A35: 4. | B35: =IF(OR(I14="Laki-Laki",I14="Pria"),"Sdr.","Sdri.")&" "&I10&";" -> Sdr. Ada Martabat, ST, MT;
A36: 5. | B36: Pertinggal.
A39: AKUMULASI ANGKA KREDIT
A40: NOMOR : .
A42: Instansi | C42: : | D42: =D8 -> Sekretariat Daerah Provinsi NTB | P42: =PAK!P8 -> Periode : Januari s.d Desember 2023
A43: I | B43: KETERANGAN PERORANGAN
B44: 1 | C44: Nama | H44: : | I44: =PAK!I10 -> Ada Martabat, ST, MT
B45: 2 | C45: NIP | H45: : | I45: =PAK!I11 -> 20001232 201501 1 007
...
